BEGIN:VCALENDAR
VERSION:2.0
PRODID:-//San Antonio Professional Firefighters Association - ECPv6.15.20//NONSGML v1.0//EN
CALSCALE:GREGORIAN
METHOD:PUBLISH
X-ORIGINAL-URL:https://www.your624.org
X-WR-CALDESC:Events for San Antonio Professional Firefighters Association
REFRESH-INTERVAL;VALUE=DURATION:PT1H
X-Robots-Tag:noindex
X-PUBLISHED-TTL:PT1H
BEGIN:VTIMEZONE
TZID:America/New_York
BEGIN:DAYLIGHT
TZOFFSETFROM:-0500
TZOFFSETTO:-0400
TZNAME:EDT
DTSTART:20290311T070000
END:DAYLIGHT
BEGIN:STANDARD
TZOFFSETFROM:-0400
TZOFFSETTO:-0500
TZNAME:EST
DTSTART:20291104T060000
END:STANDARD
BEGIN:DAYLIGHT
TZOFFSETFROM:-0500
TZOFFSETTO:-0400
TZNAME:EDT
DTSTART:20300310T070000
END:DAYLIGHT
BEGIN:STANDARD
TZOFFSETFROM:-0400
TZOFFSETTO:-0500
TZNAME:EST
DTSTART:20301103T060000
END:STANDARD
BEGIN:DAYLIGHT
TZOFFSETFROM:-0500
TZOFFSETTO:-0400
TZNAME:EDT
DTSTART:20310309T070000
END:DAYLIGHT
BEGIN:STANDARD
TZOFFSETFROM:-0400
TZOFFSETTO:-0500
TZNAME:EST
DTSTART:20311102T060000
END:STANDARD
END:VTIMEZONE
BEGIN:VEVENT
DTSTART;VALUE=DATE:20300405
DTEND;VALUE=DATE:20300406
DTSTAMP:20260423T020949
CREATED:20250812T185446Z
LAST-MODIFIED:20250812T185446Z
UID:10001503-1901577600-1901663999@www.your624.org
SUMMARY:EMS - A Shift
DESCRIPTION:
URL:https://www.your624.org/event/ems-a-shift/2030-04-05/
CATEGORIES:A Shift EMS
ATTACH;FMTTYPE=image/png:https://www.your624.org/wp-content/uploads/2023/08/logo-300x300w.png
END:VEVENT
BEGIN:VEVENT
DTSTART;VALUE=DATE:20300409
DTEND;VALUE=DATE:20300410
DTSTAMP:20260423T020950
CREATED:20250812T185446Z
LAST-MODIFIED:20250812T185446Z
UID:10001504-1901923200-1902009599@www.your624.org
SUMMARY:EMS - A Shift
DESCRIPTION:
URL:https://www.your624.org/event/ems-a-shift/2030-04-09/
CATEGORIES:A Shift EMS
ATTACH;FMTTYPE=image/png:https://www.your624.org/wp-content/uploads/2023/08/logo-300x300w.png
END:VEVENT
BEGIN:VEVENT
DTSTART;VALUE=DATE:20300413
DTEND;VALUE=DATE:20300414
DTSTAMP:20260423T020950
CREATED:20250812T185446Z
LAST-MODIFIED:20250812T185446Z
UID:10001505-1902268800-1902355199@www.your624.org
SUMMARY:EMS - A Shift
DESCRIPTION:
URL:https://www.your624.org/event/ems-a-shift/2030-04-13/
CATEGORIES:A Shift EMS
ATTACH;FMTTYPE=image/png:https://www.your624.org/wp-content/uploads/2023/08/logo-300x300w.png
END:VEVENT
BEGIN:VEVENT
DTSTART;VALUE=DATE:20300417
DTEND;VALUE=DATE:20300418
DTSTAMP:20260423T020950
CREATED:20250812T185446Z
LAST-MODIFIED:20250812T185446Z
UID:10001506-1902614400-1902700799@www.your624.org
SUMMARY:EMS - A Shift
DESCRIPTION:
URL:https://www.your624.org/event/ems-a-shift/2030-04-17/
CATEGORIES:A Shift EMS
ATTACH;FMTTYPE=image/png:https://www.your624.org/wp-content/uploads/2023/08/logo-300x300w.png
END:VEVENT
BEGIN:VEVENT
DTSTART;VALUE=DATE:20300421
DTEND;VALUE=DATE:20300422
DTSTAMP:20260423T020950
CREATED:20250812T185446Z
LAST-MODIFIED:20250812T185446Z
UID:10001507-1902960000-1903046399@www.your624.org
SUMMARY:EMS - A Shift
DESCRIPTION:
URL:https://www.your624.org/event/ems-a-shift/2030-04-21/
CATEGORIES:A Shift EMS
ATTACH;FMTTYPE=image/png:https://www.your624.org/wp-content/uploads/2023/08/logo-300x300w.png
END:VEVENT
BEGIN:VEVENT
DTSTART;VALUE=DATE:20300425
DTEND;VALUE=DATE:20300426
DTSTAMP:20260423T020950
CREATED:20250812T185446Z
LAST-MODIFIED:20250812T185446Z
UID:10001508-1903305600-1903391999@www.your624.org
SUMMARY:EMS - A Shift
DESCRIPTION:
URL:https://www.your624.org/event/ems-a-shift/2030-04-25/
CATEGORIES:A Shift EMS
ATTACH;FMTTYPE=image/png:https://www.your624.org/wp-content/uploads/2023/08/logo-300x300w.png
END:VEVENT
BEGIN:VEVENT
DTSTART;VALUE=DATE:20300429
DTEND;VALUE=DATE:20300430
DTSTAMP:20260423T020950
CREATED:20250812T185446Z
LAST-MODIFIED:20250812T185446Z
UID:10001509-1903651200-1903737599@www.your624.org
SUMMARY:EMS - A Shift
DESCRIPTION:
URL:https://www.your624.org/event/ems-a-shift/2030-04-29/
CATEGORIES:A Shift EMS
ATTACH;FMTTYPE=image/png:https://www.your624.org/wp-content/uploads/2023/08/logo-300x300w.png
END:VEVENT
BEGIN:VEVENT
DTSTART;VALUE=DATE:20300503
DTEND;VALUE=DATE:20300504
DTSTAMP:20260423T020950
CREATED:20250812T185446Z
LAST-MODIFIED:20250812T185446Z
UID:10001510-1903996800-1904083199@www.your624.org
SUMMARY:EMS - A Shift
DESCRIPTION:
URL:https://www.your624.org/event/ems-a-shift/2030-05-03/
CATEGORIES:A Shift EMS
ATTACH;FMTTYPE=image/png:https://www.your624.org/wp-content/uploads/2023/08/logo-300x300w.png
END:VEVENT
BEGIN:VEVENT
DTSTART;VALUE=DATE:20300507
DTEND;VALUE=DATE:20300508
DTSTAMP:20260423T020950
CREATED:20250812T185446Z
LAST-MODIFIED:20250812T185446Z
UID:10001511-1904342400-1904428799@www.your624.org
SUMMARY:EMS - A Shift
DESCRIPTION:
URL:https://www.your624.org/event/ems-a-shift/2030-05-07/
CATEGORIES:A Shift EMS
ATTACH;FMTTYPE=image/png:https://www.your624.org/wp-content/uploads/2023/08/logo-300x300w.png
END:VEVENT
BEGIN:VEVENT
DTSTART;VALUE=DATE:20300511
DTEND;VALUE=DATE:20300512
DTSTAMP:20260423T020950
CREATED:20250812T185446Z
LAST-MODIFIED:20250812T185446Z
UID:10001512-1904688000-1904774399@www.your624.org
SUMMARY:EMS - A Shift
DESCRIPTION:
URL:https://www.your624.org/event/ems-a-shift/2030-05-11/
CATEGORIES:A Shift EMS
ATTACH;FMTTYPE=image/png:https://www.your624.org/wp-content/uploads/2023/08/logo-300x300w.png
END:VEVENT
BEGIN:VEVENT
DTSTART;VALUE=DATE:20300515
DTEND;VALUE=DATE:20300516
DTSTAMP:20260423T020950
CREATED:20250812T185446Z
LAST-MODIFIED:20250812T185446Z
UID:10001513-1905033600-1905119999@www.your624.org
SUMMARY:EMS - A Shift
DESCRIPTION:
URL:https://www.your624.org/event/ems-a-shift/2030-05-15/
CATEGORIES:A Shift EMS
ATTACH;FMTTYPE=image/png:https://www.your624.org/wp-content/uploads/2023/08/logo-300x300w.png
END:VEVENT
BEGIN:VEVENT
DTSTART;VALUE=DATE:20300519
DTEND;VALUE=DATE:20300520
DTSTAMP:20260423T020950
CREATED:20250812T185446Z
LAST-MODIFIED:20250812T185446Z
UID:10001514-1905379200-1905465599@www.your624.org
SUMMARY:EMS - A Shift
DESCRIPTION:
URL:https://www.your624.org/event/ems-a-shift/2030-05-19/
CATEGORIES:A Shift EMS
ATTACH;FMTTYPE=image/png:https://www.your624.org/wp-content/uploads/2023/08/logo-300x300w.png
END:VEVENT
BEGIN:VEVENT
DTSTART;VALUE=DATE:20300523
DTEND;VALUE=DATE:20300524
DTSTAMP:20260423T020950
CREATED:20250812T185446Z
LAST-MODIFIED:20250812T185446Z
UID:10001515-1905724800-1905811199@www.your624.org
SUMMARY:EMS - A Shift
DESCRIPTION:
URL:https://www.your624.org/event/ems-a-shift/2030-05-23/
CATEGORIES:A Shift EMS
ATTACH;FMTTYPE=image/png:https://www.your624.org/wp-content/uploads/2023/08/logo-300x300w.png
END:VEVENT
BEGIN:VEVENT
DTSTART;VALUE=DATE:20300527
DTEND;VALUE=DATE:20300528
DTSTAMP:20260423T020950
CREATED:20250812T185446Z
LAST-MODIFIED:20250812T185446Z
UID:10001516-1906070400-1906156799@www.your624.org
SUMMARY:EMS - A Shift
DESCRIPTION:
URL:https://www.your624.org/event/ems-a-shift/2030-05-27/
CATEGORIES:A Shift EMS
ATTACH;FMTTYPE=image/png:https://www.your624.org/wp-content/uploads/2023/08/logo-300x300w.png
END:VEVENT
BEGIN:VEVENT
DTSTART;VALUE=DATE:20300531
DTEND;VALUE=DATE:20300601
DTSTAMP:20260423T020950
CREATED:20250812T185446Z
LAST-MODIFIED:20250812T185446Z
UID:10001517-1906416000-1906502399@www.your624.org
SUMMARY:EMS - A Shift
DESCRIPTION:
URL:https://www.your624.org/event/ems-a-shift/2030-05-31/
CATEGORIES:A Shift EMS
ATTACH;FMTTYPE=image/png:https://www.your624.org/wp-content/uploads/2023/08/logo-300x300w.png
END:VEVENT
BEGIN:VEVENT
DTSTART;VALUE=DATE:20300604
DTEND;VALUE=DATE:20300605
DTSTAMP:20260423T020950
CREATED:20250812T185446Z
LAST-MODIFIED:20250812T185446Z
UID:10001518-1906761600-1906847999@www.your624.org
SUMMARY:EMS - A Shift
DESCRIPTION:
URL:https://www.your624.org/event/ems-a-shift/2030-06-04/
CATEGORIES:A Shift EMS
ATTACH;FMTTYPE=image/png:https://www.your624.org/wp-content/uploads/2023/08/logo-300x300w.png
END:VEVENT
BEGIN:VEVENT
DTSTART;VALUE=DATE:20300608
DTEND;VALUE=DATE:20300609
DTSTAMP:20260423T020950
CREATED:20250812T185446Z
LAST-MODIFIED:20250812T185446Z
UID:10001519-1907107200-1907193599@www.your624.org
SUMMARY:EMS - A Shift
DESCRIPTION:
URL:https://www.your624.org/event/ems-a-shift/2030-06-08/
CATEGORIES:A Shift EMS
ATTACH;FMTTYPE=image/png:https://www.your624.org/wp-content/uploads/2023/08/logo-300x300w.png
END:VEVENT
BEGIN:VEVENT
DTSTART;VALUE=DATE:20300612
DTEND;VALUE=DATE:20300613
DTSTAMP:20260423T020950
CREATED:20250812T185446Z
LAST-MODIFIED:20250812T185446Z
UID:10001520-1907452800-1907539199@www.your624.org
SUMMARY:EMS - A Shift
DESCRIPTION:
URL:https://www.your624.org/event/ems-a-shift/2030-06-12/
CATEGORIES:A Shift EMS
ATTACH;FMTTYPE=image/png:https://www.your624.org/wp-content/uploads/2023/08/logo-300x300w.png
END:VEVENT
BEGIN:VEVENT
DTSTART;VALUE=DATE:20300616
DTEND;VALUE=DATE:20300617
DTSTAMP:20260423T020950
CREATED:20250812T185446Z
LAST-MODIFIED:20250812T185446Z
UID:10001521-1907798400-1907884799@www.your624.org
SUMMARY:EMS - A Shift
DESCRIPTION:
URL:https://www.your624.org/event/ems-a-shift/2030-06-16/
CATEGORIES:A Shift EMS
ATTACH;FMTTYPE=image/png:https://www.your624.org/wp-content/uploads/2023/08/logo-300x300w.png
END:VEVENT
BEGIN:VEVENT
DTSTART;VALUE=DATE:20300620
DTEND;VALUE=DATE:20300621
DTSTAMP:20260423T020950
CREATED:20250812T185446Z
LAST-MODIFIED:20250812T185446Z
UID:10001522-1908144000-1908230399@www.your624.org
SUMMARY:EMS - A Shift
DESCRIPTION:
URL:https://www.your624.org/event/ems-a-shift/2030-06-20/
CATEGORIES:A Shift EMS
ATTACH;FMTTYPE=image/png:https://www.your624.org/wp-content/uploads/2023/08/logo-300x300w.png
END:VEVENT
BEGIN:VEVENT
DTSTART;VALUE=DATE:20300624
DTEND;VALUE=DATE:20300625
DTSTAMP:20260423T020950
CREATED:20250812T185446Z
LAST-MODIFIED:20250812T185446Z
UID:10001523-1908489600-1908575999@www.your624.org
SUMMARY:EMS - A Shift
DESCRIPTION:
URL:https://www.your624.org/event/ems-a-shift/2030-06-24/
CATEGORIES:A Shift EMS
ATTACH;FMTTYPE=image/png:https://www.your624.org/wp-content/uploads/2023/08/logo-300x300w.png
END:VEVENT
BEGIN:VEVENT
DTSTART;VALUE=DATE:20300628
DTEND;VALUE=DATE:20300629
DTSTAMP:20260423T020950
CREATED:20250812T185446Z
LAST-MODIFIED:20250812T185446Z
UID:10001524-1908835200-1908921599@www.your624.org
SUMMARY:EMS - A Shift
DESCRIPTION:
URL:https://www.your624.org/event/ems-a-shift/2030-06-28/
CATEGORIES:A Shift EMS
ATTACH;FMTTYPE=image/png:https://www.your624.org/wp-content/uploads/2023/08/logo-300x300w.png
END:VEVENT
BEGIN:VEVENT
DTSTART;VALUE=DATE:20300702
DTEND;VALUE=DATE:20300703
DTSTAMP:20260423T020950
CREATED:20250812T185446Z
LAST-MODIFIED:20250812T185446Z
UID:10001525-1909180800-1909267199@www.your624.org
SUMMARY:EMS - A Shift
DESCRIPTION:
URL:https://www.your624.org/event/ems-a-shift/2030-07-02/
CATEGORIES:A Shift EMS
ATTACH;FMTTYPE=image/png:https://www.your624.org/wp-content/uploads/2023/08/logo-300x300w.png
END:VEVENT
BEGIN:VEVENT
DTSTART;VALUE=DATE:20300706
DTEND;VALUE=DATE:20300707
DTSTAMP:20260423T020950
CREATED:20250812T185446Z
LAST-MODIFIED:20250812T185446Z
UID:10001526-1909526400-1909612799@www.your624.org
SUMMARY:EMS - A Shift
DESCRIPTION:
URL:https://www.your624.org/event/ems-a-shift/2030-07-06/
CATEGORIES:A Shift EMS
ATTACH;FMTTYPE=image/png:https://www.your624.org/wp-content/uploads/2023/08/logo-300x300w.png
END:VEVENT
BEGIN:VEVENT
DTSTART;VALUE=DATE:20300710
DTEND;VALUE=DATE:20300711
DTSTAMP:20260423T020950
CREATED:20250812T185446Z
LAST-MODIFIED:20250812T185446Z
UID:10001527-1909872000-1909958399@www.your624.org
SUMMARY:EMS - A Shift
DESCRIPTION:
URL:https://www.your624.org/event/ems-a-shift/2030-07-10/
CATEGORIES:A Shift EMS
ATTACH;FMTTYPE=image/png:https://www.your624.org/wp-content/uploads/2023/08/logo-300x300w.png
END:VEVENT
BEGIN:VEVENT
DTSTART;VALUE=DATE:20300714
DTEND;VALUE=DATE:20300715
DTSTAMP:20260423T020950
CREATED:20250812T185446Z
LAST-MODIFIED:20250812T185446Z
UID:10001528-1910217600-1910303999@www.your624.org
SUMMARY:EMS - A Shift
DESCRIPTION:
URL:https://www.your624.org/event/ems-a-shift/2030-07-14/
CATEGORIES:A Shift EMS
ATTACH;FMTTYPE=image/png:https://www.your624.org/wp-content/uploads/2023/08/logo-300x300w.png
END:VEVENT
BEGIN:VEVENT
DTSTART;VALUE=DATE:20300718
DTEND;VALUE=DATE:20300719
DTSTAMP:20260423T020950
CREATED:20250812T185446Z
LAST-MODIFIED:20250812T185446Z
UID:10001529-1910563200-1910649599@www.your624.org
SUMMARY:EMS - A Shift
DESCRIPTION:
URL:https://www.your624.org/event/ems-a-shift/2030-07-18/
CATEGORIES:A Shift EMS
ATTACH;FMTTYPE=image/png:https://www.your624.org/wp-content/uploads/2023/08/logo-300x300w.png
END:VEVENT
BEGIN:VEVENT
DTSTART;VALUE=DATE:20300722
DTEND;VALUE=DATE:20300723
DTSTAMP:20260423T020950
CREATED:20250812T185446Z
LAST-MODIFIED:20250812T185446Z
UID:10001530-1910908800-1910995199@www.your624.org
SUMMARY:EMS - A Shift
DESCRIPTION:
URL:https://www.your624.org/event/ems-a-shift/2030-07-22/
CATEGORIES:A Shift EMS
ATTACH;FMTTYPE=image/png:https://www.your624.org/wp-content/uploads/2023/08/logo-300x300w.png
END:VEVENT
BEGIN:VEVENT
DTSTART;VALUE=DATE:20300726
DTEND;VALUE=DATE:20300727
DTSTAMP:20260423T020950
CREATED:20250812T185446Z
LAST-MODIFIED:20250812T185446Z
UID:10001531-1911254400-1911340799@www.your624.org
SUMMARY:EMS - A Shift
DESCRIPTION:
URL:https://www.your624.org/event/ems-a-shift/2030-07-26/
CATEGORIES:A Shift EMS
ATTACH;FMTTYPE=image/png:https://www.your624.org/wp-content/uploads/2023/08/logo-300x300w.png
END:VEVENT
BEGIN:VEVENT
DTSTART;VALUE=DATE:20300730
DTEND;VALUE=DATE:20300731
DTSTAMP:20260423T020950
CREATED:20250812T185446Z
LAST-MODIFIED:20250812T185446Z
UID:10001532-1911600000-1911686399@www.your624.org
SUMMARY:EMS - A Shift
DESCRIPTION:
URL:https://www.your624.org/event/ems-a-shift/2030-07-30/
CATEGORIES:A Shift EMS
ATTACH;FMTTYPE=image/png:https://www.your624.org/wp-content/uploads/2023/08/logo-300x300w.png
END:VEVENT
END:VCALENDAR