BEGIN:VCALENDAR
VERSION:2.0
PRODID:-//San Antonio Professional Firefighters Association - ECPv6.15.20//NONSGML v1.0//EN
CALSCALE:GREGORIAN
METHOD:PUBLISH
X-WR-CALNAME:San Antonio Professional Firefighters Association
X-ORIGINAL-URL:https://www.your624.org
X-WR-CALDESC:Events for San Antonio Professional Firefighters Association
REFRESH-INTERVAL;VALUE=DURATION:PT1H
X-Robots-Tag:noindex
X-PUBLISHED-TTL:PT1H
BEGIN:VTIMEZONE
TZID:America/New_York
BEGIN:DAYLIGHT
TZOFFSETFROM:-0500
TZOFFSETTO:-0400
TZNAME:EDT
DTSTART:20270314T070000
END:DAYLIGHT
BEGIN:STANDARD
TZOFFSETFROM:-0400
TZOFFSETTO:-0500
TZNAME:EST
DTSTART:20271107T060000
END:STANDARD
BEGIN:DAYLIGHT
TZOFFSETFROM:-0500
TZOFFSETTO:-0400
TZNAME:EDT
DTSTART:20280312T070000
END:DAYLIGHT
BEGIN:STANDARD
TZOFFSETFROM:-0400
TZOFFSETTO:-0500
TZNAME:EST
DTSTART:20281105T060000
END:STANDARD
BEGIN:DAYLIGHT
TZOFFSETFROM:-0500
TZOFFSETTO:-0400
TZNAME:EDT
DTSTART:20290311T070000
END:DAYLIGHT
BEGIN:STANDARD
TZOFFSETFROM:-0400
TZOFFSETTO:-0500
TZNAME:EST
DTSTART:20291104T060000
END:STANDARD
END:VTIMEZONE
BEGIN:VEVENT
DTSTART;VALUE=DATE:20280619
DTEND;VALUE=DATE:20280620
DTSTAMP:20260419T200037
CREATED:20250812T185325Z
LAST-MODIFIED:20250812T185325Z
UID:10000616-1844985600-1845071999@www.your624.org
SUMMARY:FIRE - A Shift
DESCRIPTION:
URL:https://www.your624.org/event/fire-a-shift/2028-06-19/
CATEGORIES:A Shift
ATTACH;FMTTYPE=image/png:https://www.your624.org/wp-content/uploads/2023/08/logo-300x300w.png
END:VEVENT
BEGIN:VEVENT
DTSTART;VALUE=DATE:20280622
DTEND;VALUE=DATE:20280623
DTSTAMP:20260419T200037
CREATED:20250812T185325Z
LAST-MODIFIED:20250812T185325Z
UID:10000617-1845244800-1845331199@www.your624.org
SUMMARY:FIRE - A Shift
DESCRIPTION:
URL:https://www.your624.org/event/fire-a-shift/2028-06-22/
CATEGORIES:A Shift
ATTACH;FMTTYPE=image/png:https://www.your624.org/wp-content/uploads/2023/08/logo-300x300w.png
END:VEVENT
BEGIN:VEVENT
DTSTART;VALUE=DATE:20280625
DTEND;VALUE=DATE:20280626
DTSTAMP:20260419T200037
CREATED:20250812T185325Z
LAST-MODIFIED:20250812T185325Z
UID:10000618-1845504000-1845590399@www.your624.org
SUMMARY:FIRE - A Shift
DESCRIPTION:
URL:https://www.your624.org/event/fire-a-shift/2028-06-25/
CATEGORIES:A Shift
ATTACH;FMTTYPE=image/png:https://www.your624.org/wp-content/uploads/2023/08/logo-300x300w.png
END:VEVENT
BEGIN:VEVENT
DTSTART;VALUE=DATE:20280628
DTEND;VALUE=DATE:20280629
DTSTAMP:20260419T200037
CREATED:20250812T185325Z
LAST-MODIFIED:20250812T185325Z
UID:10000619-1845763200-1845849599@www.your624.org
SUMMARY:FIRE - A Shift
DESCRIPTION:
URL:https://www.your624.org/event/fire-a-shift/2028-06-28/
CATEGORIES:A Shift
ATTACH;FMTTYPE=image/png:https://www.your624.org/wp-content/uploads/2023/08/logo-300x300w.png
END:VEVENT
BEGIN:VEVENT
DTSTART;VALUE=DATE:20280701
DTEND;VALUE=DATE:20280702
DTSTAMP:20260419T200037
CREATED:20250812T185325Z
LAST-MODIFIED:20250812T185325Z
UID:10000620-1846022400-1846108799@www.your624.org
SUMMARY:FIRE - A Shift
DESCRIPTION:
URL:https://www.your624.org/event/fire-a-shift/2028-07-01/
CATEGORIES:A Shift
ATTACH;FMTTYPE=image/png:https://www.your624.org/wp-content/uploads/2023/08/logo-300x300w.png
END:VEVENT
BEGIN:VEVENT
DTSTART;VALUE=DATE:20280704
DTEND;VALUE=DATE:20280705
DTSTAMP:20260419T200037
CREATED:20250812T185325Z
LAST-MODIFIED:20250812T185325Z
UID:10000621-1846281600-1846367999@www.your624.org
SUMMARY:FIRE - A Shift
DESCRIPTION:
URL:https://www.your624.org/event/fire-a-shift/2028-07-04/
CATEGORIES:A Shift
ATTACH;FMTTYPE=image/png:https://www.your624.org/wp-content/uploads/2023/08/logo-300x300w.png
END:VEVENT
BEGIN:VEVENT
DTSTART;VALUE=DATE:20280707
DTEND;VALUE=DATE:20280708
DTSTAMP:20260419T200037
CREATED:20250812T185325Z
LAST-MODIFIED:20250812T185325Z
UID:10000622-1846540800-1846627199@www.your624.org
SUMMARY:FIRE - A Shift
DESCRIPTION:
URL:https://www.your624.org/event/fire-a-shift/2028-07-07/
CATEGORIES:A Shift
ATTACH;FMTTYPE=image/png:https://www.your624.org/wp-content/uploads/2023/08/logo-300x300w.png
END:VEVENT
BEGIN:VEVENT
DTSTART;VALUE=DATE:20280710
DTEND;VALUE=DATE:20280711
DTSTAMP:20260419T200037
CREATED:20250812T185325Z
LAST-MODIFIED:20250812T185325Z
UID:10000623-1846800000-1846886399@www.your624.org
SUMMARY:FIRE - A Shift
DESCRIPTION:
URL:https://www.your624.org/event/fire-a-shift/2028-07-10/
CATEGORIES:A Shift
ATTACH;FMTTYPE=image/png:https://www.your624.org/wp-content/uploads/2023/08/logo-300x300w.png
END:VEVENT
BEGIN:VEVENT
DTSTART;VALUE=DATE:20280713
DTEND;VALUE=DATE:20280714
DTSTAMP:20260419T200037
CREATED:20250812T185325Z
LAST-MODIFIED:20250812T185325Z
UID:10000624-1847059200-1847145599@www.your624.org
SUMMARY:FIRE - A Shift
DESCRIPTION:
URL:https://www.your624.org/event/fire-a-shift/2028-07-13/
CATEGORIES:A Shift
ATTACH;FMTTYPE=image/png:https://www.your624.org/wp-content/uploads/2023/08/logo-300x300w.png
END:VEVENT
BEGIN:VEVENT
DTSTART;VALUE=DATE:20280716
DTEND;VALUE=DATE:20280717
DTSTAMP:20260419T200037
CREATED:20250812T185325Z
LAST-MODIFIED:20250812T185325Z
UID:10000625-1847318400-1847404799@www.your624.org
SUMMARY:FIRE - A Shift
DESCRIPTION:
URL:https://www.your624.org/event/fire-a-shift/2028-07-16/
CATEGORIES:A Shift
ATTACH;FMTTYPE=image/png:https://www.your624.org/wp-content/uploads/2023/08/logo-300x300w.png
END:VEVENT
BEGIN:VEVENT
DTSTART;VALUE=DATE:20280719
DTEND;VALUE=DATE:20280720
DTSTAMP:20260419T200037
CREATED:20250812T185325Z
LAST-MODIFIED:20250812T185325Z
UID:10000626-1847577600-1847663999@www.your624.org
SUMMARY:FIRE - A Shift
DESCRIPTION:
URL:https://www.your624.org/event/fire-a-shift/2028-07-19/
CATEGORIES:A Shift
ATTACH;FMTTYPE=image/png:https://www.your624.org/wp-content/uploads/2023/08/logo-300x300w.png
END:VEVENT
BEGIN:VEVENT
DTSTART;VALUE=DATE:20280722
DTEND;VALUE=DATE:20280723
DTSTAMP:20260419T200037
CREATED:20250812T185325Z
LAST-MODIFIED:20250812T185325Z
UID:10000627-1847836800-1847923199@www.your624.org
SUMMARY:FIRE - A Shift
DESCRIPTION:
URL:https://www.your624.org/event/fire-a-shift/2028-07-22/
CATEGORIES:A Shift
ATTACH;FMTTYPE=image/png:https://www.your624.org/wp-content/uploads/2023/08/logo-300x300w.png
END:VEVENT
BEGIN:VEVENT
DTSTART;VALUE=DATE:20280725
DTEND;VALUE=DATE:20280726
DTSTAMP:20260419T200037
CREATED:20250812T185325Z
LAST-MODIFIED:20250812T185325Z
UID:10000628-1848096000-1848182399@www.your624.org
SUMMARY:FIRE - A Shift
DESCRIPTION:
URL:https://www.your624.org/event/fire-a-shift/2028-07-25/
CATEGORIES:A Shift
ATTACH;FMTTYPE=image/png:https://www.your624.org/wp-content/uploads/2023/08/logo-300x300w.png
END:VEVENT
BEGIN:VEVENT
DTSTART;VALUE=DATE:20280728
DTEND;VALUE=DATE:20280729
DTSTAMP:20260419T200037
CREATED:20250812T185325Z
LAST-MODIFIED:20250812T185325Z
UID:10000629-1848355200-1848441599@www.your624.org
SUMMARY:FIRE - A Shift
DESCRIPTION:
URL:https://www.your624.org/event/fire-a-shift/2028-07-28/
CATEGORIES:A Shift
ATTACH;FMTTYPE=image/png:https://www.your624.org/wp-content/uploads/2023/08/logo-300x300w.png
END:VEVENT
BEGIN:VEVENT
DTSTART;VALUE=DATE:20280731
DTEND;VALUE=DATE:20280801
DTSTAMP:20260419T200037
CREATED:20250812T185325Z
LAST-MODIFIED:20250812T185325Z
UID:10000630-1848614400-1848700799@www.your624.org
SUMMARY:FIRE - A Shift
DESCRIPTION:
URL:https://www.your624.org/event/fire-a-shift/2028-07-31/
CATEGORIES:A Shift
ATTACH;FMTTYPE=image/png:https://www.your624.org/wp-content/uploads/2023/08/logo-300x300w.png
END:VEVENT
BEGIN:VEVENT
DTSTART;VALUE=DATE:20280803
DTEND;VALUE=DATE:20280804
DTSTAMP:20260419T200037
CREATED:20250812T185325Z
LAST-MODIFIED:20250812T185325Z
UID:10000631-1848873600-1848959999@www.your624.org
SUMMARY:FIRE - A Shift
DESCRIPTION:
URL:https://www.your624.org/event/fire-a-shift/2028-08-03/
CATEGORIES:A Shift
ATTACH;FMTTYPE=image/png:https://www.your624.org/wp-content/uploads/2023/08/logo-300x300w.png
END:VEVENT
BEGIN:VEVENT
DTSTART;VALUE=DATE:20280806
DTEND;VALUE=DATE:20280807
DTSTAMP:20260419T200037
CREATED:20250812T185325Z
LAST-MODIFIED:20250812T185325Z
UID:10000632-1849132800-1849219199@www.your624.org
SUMMARY:FIRE - A Shift
DESCRIPTION:
URL:https://www.your624.org/event/fire-a-shift/2028-08-06/
CATEGORIES:A Shift
ATTACH;FMTTYPE=image/png:https://www.your624.org/wp-content/uploads/2023/08/logo-300x300w.png
END:VEVENT
BEGIN:VEVENT
DTSTART;VALUE=DATE:20280809
DTEND;VALUE=DATE:20280810
DTSTAMP:20260419T200037
CREATED:20250812T185325Z
LAST-MODIFIED:20250812T185325Z
UID:10000633-1849392000-1849478399@www.your624.org
SUMMARY:FIRE - A Shift
DESCRIPTION:
URL:https://www.your624.org/event/fire-a-shift/2028-08-09/
CATEGORIES:A Shift
ATTACH;FMTTYPE=image/png:https://www.your624.org/wp-content/uploads/2023/08/logo-300x300w.png
END:VEVENT
BEGIN:VEVENT
DTSTART;VALUE=DATE:20280812
DTEND;VALUE=DATE:20280813
DTSTAMP:20260419T200037
CREATED:20250812T185325Z
LAST-MODIFIED:20250812T185325Z
UID:10000634-1849651200-1849737599@www.your624.org
SUMMARY:FIRE - A Shift
DESCRIPTION:
URL:https://www.your624.org/event/fire-a-shift/2028-08-12/
CATEGORIES:A Shift
ATTACH;FMTTYPE=image/png:https://www.your624.org/wp-content/uploads/2023/08/logo-300x300w.png
END:VEVENT
BEGIN:VEVENT
DTSTART;VALUE=DATE:20280815
DTEND;VALUE=DATE:20280816
DTSTAMP:20260419T200037
CREATED:20250812T185325Z
LAST-MODIFIED:20250812T185325Z
UID:10000635-1849910400-1849996799@www.your624.org
SUMMARY:FIRE - A Shift
DESCRIPTION:
URL:https://www.your624.org/event/fire-a-shift/2028-08-15/
CATEGORIES:A Shift
ATTACH;FMTTYPE=image/png:https://www.your624.org/wp-content/uploads/2023/08/logo-300x300w.png
END:VEVENT
BEGIN:VEVENT
DTSTART;VALUE=DATE:20280818
DTEND;VALUE=DATE:20280819
DTSTAMP:20260419T200037
CREATED:20250812T185325Z
LAST-MODIFIED:20250812T185325Z
UID:10000636-1850169600-1850255999@www.your624.org
SUMMARY:FIRE - A Shift
DESCRIPTION:
URL:https://www.your624.org/event/fire-a-shift/2028-08-18/
CATEGORIES:A Shift
ATTACH;FMTTYPE=image/png:https://www.your624.org/wp-content/uploads/2023/08/logo-300x300w.png
END:VEVENT
BEGIN:VEVENT
DTSTART;VALUE=DATE:20280821
DTEND;VALUE=DATE:20280822
DTSTAMP:20260419T200037
CREATED:20250812T185325Z
LAST-MODIFIED:20250812T185325Z
UID:10000637-1850428800-1850515199@www.your624.org
SUMMARY:FIRE - A Shift
DESCRIPTION:
URL:https://www.your624.org/event/fire-a-shift/2028-08-21/
CATEGORIES:A Shift
ATTACH;FMTTYPE=image/png:https://www.your624.org/wp-content/uploads/2023/08/logo-300x300w.png
END:VEVENT
BEGIN:VEVENT
DTSTART;VALUE=DATE:20280824
DTEND;VALUE=DATE:20280825
DTSTAMP:20260419T200037
CREATED:20250812T185325Z
LAST-MODIFIED:20250812T185325Z
UID:10000638-1850688000-1850774399@www.your624.org
SUMMARY:FIRE - A Shift
DESCRIPTION:
URL:https://www.your624.org/event/fire-a-shift/2028-08-24/
CATEGORIES:A Shift
ATTACH;FMTTYPE=image/png:https://www.your624.org/wp-content/uploads/2023/08/logo-300x300w.png
END:VEVENT
BEGIN:VEVENT
DTSTART;VALUE=DATE:20280827
DTEND;VALUE=DATE:20280828
DTSTAMP:20260419T200037
CREATED:20250812T185325Z
LAST-MODIFIED:20250812T185325Z
UID:10000639-1850947200-1851033599@www.your624.org
SUMMARY:FIRE - A Shift
DESCRIPTION:
URL:https://www.your624.org/event/fire-a-shift/2028-08-27/
CATEGORIES:A Shift
ATTACH;FMTTYPE=image/png:https://www.your624.org/wp-content/uploads/2023/08/logo-300x300w.png
END:VEVENT
BEGIN:VEVENT
DTSTART;VALUE=DATE:20280830
DTEND;VALUE=DATE:20280831
DTSTAMP:20260419T200037
CREATED:20250812T185325Z
LAST-MODIFIED:20250812T185325Z
UID:10000640-1851206400-1851292799@www.your624.org
SUMMARY:FIRE - A Shift
DESCRIPTION:
URL:https://www.your624.org/event/fire-a-shift/2028-08-30/
CATEGORIES:A Shift
ATTACH;FMTTYPE=image/png:https://www.your624.org/wp-content/uploads/2023/08/logo-300x300w.png
END:VEVENT
BEGIN:VEVENT
DTSTART;VALUE=DATE:20280902
DTEND;VALUE=DATE:20280903
DTSTAMP:20260419T200037
CREATED:20250812T185325Z
LAST-MODIFIED:20250812T185325Z
UID:10000641-1851465600-1851551999@www.your624.org
SUMMARY:FIRE - A Shift
DESCRIPTION:
URL:https://www.your624.org/event/fire-a-shift/2028-09-02/
CATEGORIES:A Shift
ATTACH;FMTTYPE=image/png:https://www.your624.org/wp-content/uploads/2023/08/logo-300x300w.png
END:VEVENT
BEGIN:VEVENT
DTSTART;VALUE=DATE:20280905
DTEND;VALUE=DATE:20280906
DTSTAMP:20260419T200037
CREATED:20250812T185325Z
LAST-MODIFIED:20250812T185325Z
UID:10000642-1851724800-1851811199@www.your624.org
SUMMARY:FIRE - A Shift
DESCRIPTION:
URL:https://www.your624.org/event/fire-a-shift/2028-09-05/
CATEGORIES:A Shift
ATTACH;FMTTYPE=image/png:https://www.your624.org/wp-content/uploads/2023/08/logo-300x300w.png
END:VEVENT
BEGIN:VEVENT
DTSTART;VALUE=DATE:20280908
DTEND;VALUE=DATE:20280909
DTSTAMP:20260419T200037
CREATED:20250812T185325Z
LAST-MODIFIED:20250812T185325Z
UID:10000643-1851984000-1852070399@www.your624.org
SUMMARY:FIRE - A Shift
DESCRIPTION:
URL:https://www.your624.org/event/fire-a-shift/2028-09-08/
CATEGORIES:A Shift
ATTACH;FMTTYPE=image/png:https://www.your624.org/wp-content/uploads/2023/08/logo-300x300w.png
END:VEVENT
BEGIN:VEVENT
DTSTART;VALUE=DATE:20280911
DTEND;VALUE=DATE:20280912
DTSTAMP:20260419T200037
CREATED:20250812T185325Z
LAST-MODIFIED:20250812T185325Z
UID:10000644-1852243200-1852329599@www.your624.org
SUMMARY:FIRE - A Shift
DESCRIPTION:
URL:https://www.your624.org/event/fire-a-shift/2028-09-11/
CATEGORIES:A Shift
ATTACH;FMTTYPE=image/png:https://www.your624.org/wp-content/uploads/2023/08/logo-300x300w.png
END:VEVENT
BEGIN:VEVENT
DTSTART;VALUE=DATE:20280914
DTEND;VALUE=DATE:20280915
DTSTAMP:20260419T200037
CREATED:20250812T185325Z
LAST-MODIFIED:20250812T185325Z
UID:10000645-1852502400-1852588799@www.your624.org
SUMMARY:FIRE - A Shift
DESCRIPTION:
URL:https://www.your624.org/event/fire-a-shift/2028-09-14/
CATEGORIES:A Shift
ATTACH;FMTTYPE=image/png:https://www.your624.org/wp-content/uploads/2023/08/logo-300x300w.png
END:VEVENT
END:VCALENDAR