BEGIN:VCALENDAR
VERSION:2.0
PRODID:-//San Antonio Professional Firefighters Association - ECPv6.15.20//NONSGML v1.0//EN
CALSCALE:GREGORIAN
METHOD:PUBLISH
X-ORIGINAL-URL:https://www.your624.org
X-WR-CALDESC:Events for San Antonio Professional Firefighters Association
REFRESH-INTERVAL;VALUE=DURATION:PT1H
X-Robots-Tag:noindex
X-PUBLISHED-TTL:PT1H
BEGIN:VTIMEZONE
TZID:America/New_York
BEGIN:DAYLIGHT
TZOFFSETFROM:-0500
TZOFFSETTO:-0400
TZNAME:EDT
DTSTART:20280312T070000
END:DAYLIGHT
BEGIN:STANDARD
TZOFFSETFROM:-0400
TZOFFSETTO:-0500
TZNAME:EST
DTSTART:20281105T060000
END:STANDARD
BEGIN:DAYLIGHT
TZOFFSETFROM:-0500
TZOFFSETTO:-0400
TZNAME:EDT
DTSTART:20290311T070000
END:DAYLIGHT
BEGIN:STANDARD
TZOFFSETFROM:-0400
TZOFFSETTO:-0500
TZNAME:EST
DTSTART:20291104T060000
END:STANDARD
BEGIN:DAYLIGHT
TZOFFSETFROM:-0500
TZOFFSETTO:-0400
TZNAME:EDT
DTSTART:20300310T070000
END:DAYLIGHT
BEGIN:STANDARD
TZOFFSETFROM:-0400
TZOFFSETTO:-0500
TZNAME:EST
DTSTART:20301103T060000
END:STANDARD
END:VTIMEZONE
BEGIN:VEVENT
DTSTART;VALUE=DATE:20290518
DTEND;VALUE=DATE:20290519
DTSTAMP:20260421T153542
CREATED:20250812T185325Z
LAST-MODIFIED:20250812T185325Z
UID:10000727-1873756800-1873843199@www.your624.org
SUMMARY:FIRE - A Shift
DESCRIPTION:
URL:https://www.your624.org/event/fire-a-shift/2029-05-18/
CATEGORIES:A Shift
ATTACH;FMTTYPE=image/png:https://www.your624.org/wp-content/uploads/2023/08/logo-300x300w.png
END:VEVENT
BEGIN:VEVENT
DTSTART;VALUE=DATE:20290521
DTEND;VALUE=DATE:20290522
DTSTAMP:20260421T153542
CREATED:20250812T185325Z
LAST-MODIFIED:20250812T185325Z
UID:10000728-1874016000-1874102399@www.your624.org
SUMMARY:FIRE - A Shift
DESCRIPTION:
URL:https://www.your624.org/event/fire-a-shift/2029-05-21/
CATEGORIES:A Shift
ATTACH;FMTTYPE=image/png:https://www.your624.org/wp-content/uploads/2023/08/logo-300x300w.png
END:VEVENT
BEGIN:VEVENT
DTSTART;VALUE=DATE:20290524
DTEND;VALUE=DATE:20290525
DTSTAMP:20260421T153542
CREATED:20250812T185325Z
LAST-MODIFIED:20250812T185325Z
UID:10000729-1874275200-1874361599@www.your624.org
SUMMARY:FIRE - A Shift
DESCRIPTION:
URL:https://www.your624.org/event/fire-a-shift/2029-05-24/
CATEGORIES:A Shift
ATTACH;FMTTYPE=image/png:https://www.your624.org/wp-content/uploads/2023/08/logo-300x300w.png
END:VEVENT
BEGIN:VEVENT
DTSTART;VALUE=DATE:20290527
DTEND;VALUE=DATE:20290528
DTSTAMP:20260421T153542
CREATED:20250812T185325Z
LAST-MODIFIED:20250812T185325Z
UID:10000730-1874534400-1874620799@www.your624.org
SUMMARY:FIRE - A Shift
DESCRIPTION:
URL:https://www.your624.org/event/fire-a-shift/2029-05-27/
CATEGORIES:A Shift
ATTACH;FMTTYPE=image/png:https://www.your624.org/wp-content/uploads/2023/08/logo-300x300w.png
END:VEVENT
BEGIN:VEVENT
DTSTART;VALUE=DATE:20290530
DTEND;VALUE=DATE:20290531
DTSTAMP:20260421T153542
CREATED:20250812T185325Z
LAST-MODIFIED:20250812T185325Z
UID:10000731-1874793600-1874879999@www.your624.org
SUMMARY:FIRE - A Shift
DESCRIPTION:
URL:https://www.your624.org/event/fire-a-shift/2029-05-30/
CATEGORIES:A Shift
ATTACH;FMTTYPE=image/png:https://www.your624.org/wp-content/uploads/2023/08/logo-300x300w.png
END:VEVENT
BEGIN:VEVENT
DTSTART;VALUE=DATE:20290602
DTEND;VALUE=DATE:20290603
DTSTAMP:20260421T153542
CREATED:20250812T185325Z
LAST-MODIFIED:20250812T185325Z
UID:10000732-1875052800-1875139199@www.your624.org
SUMMARY:FIRE - A Shift
DESCRIPTION:
URL:https://www.your624.org/event/fire-a-shift/2029-06-02/
CATEGORIES:A Shift
ATTACH;FMTTYPE=image/png:https://www.your624.org/wp-content/uploads/2023/08/logo-300x300w.png
END:VEVENT
BEGIN:VEVENT
DTSTART;VALUE=DATE:20290605
DTEND;VALUE=DATE:20290606
DTSTAMP:20260421T153542
CREATED:20250812T185325Z
LAST-MODIFIED:20250812T185325Z
UID:10000733-1875312000-1875398399@www.your624.org
SUMMARY:FIRE - A Shift
DESCRIPTION:
URL:https://www.your624.org/event/fire-a-shift/2029-06-05/
CATEGORIES:A Shift
ATTACH;FMTTYPE=image/png:https://www.your624.org/wp-content/uploads/2023/08/logo-300x300w.png
END:VEVENT
BEGIN:VEVENT
DTSTART;VALUE=DATE:20290608
DTEND;VALUE=DATE:20290609
DTSTAMP:20260421T153542
CREATED:20250812T185325Z
LAST-MODIFIED:20250812T185325Z
UID:10000734-1875571200-1875657599@www.your624.org
SUMMARY:FIRE - A Shift
DESCRIPTION:
URL:https://www.your624.org/event/fire-a-shift/2029-06-08/
CATEGORIES:A Shift
ATTACH;FMTTYPE=image/png:https://www.your624.org/wp-content/uploads/2023/08/logo-300x300w.png
END:VEVENT
BEGIN:VEVENT
DTSTART;VALUE=DATE:20290611
DTEND;VALUE=DATE:20290612
DTSTAMP:20260421T153542
CREATED:20250812T185325Z
LAST-MODIFIED:20250812T185325Z
UID:10000735-1875830400-1875916799@www.your624.org
SUMMARY:FIRE - A Shift
DESCRIPTION:
URL:https://www.your624.org/event/fire-a-shift/2029-06-11/
CATEGORIES:A Shift
ATTACH;FMTTYPE=image/png:https://www.your624.org/wp-content/uploads/2023/08/logo-300x300w.png
END:VEVENT
BEGIN:VEVENT
DTSTART;VALUE=DATE:20290614
DTEND;VALUE=DATE:20290615
DTSTAMP:20260421T153542
CREATED:20250812T185325Z
LAST-MODIFIED:20250812T185325Z
UID:10000736-1876089600-1876175999@www.your624.org
SUMMARY:FIRE - A Shift
DESCRIPTION:
URL:https://www.your624.org/event/fire-a-shift/2029-06-14/
CATEGORIES:A Shift
ATTACH;FMTTYPE=image/png:https://www.your624.org/wp-content/uploads/2023/08/logo-300x300w.png
END:VEVENT
BEGIN:VEVENT
DTSTART;VALUE=DATE:20290617
DTEND;VALUE=DATE:20290618
DTSTAMP:20260421T153542
CREATED:20250812T185325Z
LAST-MODIFIED:20250812T185325Z
UID:10000737-1876348800-1876435199@www.your624.org
SUMMARY:FIRE - A Shift
DESCRIPTION:
URL:https://www.your624.org/event/fire-a-shift/2029-06-17/
CATEGORIES:A Shift
ATTACH;FMTTYPE=image/png:https://www.your624.org/wp-content/uploads/2023/08/logo-300x300w.png
END:VEVENT
BEGIN:VEVENT
DTSTART;VALUE=DATE:20290620
DTEND;VALUE=DATE:20290621
DTSTAMP:20260421T153542
CREATED:20250812T185325Z
LAST-MODIFIED:20250812T185325Z
UID:10000738-1876608000-1876694399@www.your624.org
SUMMARY:FIRE - A Shift
DESCRIPTION:
URL:https://www.your624.org/event/fire-a-shift/2029-06-20/
CATEGORIES:A Shift
ATTACH;FMTTYPE=image/png:https://www.your624.org/wp-content/uploads/2023/08/logo-300x300w.png
END:VEVENT
BEGIN:VEVENT
DTSTART;VALUE=DATE:20290623
DTEND;VALUE=DATE:20290624
DTSTAMP:20260421T153542
CREATED:20250812T185325Z
LAST-MODIFIED:20250812T185325Z
UID:10000739-1876867200-1876953599@www.your624.org
SUMMARY:FIRE - A Shift
DESCRIPTION:
URL:https://www.your624.org/event/fire-a-shift/2029-06-23/
CATEGORIES:A Shift
ATTACH;FMTTYPE=image/png:https://www.your624.org/wp-content/uploads/2023/08/logo-300x300w.png
END:VEVENT
BEGIN:VEVENT
DTSTART;VALUE=DATE:20290626
DTEND;VALUE=DATE:20290627
DTSTAMP:20260421T153542
CREATED:20250812T185325Z
LAST-MODIFIED:20250812T185325Z
UID:10000740-1877126400-1877212799@www.your624.org
SUMMARY:FIRE - A Shift
DESCRIPTION:
URL:https://www.your624.org/event/fire-a-shift/2029-06-26/
CATEGORIES:A Shift
ATTACH;FMTTYPE=image/png:https://www.your624.org/wp-content/uploads/2023/08/logo-300x300w.png
END:VEVENT
BEGIN:VEVENT
DTSTART;VALUE=DATE:20290629
DTEND;VALUE=DATE:20290630
DTSTAMP:20260421T153542
CREATED:20250812T185325Z
LAST-MODIFIED:20250812T185325Z
UID:10000741-1877385600-1877471999@www.your624.org
SUMMARY:FIRE - A Shift
DESCRIPTION:
URL:https://www.your624.org/event/fire-a-shift/2029-06-29/
CATEGORIES:A Shift
ATTACH;FMTTYPE=image/png:https://www.your624.org/wp-content/uploads/2023/08/logo-300x300w.png
END:VEVENT
BEGIN:VEVENT
DTSTART;VALUE=DATE:20290702
DTEND;VALUE=DATE:20290703
DTSTAMP:20260421T153542
CREATED:20250812T185325Z
LAST-MODIFIED:20250812T185325Z
UID:10000742-1877644800-1877731199@www.your624.org
SUMMARY:FIRE - A Shift
DESCRIPTION:
URL:https://www.your624.org/event/fire-a-shift/2029-07-02/
CATEGORIES:A Shift
ATTACH;FMTTYPE=image/png:https://www.your624.org/wp-content/uploads/2023/08/logo-300x300w.png
END:VEVENT
BEGIN:VEVENT
DTSTART;VALUE=DATE:20290705
DTEND;VALUE=DATE:20290706
DTSTAMP:20260421T153542
CREATED:20250812T185325Z
LAST-MODIFIED:20250812T185325Z
UID:10000743-1877904000-1877990399@www.your624.org
SUMMARY:FIRE - A Shift
DESCRIPTION:
URL:https://www.your624.org/event/fire-a-shift/2029-07-05/
CATEGORIES:A Shift
ATTACH;FMTTYPE=image/png:https://www.your624.org/wp-content/uploads/2023/08/logo-300x300w.png
END:VEVENT
BEGIN:VEVENT
DTSTART;VALUE=DATE:20290708
DTEND;VALUE=DATE:20290709
DTSTAMP:20260421T153542
CREATED:20250812T185325Z
LAST-MODIFIED:20250812T185325Z
UID:10000744-1878163200-1878249599@www.your624.org
SUMMARY:FIRE - A Shift
DESCRIPTION:
URL:https://www.your624.org/event/fire-a-shift/2029-07-08/
CATEGORIES:A Shift
ATTACH;FMTTYPE=image/png:https://www.your624.org/wp-content/uploads/2023/08/logo-300x300w.png
END:VEVENT
BEGIN:VEVENT
DTSTART;VALUE=DATE:20290711
DTEND;VALUE=DATE:20290712
DTSTAMP:20260421T153542
CREATED:20250812T185325Z
LAST-MODIFIED:20250812T185325Z
UID:10000745-1878422400-1878508799@www.your624.org
SUMMARY:FIRE - A Shift
DESCRIPTION:
URL:https://www.your624.org/event/fire-a-shift/2029-07-11/
CATEGORIES:A Shift
ATTACH;FMTTYPE=image/png:https://www.your624.org/wp-content/uploads/2023/08/logo-300x300w.png
END:VEVENT
BEGIN:VEVENT
DTSTART;VALUE=DATE:20290714
DTEND;VALUE=DATE:20290715
DTSTAMP:20260421T153542
CREATED:20250812T185325Z
LAST-MODIFIED:20250812T185325Z
UID:10000746-1878681600-1878767999@www.your624.org
SUMMARY:FIRE - A Shift
DESCRIPTION:
URL:https://www.your624.org/event/fire-a-shift/2029-07-14/
CATEGORIES:A Shift
ATTACH;FMTTYPE=image/png:https://www.your624.org/wp-content/uploads/2023/08/logo-300x300w.png
END:VEVENT
BEGIN:VEVENT
DTSTART;VALUE=DATE:20290717
DTEND;VALUE=DATE:20290718
DTSTAMP:20260421T153542
CREATED:20250812T185325Z
LAST-MODIFIED:20250812T185325Z
UID:10000747-1878940800-1879027199@www.your624.org
SUMMARY:FIRE - A Shift
DESCRIPTION:
URL:https://www.your624.org/event/fire-a-shift/2029-07-17/
CATEGORIES:A Shift
ATTACH;FMTTYPE=image/png:https://www.your624.org/wp-content/uploads/2023/08/logo-300x300w.png
END:VEVENT
BEGIN:VEVENT
DTSTART;VALUE=DATE:20290720
DTEND;VALUE=DATE:20290721
DTSTAMP:20260421T153542
CREATED:20250812T185325Z
LAST-MODIFIED:20250812T185325Z
UID:10000748-1879200000-1879286399@www.your624.org
SUMMARY:FIRE - A Shift
DESCRIPTION:
URL:https://www.your624.org/event/fire-a-shift/2029-07-20/
CATEGORIES:A Shift
ATTACH;FMTTYPE=image/png:https://www.your624.org/wp-content/uploads/2023/08/logo-300x300w.png
END:VEVENT
BEGIN:VEVENT
DTSTART;VALUE=DATE:20290723
DTEND;VALUE=DATE:20290724
DTSTAMP:20260421T153542
CREATED:20250812T185325Z
LAST-MODIFIED:20250812T185325Z
UID:10000749-1879459200-1879545599@www.your624.org
SUMMARY:FIRE - A Shift
DESCRIPTION:
URL:https://www.your624.org/event/fire-a-shift/2029-07-23/
CATEGORIES:A Shift
ATTACH;FMTTYPE=image/png:https://www.your624.org/wp-content/uploads/2023/08/logo-300x300w.png
END:VEVENT
BEGIN:VEVENT
DTSTART;VALUE=DATE:20290726
DTEND;VALUE=DATE:20290727
DTSTAMP:20260421T153543
CREATED:20250812T185325Z
LAST-MODIFIED:20250812T185325Z
UID:10000750-1879718400-1879804799@www.your624.org
SUMMARY:FIRE - A Shift
DESCRIPTION:
URL:https://www.your624.org/event/fire-a-shift/2029-07-26/
CATEGORIES:A Shift
ATTACH;FMTTYPE=image/png:https://www.your624.org/wp-content/uploads/2023/08/logo-300x300w.png
END:VEVENT
BEGIN:VEVENT
DTSTART;VALUE=DATE:20290729
DTEND;VALUE=DATE:20290730
DTSTAMP:20260421T153543
CREATED:20250812T185325Z
LAST-MODIFIED:20250812T185325Z
UID:10000751-1879977600-1880063999@www.your624.org
SUMMARY:FIRE - A Shift
DESCRIPTION:
URL:https://www.your624.org/event/fire-a-shift/2029-07-29/
CATEGORIES:A Shift
ATTACH;FMTTYPE=image/png:https://www.your624.org/wp-content/uploads/2023/08/logo-300x300w.png
END:VEVENT
BEGIN:VEVENT
DTSTART;VALUE=DATE:20290801
DTEND;VALUE=DATE:20290802
DTSTAMP:20260421T153543
CREATED:20250812T185325Z
LAST-MODIFIED:20250812T185325Z
UID:10000752-1880236800-1880323199@www.your624.org
SUMMARY:FIRE - A Shift
DESCRIPTION:
URL:https://www.your624.org/event/fire-a-shift/2029-08-01/
CATEGORIES:A Shift
ATTACH;FMTTYPE=image/png:https://www.your624.org/wp-content/uploads/2023/08/logo-300x300w.png
END:VEVENT
BEGIN:VEVENT
DTSTART;VALUE=DATE:20290804
DTEND;VALUE=DATE:20290805
DTSTAMP:20260421T153543
CREATED:20250812T185325Z
LAST-MODIFIED:20250812T185325Z
UID:10000753-1880496000-1880582399@www.your624.org
SUMMARY:FIRE - A Shift
DESCRIPTION:
URL:https://www.your624.org/event/fire-a-shift/2029-08-04/
CATEGORIES:A Shift
ATTACH;FMTTYPE=image/png:https://www.your624.org/wp-content/uploads/2023/08/logo-300x300w.png
END:VEVENT
BEGIN:VEVENT
DTSTART;VALUE=DATE:20290807
DTEND;VALUE=DATE:20290808
DTSTAMP:20260421T153543
CREATED:20250812T185325Z
LAST-MODIFIED:20250812T185325Z
UID:10000754-1880755200-1880841599@www.your624.org
SUMMARY:FIRE - A Shift
DESCRIPTION:
URL:https://www.your624.org/event/fire-a-shift/2029-08-07/
CATEGORIES:A Shift
ATTACH;FMTTYPE=image/png:https://www.your624.org/wp-content/uploads/2023/08/logo-300x300w.png
END:VEVENT
BEGIN:VEVENT
DTSTART;VALUE=DATE:20290810
DTEND;VALUE=DATE:20290811
DTSTAMP:20260421T153543
CREATED:20250812T185325Z
LAST-MODIFIED:20250812T185325Z
UID:10000755-1881014400-1881100799@www.your624.org
SUMMARY:FIRE - A Shift
DESCRIPTION:
URL:https://www.your624.org/event/fire-a-shift/2029-08-10/
CATEGORIES:A Shift
ATTACH;FMTTYPE=image/png:https://www.your624.org/wp-content/uploads/2023/08/logo-300x300w.png
END:VEVENT
BEGIN:VEVENT
DTSTART;VALUE=DATE:20290813
DTEND;VALUE=DATE:20290814
DTSTAMP:20260421T153543
CREATED:20250812T185325Z
LAST-MODIFIED:20250812T185325Z
UID:10000756-1881273600-1881359999@www.your624.org
SUMMARY:FIRE - A Shift
DESCRIPTION:
URL:https://www.your624.org/event/fire-a-shift/2029-08-13/
CATEGORIES:A Shift
ATTACH;FMTTYPE=image/png:https://www.your624.org/wp-content/uploads/2023/08/logo-300x300w.png
END:VEVENT
END:VCALENDAR