BEGIN:VCALENDAR
VERSION:2.0
PRODID:-//San Antonio Professional Firefighters Association - ECPv6.15.20//NONSGML v1.0//EN
CALSCALE:GREGORIAN
METHOD:PUBLISH
X-ORIGINAL-URL:https://www.your624.org
X-WR-CALDESC:Events for San Antonio Professional Firefighters Association
REFRESH-INTERVAL;VALUE=DURATION:PT1H
X-Robots-Tag:noindex
X-PUBLISHED-TTL:PT1H
BEGIN:VTIMEZONE
TZID:America/New_York
BEGIN:DAYLIGHT
TZOFFSETFROM:-0500
TZOFFSETTO:-0400
TZNAME:EDT
DTSTART:20280312T070000
END:DAYLIGHT
BEGIN:STANDARD
TZOFFSETFROM:-0400
TZOFFSETTO:-0500
TZNAME:EST
DTSTART:20281105T060000
END:STANDARD
BEGIN:DAYLIGHT
TZOFFSETFROM:-0500
TZOFFSETTO:-0400
TZNAME:EDT
DTSTART:20290311T070000
END:DAYLIGHT
BEGIN:STANDARD
TZOFFSETFROM:-0400
TZOFFSETTO:-0500
TZNAME:EST
DTSTART:20291104T060000
END:STANDARD
BEGIN:DAYLIGHT
TZOFFSETFROM:-0500
TZOFFSETTO:-0400
TZNAME:EDT
DTSTART:20300310T070000
END:DAYLIGHT
BEGIN:STANDARD
TZOFFSETFROM:-0400
TZOFFSETTO:-0500
TZNAME:EST
DTSTART:20301103T060000
END:STANDARD
END:VTIMEZONE
BEGIN:VEVENT
DTSTART;VALUE=DATE:20290903
DTEND;VALUE=DATE:20290904
DTSTAMP:20260421T185359
CREATED:20250812T185325Z
LAST-MODIFIED:20250812T185325Z
UID:10000763-1883088000-1883174399@www.your624.org
SUMMARY:FIRE - A Shift
DESCRIPTION:
URL:https://www.your624.org/event/fire-a-shift/2029-09-03/
CATEGORIES:A Shift
ATTACH;FMTTYPE=image/png:https://www.your624.org/wp-content/uploads/2023/08/logo-300x300w.png
END:VEVENT
BEGIN:VEVENT
DTSTART;VALUE=DATE:20290906
DTEND;VALUE=DATE:20290907
DTSTAMP:20260421T185359
CREATED:20250812T185325Z
LAST-MODIFIED:20250812T185325Z
UID:10000764-1883347200-1883433599@www.your624.org
SUMMARY:FIRE - A Shift
DESCRIPTION:
URL:https://www.your624.org/event/fire-a-shift/2029-09-06/
CATEGORIES:A Shift
ATTACH;FMTTYPE=image/png:https://www.your624.org/wp-content/uploads/2023/08/logo-300x300w.png
END:VEVENT
BEGIN:VEVENT
DTSTART;VALUE=DATE:20290909
DTEND;VALUE=DATE:20290910
DTSTAMP:20260421T185359
CREATED:20250812T185325Z
LAST-MODIFIED:20250812T185325Z
UID:10000765-1883606400-1883692799@www.your624.org
SUMMARY:FIRE - A Shift
DESCRIPTION:
URL:https://www.your624.org/event/fire-a-shift/2029-09-09/
CATEGORIES:A Shift
ATTACH;FMTTYPE=image/png:https://www.your624.org/wp-content/uploads/2023/08/logo-300x300w.png
END:VEVENT
BEGIN:VEVENT
DTSTART;VALUE=DATE:20290912
DTEND;VALUE=DATE:20290913
DTSTAMP:20260421T185359
CREATED:20250812T185325Z
LAST-MODIFIED:20250812T185325Z
UID:10000766-1883865600-1883951999@www.your624.org
SUMMARY:FIRE - A Shift
DESCRIPTION:
URL:https://www.your624.org/event/fire-a-shift/2029-09-12/
CATEGORIES:A Shift
ATTACH;FMTTYPE=image/png:https://www.your624.org/wp-content/uploads/2023/08/logo-300x300w.png
END:VEVENT
BEGIN:VEVENT
DTSTART;VALUE=DATE:20290915
DTEND;VALUE=DATE:20290916
DTSTAMP:20260421T185359
CREATED:20250812T185325Z
LAST-MODIFIED:20250812T185325Z
UID:10000767-1884124800-1884211199@www.your624.org
SUMMARY:FIRE - A Shift
DESCRIPTION:
URL:https://www.your624.org/event/fire-a-shift/2029-09-15/
CATEGORIES:A Shift
ATTACH;FMTTYPE=image/png:https://www.your624.org/wp-content/uploads/2023/08/logo-300x300w.png
END:VEVENT
BEGIN:VEVENT
DTSTART;VALUE=DATE:20290918
DTEND;VALUE=DATE:20290919
DTSTAMP:20260421T185359
CREATED:20250812T185325Z
LAST-MODIFIED:20250812T185325Z
UID:10000768-1884384000-1884470399@www.your624.org
SUMMARY:FIRE - A Shift
DESCRIPTION:
URL:https://www.your624.org/event/fire-a-shift/2029-09-18/
CATEGORIES:A Shift
ATTACH;FMTTYPE=image/png:https://www.your624.org/wp-content/uploads/2023/08/logo-300x300w.png
END:VEVENT
BEGIN:VEVENT
DTSTART;VALUE=DATE:20290921
DTEND;VALUE=DATE:20290922
DTSTAMP:20260421T185359
CREATED:20250812T185325Z
LAST-MODIFIED:20250812T185325Z
UID:10000769-1884643200-1884729599@www.your624.org
SUMMARY:FIRE - A Shift
DESCRIPTION:
URL:https://www.your624.org/event/fire-a-shift/2029-09-21/
CATEGORIES:A Shift
ATTACH;FMTTYPE=image/png:https://www.your624.org/wp-content/uploads/2023/08/logo-300x300w.png
END:VEVENT
BEGIN:VEVENT
DTSTART;VALUE=DATE:20290924
DTEND;VALUE=DATE:20290925
DTSTAMP:20260421T185359
CREATED:20250812T185325Z
LAST-MODIFIED:20250812T185325Z
UID:10000770-1884902400-1884988799@www.your624.org
SUMMARY:FIRE - A Shift
DESCRIPTION:
URL:https://www.your624.org/event/fire-a-shift/2029-09-24/
CATEGORIES:A Shift
ATTACH;FMTTYPE=image/png:https://www.your624.org/wp-content/uploads/2023/08/logo-300x300w.png
END:VEVENT
BEGIN:VEVENT
DTSTART;VALUE=DATE:20290927
DTEND;VALUE=DATE:20290928
DTSTAMP:20260421T185359
CREATED:20250812T185325Z
LAST-MODIFIED:20250812T185325Z
UID:10000771-1885161600-1885247999@www.your624.org
SUMMARY:FIRE - A Shift
DESCRIPTION:
URL:https://www.your624.org/event/fire-a-shift/2029-09-27/
CATEGORIES:A Shift
ATTACH;FMTTYPE=image/png:https://www.your624.org/wp-content/uploads/2023/08/logo-300x300w.png
END:VEVENT
BEGIN:VEVENT
DTSTART;VALUE=DATE:20290930
DTEND;VALUE=DATE:20291001
DTSTAMP:20260421T185359
CREATED:20250812T185325Z
LAST-MODIFIED:20250812T185325Z
UID:10000772-1885420800-1885507199@www.your624.org
SUMMARY:FIRE - A Shift
DESCRIPTION:
URL:https://www.your624.org/event/fire-a-shift/2029-09-30/
CATEGORIES:A Shift
ATTACH;FMTTYPE=image/png:https://www.your624.org/wp-content/uploads/2023/08/logo-300x300w.png
END:VEVENT
BEGIN:VEVENT
DTSTART;VALUE=DATE:20291003
DTEND;VALUE=DATE:20291004
DTSTAMP:20260421T185359
CREATED:20250812T185325Z
LAST-MODIFIED:20250812T185325Z
UID:10000773-1885680000-1885766399@www.your624.org
SUMMARY:FIRE - A Shift
DESCRIPTION:
URL:https://www.your624.org/event/fire-a-shift/2029-10-03/
CATEGORIES:A Shift
ATTACH;FMTTYPE=image/png:https://www.your624.org/wp-content/uploads/2023/08/logo-300x300w.png
END:VEVENT
BEGIN:VEVENT
DTSTART;VALUE=DATE:20291006
DTEND;VALUE=DATE:20291007
DTSTAMP:20260421T185359
CREATED:20250812T185325Z
LAST-MODIFIED:20250812T185325Z
UID:10000774-1885939200-1886025599@www.your624.org
SUMMARY:FIRE - A Shift
DESCRIPTION:
URL:https://www.your624.org/event/fire-a-shift/2029-10-06/
CATEGORIES:A Shift
ATTACH;FMTTYPE=image/png:https://www.your624.org/wp-content/uploads/2023/08/logo-300x300w.png
END:VEVENT
BEGIN:VEVENT
DTSTART;VALUE=DATE:20291009
DTEND;VALUE=DATE:20291010
DTSTAMP:20260421T185359
CREATED:20250812T185325Z
LAST-MODIFIED:20250812T185325Z
UID:10000775-1886198400-1886284799@www.your624.org
SUMMARY:FIRE - A Shift
DESCRIPTION:
URL:https://www.your624.org/event/fire-a-shift/2029-10-09/
CATEGORIES:A Shift
ATTACH;FMTTYPE=image/png:https://www.your624.org/wp-content/uploads/2023/08/logo-300x300w.png
END:VEVENT
BEGIN:VEVENT
DTSTART;VALUE=DATE:20291012
DTEND;VALUE=DATE:20291013
DTSTAMP:20260421T185359
CREATED:20250812T185325Z
LAST-MODIFIED:20250812T185325Z
UID:10000776-1886457600-1886543999@www.your624.org
SUMMARY:FIRE - A Shift
DESCRIPTION:
URL:https://www.your624.org/event/fire-a-shift/2029-10-12/
CATEGORIES:A Shift
ATTACH;FMTTYPE=image/png:https://www.your624.org/wp-content/uploads/2023/08/logo-300x300w.png
END:VEVENT
BEGIN:VEVENT
DTSTART;VALUE=DATE:20291015
DTEND;VALUE=DATE:20291016
DTSTAMP:20260421T185359
CREATED:20250812T185325Z
LAST-MODIFIED:20250812T185325Z
UID:10000777-1886716800-1886803199@www.your624.org
SUMMARY:FIRE - A Shift
DESCRIPTION:
URL:https://www.your624.org/event/fire-a-shift/2029-10-15/
CATEGORIES:A Shift
ATTACH;FMTTYPE=image/png:https://www.your624.org/wp-content/uploads/2023/08/logo-300x300w.png
END:VEVENT
BEGIN:VEVENT
DTSTART;VALUE=DATE:20291018
DTEND;VALUE=DATE:20291019
DTSTAMP:20260421T185359
CREATED:20250812T185325Z
LAST-MODIFIED:20250812T185325Z
UID:10000778-1886976000-1887062399@www.your624.org
SUMMARY:FIRE - A Shift
DESCRIPTION:
URL:https://www.your624.org/event/fire-a-shift/2029-10-18/
CATEGORIES:A Shift
ATTACH;FMTTYPE=image/png:https://www.your624.org/wp-content/uploads/2023/08/logo-300x300w.png
END:VEVENT
BEGIN:VEVENT
DTSTART;VALUE=DATE:20291021
DTEND;VALUE=DATE:20291022
DTSTAMP:20260421T185359
CREATED:20250812T185325Z
LAST-MODIFIED:20250812T185325Z
UID:10000779-1887235200-1887321599@www.your624.org
SUMMARY:FIRE - A Shift
DESCRIPTION:
URL:https://www.your624.org/event/fire-a-shift/2029-10-21/
CATEGORIES:A Shift
ATTACH;FMTTYPE=image/png:https://www.your624.org/wp-content/uploads/2023/08/logo-300x300w.png
END:VEVENT
BEGIN:VEVENT
DTSTART;VALUE=DATE:20291024
DTEND;VALUE=DATE:20291025
DTSTAMP:20260421T185359
CREATED:20250812T185325Z
LAST-MODIFIED:20250812T185325Z
UID:10000780-1887494400-1887580799@www.your624.org
SUMMARY:FIRE - A Shift
DESCRIPTION:
URL:https://www.your624.org/event/fire-a-shift/2029-10-24/
CATEGORIES:A Shift
ATTACH;FMTTYPE=image/png:https://www.your624.org/wp-content/uploads/2023/08/logo-300x300w.png
END:VEVENT
BEGIN:VEVENT
DTSTART;VALUE=DATE:20291027
DTEND;VALUE=DATE:20291028
DTSTAMP:20260421T185359
CREATED:20250812T185325Z
LAST-MODIFIED:20250812T185325Z
UID:10000781-1887753600-1887839999@www.your624.org
SUMMARY:FIRE - A Shift
DESCRIPTION:
URL:https://www.your624.org/event/fire-a-shift/2029-10-27/
CATEGORIES:A Shift
ATTACH;FMTTYPE=image/png:https://www.your624.org/wp-content/uploads/2023/08/logo-300x300w.png
END:VEVENT
BEGIN:VEVENT
DTSTART;VALUE=DATE:20291030
DTEND;VALUE=DATE:20291031
DTSTAMP:20260421T185359
CREATED:20250812T185325Z
LAST-MODIFIED:20250812T185325Z
UID:10000782-1888012800-1888099199@www.your624.org
SUMMARY:FIRE - A Shift
DESCRIPTION:
URL:https://www.your624.org/event/fire-a-shift/2029-10-30/
CATEGORIES:A Shift
ATTACH;FMTTYPE=image/png:https://www.your624.org/wp-content/uploads/2023/08/logo-300x300w.png
END:VEVENT
BEGIN:VEVENT
DTSTART;VALUE=DATE:20291102
DTEND;VALUE=DATE:20291103
DTSTAMP:20260421T185359
CREATED:20250812T185325Z
LAST-MODIFIED:20250812T185325Z
UID:10000783-1888272000-1888358399@www.your624.org
SUMMARY:FIRE - A Shift
DESCRIPTION:
URL:https://www.your624.org/event/fire-a-shift/2029-11-02/
CATEGORIES:A Shift
ATTACH;FMTTYPE=image/png:https://www.your624.org/wp-content/uploads/2023/08/logo-300x300w.png
END:VEVENT
BEGIN:VEVENT
DTSTART;VALUE=DATE:20291105
DTEND;VALUE=DATE:20291106
DTSTAMP:20260421T185359
CREATED:20250812T185325Z
LAST-MODIFIED:20250812T185325Z
UID:10000784-1888531200-1888617599@www.your624.org
SUMMARY:FIRE - A Shift
DESCRIPTION:
URL:https://www.your624.org/event/fire-a-shift/2029-11-05/
CATEGORIES:A Shift
ATTACH;FMTTYPE=image/png:https://www.your624.org/wp-content/uploads/2023/08/logo-300x300w.png
END:VEVENT
BEGIN:VEVENT
DTSTART;VALUE=DATE:20291108
DTEND;VALUE=DATE:20291109
DTSTAMP:20260421T185359
CREATED:20250812T185325Z
LAST-MODIFIED:20250812T185325Z
UID:10000785-1888790400-1888876799@www.your624.org
SUMMARY:FIRE - A Shift
DESCRIPTION:
URL:https://www.your624.org/event/fire-a-shift/2029-11-08/
CATEGORIES:A Shift
ATTACH;FMTTYPE=image/png:https://www.your624.org/wp-content/uploads/2023/08/logo-300x300w.png
END:VEVENT
BEGIN:VEVENT
DTSTART;VALUE=DATE:20291111
DTEND;VALUE=DATE:20291112
DTSTAMP:20260421T185359
CREATED:20250812T185325Z
LAST-MODIFIED:20250812T185325Z
UID:10000786-1889049600-1889135999@www.your624.org
SUMMARY:FIRE - A Shift
DESCRIPTION:
URL:https://www.your624.org/event/fire-a-shift/2029-11-11/
CATEGORIES:A Shift
ATTACH;FMTTYPE=image/png:https://www.your624.org/wp-content/uploads/2023/08/logo-300x300w.png
END:VEVENT
BEGIN:VEVENT
DTSTART;VALUE=DATE:20291114
DTEND;VALUE=DATE:20291115
DTSTAMP:20260421T185359
CREATED:20250812T185325Z
LAST-MODIFIED:20250812T185325Z
UID:10000787-1889308800-1889395199@www.your624.org
SUMMARY:FIRE - A Shift
DESCRIPTION:
URL:https://www.your624.org/event/fire-a-shift/2029-11-14/
CATEGORIES:A Shift
ATTACH;FMTTYPE=image/png:https://www.your624.org/wp-content/uploads/2023/08/logo-300x300w.png
END:VEVENT
BEGIN:VEVENT
DTSTART;VALUE=DATE:20291117
DTEND;VALUE=DATE:20291118
DTSTAMP:20260421T185359
CREATED:20250812T185325Z
LAST-MODIFIED:20250812T185325Z
UID:10000788-1889568000-1889654399@www.your624.org
SUMMARY:FIRE - A Shift
DESCRIPTION:
URL:https://www.your624.org/event/fire-a-shift/2029-11-17/
CATEGORIES:A Shift
ATTACH;FMTTYPE=image/png:https://www.your624.org/wp-content/uploads/2023/08/logo-300x300w.png
END:VEVENT
BEGIN:VEVENT
DTSTART;VALUE=DATE:20291120
DTEND;VALUE=DATE:20291121
DTSTAMP:20260421T185359
CREATED:20250812T185325Z
LAST-MODIFIED:20250812T185325Z
UID:10000789-1889827200-1889913599@www.your624.org
SUMMARY:FIRE - A Shift
DESCRIPTION:
URL:https://www.your624.org/event/fire-a-shift/2029-11-20/
CATEGORIES:A Shift
ATTACH;FMTTYPE=image/png:https://www.your624.org/wp-content/uploads/2023/08/logo-300x300w.png
END:VEVENT
BEGIN:VEVENT
DTSTART;VALUE=DATE:20291123
DTEND;VALUE=DATE:20291124
DTSTAMP:20260421T185359
CREATED:20250812T185325Z
LAST-MODIFIED:20250812T185325Z
UID:10000790-1890086400-1890172799@www.your624.org
SUMMARY:FIRE - A Shift
DESCRIPTION:
URL:https://www.your624.org/event/fire-a-shift/2029-11-23/
CATEGORIES:A Shift
ATTACH;FMTTYPE=image/png:https://www.your624.org/wp-content/uploads/2023/08/logo-300x300w.png
END:VEVENT
BEGIN:VEVENT
DTSTART;VALUE=DATE:20291126
DTEND;VALUE=DATE:20291127
DTSTAMP:20260421T185359
CREATED:20250812T185325Z
LAST-MODIFIED:20250812T185325Z
UID:10000791-1890345600-1890431999@www.your624.org
SUMMARY:FIRE - A Shift
DESCRIPTION:
URL:https://www.your624.org/event/fire-a-shift/2029-11-26/
CATEGORIES:A Shift
ATTACH;FMTTYPE=image/png:https://www.your624.org/wp-content/uploads/2023/08/logo-300x300w.png
END:VEVENT
BEGIN:VEVENT
DTSTART;VALUE=DATE:20291129
DTEND;VALUE=DATE:20291130
DTSTAMP:20260421T185359
CREATED:20250812T185325Z
LAST-MODIFIED:20250812T185325Z
UID:10000792-1890604800-1890691199@www.your624.org
SUMMARY:FIRE - A Shift
DESCRIPTION:
URL:https://www.your624.org/event/fire-a-shift/2029-11-29/
CATEGORIES:A Shift
ATTACH;FMTTYPE=image/png:https://www.your624.org/wp-content/uploads/2023/08/logo-300x300w.png
END:VEVENT
END:VCALENDAR