BEGIN:VCALENDAR
VERSION:2.0
PRODID:-//San Antonio Professional Firefighters Association - ECPv6.15.20//NONSGML v1.0//EN
CALSCALE:GREGORIAN
METHOD:PUBLISH
X-ORIGINAL-URL:https://www.your624.org
X-WR-CALDESC:Events for San Antonio Professional Firefighters Association
REFRESH-INTERVAL;VALUE=DURATION:PT1H
X-Robots-Tag:noindex
X-PUBLISHED-TTL:PT1H
BEGIN:VTIMEZONE
TZID:America/New_York
BEGIN:DAYLIGHT
TZOFFSETFROM:-0500
TZOFFSETTO:-0400
TZNAME:EDT
DTSTART:20290311T070000
END:DAYLIGHT
BEGIN:STANDARD
TZOFFSETFROM:-0400
TZOFFSETTO:-0500
TZNAME:EST
DTSTART:20291104T060000
END:STANDARD
BEGIN:DAYLIGHT
TZOFFSETFROM:-0500
TZOFFSETTO:-0400
TZNAME:EDT
DTSTART:20300310T070000
END:DAYLIGHT
BEGIN:STANDARD
TZOFFSETFROM:-0400
TZOFFSETTO:-0500
TZNAME:EST
DTSTART:20301103T060000
END:STANDARD
BEGIN:DAYLIGHT
TZOFFSETFROM:-0500
TZOFFSETTO:-0400
TZNAME:EDT
DTSTART:20310309T070000
END:DAYLIGHT
BEGIN:STANDARD
TZOFFSETFROM:-0400
TZOFFSETTO:-0500
TZNAME:EST
DTSTART:20311102T060000
END:STANDARD
END:VTIMEZONE
BEGIN:VEVENT
DTSTART;VALUE=DATE:20300125
DTEND;VALUE=DATE:20300126
DTSTAMP:20260423T035238
CREATED:20250812T185325Z
LAST-MODIFIED:20250812T185325Z
UID:10000811-1895529600-1895615999@www.your624.org
SUMMARY:FIRE - A Shift
DESCRIPTION:
URL:https://www.your624.org/event/fire-a-shift/2030-01-25/
CATEGORIES:A Shift
ATTACH;FMTTYPE=image/png:https://www.your624.org/wp-content/uploads/2023/08/logo-300x300w.png
END:VEVENT
BEGIN:VEVENT
DTSTART;VALUE=DATE:20300128
DTEND;VALUE=DATE:20300129
DTSTAMP:20260423T035238
CREATED:20250812T185325Z
LAST-MODIFIED:20250812T185325Z
UID:10000812-1895788800-1895875199@www.your624.org
SUMMARY:FIRE - A Shift
DESCRIPTION:
URL:https://www.your624.org/event/fire-a-shift/2030-01-28/
CATEGORIES:A Shift
ATTACH;FMTTYPE=image/png:https://www.your624.org/wp-content/uploads/2023/08/logo-300x300w.png
END:VEVENT
BEGIN:VEVENT
DTSTART;VALUE=DATE:20300131
DTEND;VALUE=DATE:20300201
DTSTAMP:20260423T035238
CREATED:20250812T185325Z
LAST-MODIFIED:20250812T185325Z
UID:10000813-1896048000-1896134399@www.your624.org
SUMMARY:FIRE - A Shift
DESCRIPTION:
URL:https://www.your624.org/event/fire-a-shift/2030-01-31/
CATEGORIES:A Shift
ATTACH;FMTTYPE=image/png:https://www.your624.org/wp-content/uploads/2023/08/logo-300x300w.png
END:VEVENT
BEGIN:VEVENT
DTSTART;VALUE=DATE:20300203
DTEND;VALUE=DATE:20300204
DTSTAMP:20260423T035238
CREATED:20250812T185325Z
LAST-MODIFIED:20250812T185325Z
UID:10000814-1896307200-1896393599@www.your624.org
SUMMARY:FIRE - A Shift
DESCRIPTION:
URL:https://www.your624.org/event/fire-a-shift/2030-02-03/
CATEGORIES:A Shift
ATTACH;FMTTYPE=image/png:https://www.your624.org/wp-content/uploads/2023/08/logo-300x300w.png
END:VEVENT
BEGIN:VEVENT
DTSTART;VALUE=DATE:20300206
DTEND;VALUE=DATE:20300207
DTSTAMP:20260423T035238
CREATED:20250812T185325Z
LAST-MODIFIED:20250812T185325Z
UID:10000815-1896566400-1896652799@www.your624.org
SUMMARY:FIRE - A Shift
DESCRIPTION:
URL:https://www.your624.org/event/fire-a-shift/2030-02-06/
CATEGORIES:A Shift
ATTACH;FMTTYPE=image/png:https://www.your624.org/wp-content/uploads/2023/08/logo-300x300w.png
END:VEVENT
BEGIN:VEVENT
DTSTART;VALUE=DATE:20300209
DTEND;VALUE=DATE:20300210
DTSTAMP:20260423T035238
CREATED:20250812T185325Z
LAST-MODIFIED:20250812T185325Z
UID:10000816-1896825600-1896911999@www.your624.org
SUMMARY:FIRE - A Shift
DESCRIPTION:
URL:https://www.your624.org/event/fire-a-shift/2030-02-09/
CATEGORIES:A Shift
ATTACH;FMTTYPE=image/png:https://www.your624.org/wp-content/uploads/2023/08/logo-300x300w.png
END:VEVENT
BEGIN:VEVENT
DTSTART;VALUE=DATE:20300212
DTEND;VALUE=DATE:20300213
DTSTAMP:20260423T035238
CREATED:20250812T185325Z
LAST-MODIFIED:20250812T185325Z
UID:10000817-1897084800-1897171199@www.your624.org
SUMMARY:FIRE - A Shift
DESCRIPTION:
URL:https://www.your624.org/event/fire-a-shift/2030-02-12/
CATEGORIES:A Shift
ATTACH;FMTTYPE=image/png:https://www.your624.org/wp-content/uploads/2023/08/logo-300x300w.png
END:VEVENT
BEGIN:VEVENT
DTSTART;VALUE=DATE:20300215
DTEND;VALUE=DATE:20300216
DTSTAMP:20260423T035238
CREATED:20250812T185325Z
LAST-MODIFIED:20250812T185325Z
UID:10000818-1897344000-1897430399@www.your624.org
SUMMARY:FIRE - A Shift
DESCRIPTION:
URL:https://www.your624.org/event/fire-a-shift/2030-02-15/
CATEGORIES:A Shift
ATTACH;FMTTYPE=image/png:https://www.your624.org/wp-content/uploads/2023/08/logo-300x300w.png
END:VEVENT
BEGIN:VEVENT
DTSTART;VALUE=DATE:20300218
DTEND;VALUE=DATE:20300219
DTSTAMP:20260423T035238
CREATED:20250812T185325Z
LAST-MODIFIED:20250812T185325Z
UID:10000819-1897603200-1897689599@www.your624.org
SUMMARY:FIRE - A Shift
DESCRIPTION:
URL:https://www.your624.org/event/fire-a-shift/2030-02-18/
CATEGORIES:A Shift
ATTACH;FMTTYPE=image/png:https://www.your624.org/wp-content/uploads/2023/08/logo-300x300w.png
END:VEVENT
BEGIN:VEVENT
DTSTART;VALUE=DATE:20300221
DTEND;VALUE=DATE:20300222
DTSTAMP:20260423T035238
CREATED:20250812T185325Z
LAST-MODIFIED:20250812T185325Z
UID:10000820-1897862400-1897948799@www.your624.org
SUMMARY:FIRE - A Shift
DESCRIPTION:
URL:https://www.your624.org/event/fire-a-shift/2030-02-21/
CATEGORIES:A Shift
ATTACH;FMTTYPE=image/png:https://www.your624.org/wp-content/uploads/2023/08/logo-300x300w.png
END:VEVENT
BEGIN:VEVENT
DTSTART;VALUE=DATE:20300224
DTEND;VALUE=DATE:20300225
DTSTAMP:20260423T035238
CREATED:20250812T185325Z
LAST-MODIFIED:20250812T185325Z
UID:10000821-1898121600-1898207999@www.your624.org
SUMMARY:FIRE - A Shift
DESCRIPTION:
URL:https://www.your624.org/event/fire-a-shift/2030-02-24/
CATEGORIES:A Shift
ATTACH;FMTTYPE=image/png:https://www.your624.org/wp-content/uploads/2023/08/logo-300x300w.png
END:VEVENT
BEGIN:VEVENT
DTSTART;VALUE=DATE:20300227
DTEND;VALUE=DATE:20300228
DTSTAMP:20260423T035238
CREATED:20250812T185325Z
LAST-MODIFIED:20250812T185325Z
UID:10000822-1898380800-1898467199@www.your624.org
SUMMARY:FIRE - A Shift
DESCRIPTION:
URL:https://www.your624.org/event/fire-a-shift/2030-02-27/
CATEGORIES:A Shift
ATTACH;FMTTYPE=image/png:https://www.your624.org/wp-content/uploads/2023/08/logo-300x300w.png
END:VEVENT
BEGIN:VEVENT
DTSTART;VALUE=DATE:20300302
DTEND;VALUE=DATE:20300303
DTSTAMP:20260423T035238
CREATED:20250812T185325Z
LAST-MODIFIED:20250812T185325Z
UID:10000823-1898640000-1898726399@www.your624.org
SUMMARY:FIRE - A Shift
DESCRIPTION:
URL:https://www.your624.org/event/fire-a-shift/2030-03-02/
CATEGORIES:A Shift
ATTACH;FMTTYPE=image/png:https://www.your624.org/wp-content/uploads/2023/08/logo-300x300w.png
END:VEVENT
BEGIN:VEVENT
DTSTART;VALUE=DATE:20300305
DTEND;VALUE=DATE:20300306
DTSTAMP:20260423T035238
CREATED:20250812T185325Z
LAST-MODIFIED:20250812T185325Z
UID:10000824-1898899200-1898985599@www.your624.org
SUMMARY:FIRE - A Shift
DESCRIPTION:
URL:https://www.your624.org/event/fire-a-shift/2030-03-05/
CATEGORIES:A Shift
ATTACH;FMTTYPE=image/png:https://www.your624.org/wp-content/uploads/2023/08/logo-300x300w.png
END:VEVENT
BEGIN:VEVENT
DTSTART;VALUE=DATE:20300308
DTEND;VALUE=DATE:20300309
DTSTAMP:20260423T035238
CREATED:20250812T185325Z
LAST-MODIFIED:20250812T185325Z
UID:10000825-1899158400-1899244799@www.your624.org
SUMMARY:FIRE - A Shift
DESCRIPTION:
URL:https://www.your624.org/event/fire-a-shift/2030-03-08/
CATEGORIES:A Shift
ATTACH;FMTTYPE=image/png:https://www.your624.org/wp-content/uploads/2023/08/logo-300x300w.png
END:VEVENT
BEGIN:VEVENT
DTSTART;VALUE=DATE:20300311
DTEND;VALUE=DATE:20300312
DTSTAMP:20260423T035238
CREATED:20250812T185325Z
LAST-MODIFIED:20250812T185325Z
UID:10000826-1899417600-1899503999@www.your624.org
SUMMARY:FIRE - A Shift
DESCRIPTION:
URL:https://www.your624.org/event/fire-a-shift/2030-03-11/
CATEGORIES:A Shift
ATTACH;FMTTYPE=image/png:https://www.your624.org/wp-content/uploads/2023/08/logo-300x300w.png
END:VEVENT
BEGIN:VEVENT
DTSTART;VALUE=DATE:20300314
DTEND;VALUE=DATE:20300315
DTSTAMP:20260423T035238
CREATED:20250812T185325Z
LAST-MODIFIED:20250812T185325Z
UID:10000827-1899676800-1899763199@www.your624.org
SUMMARY:FIRE - A Shift
DESCRIPTION:
URL:https://www.your624.org/event/fire-a-shift/2030-03-14/
CATEGORIES:A Shift
ATTACH;FMTTYPE=image/png:https://www.your624.org/wp-content/uploads/2023/08/logo-300x300w.png
END:VEVENT
BEGIN:VEVENT
DTSTART;VALUE=DATE:20300317
DTEND;VALUE=DATE:20300318
DTSTAMP:20260423T035238
CREATED:20250812T185325Z
LAST-MODIFIED:20250812T185325Z
UID:10000828-1899936000-1900022399@www.your624.org
SUMMARY:FIRE - A Shift
DESCRIPTION:
URL:https://www.your624.org/event/fire-a-shift/2030-03-17/
CATEGORIES:A Shift
ATTACH;FMTTYPE=image/png:https://www.your624.org/wp-content/uploads/2023/08/logo-300x300w.png
END:VEVENT
BEGIN:VEVENT
DTSTART;VALUE=DATE:20300320
DTEND;VALUE=DATE:20300321
DTSTAMP:20260423T035238
CREATED:20250812T185325Z
LAST-MODIFIED:20250812T185325Z
UID:10000829-1900195200-1900281599@www.your624.org
SUMMARY:FIRE - A Shift
DESCRIPTION:
URL:https://www.your624.org/event/fire-a-shift/2030-03-20/
CATEGORIES:A Shift
ATTACH;FMTTYPE=image/png:https://www.your624.org/wp-content/uploads/2023/08/logo-300x300w.png
END:VEVENT
BEGIN:VEVENT
DTSTART;VALUE=DATE:20300323
DTEND;VALUE=DATE:20300324
DTSTAMP:20260423T035238
CREATED:20250812T185325Z
LAST-MODIFIED:20250812T185325Z
UID:10000830-1900454400-1900540799@www.your624.org
SUMMARY:FIRE - A Shift
DESCRIPTION:
URL:https://www.your624.org/event/fire-a-shift/2030-03-23/
CATEGORIES:A Shift
ATTACH;FMTTYPE=image/png:https://www.your624.org/wp-content/uploads/2023/08/logo-300x300w.png
END:VEVENT
BEGIN:VEVENT
DTSTART;VALUE=DATE:20300326
DTEND;VALUE=DATE:20300327
DTSTAMP:20260423T035238
CREATED:20250812T185325Z
LAST-MODIFIED:20250812T185325Z
UID:10000831-1900713600-1900799999@www.your624.org
SUMMARY:FIRE - A Shift
DESCRIPTION:
URL:https://www.your624.org/event/fire-a-shift/2030-03-26/
CATEGORIES:A Shift
ATTACH;FMTTYPE=image/png:https://www.your624.org/wp-content/uploads/2023/08/logo-300x300w.png
END:VEVENT
BEGIN:VEVENT
DTSTART;VALUE=DATE:20300329
DTEND;VALUE=DATE:20300330
DTSTAMP:20260423T035238
CREATED:20250812T185325Z
LAST-MODIFIED:20250812T185325Z
UID:10000832-1900972800-1901059199@www.your624.org
SUMMARY:FIRE - A Shift
DESCRIPTION:
URL:https://www.your624.org/event/fire-a-shift/2030-03-29/
CATEGORIES:A Shift
ATTACH;FMTTYPE=image/png:https://www.your624.org/wp-content/uploads/2023/08/logo-300x300w.png
END:VEVENT
BEGIN:VEVENT
DTSTART;VALUE=DATE:20300401
DTEND;VALUE=DATE:20300402
DTSTAMP:20260423T035238
CREATED:20250812T185325Z
LAST-MODIFIED:20250812T185325Z
UID:10000833-1901232000-1901318399@www.your624.org
SUMMARY:FIRE - A Shift
DESCRIPTION:
URL:https://www.your624.org/event/fire-a-shift/2030-04-01/
CATEGORIES:A Shift
ATTACH;FMTTYPE=image/png:https://www.your624.org/wp-content/uploads/2023/08/logo-300x300w.png
END:VEVENT
BEGIN:VEVENT
DTSTART;VALUE=DATE:20300404
DTEND;VALUE=DATE:20300405
DTSTAMP:20260423T035238
CREATED:20250812T185325Z
LAST-MODIFIED:20250812T185325Z
UID:10000834-1901491200-1901577599@www.your624.org
SUMMARY:FIRE - A Shift
DESCRIPTION:
URL:https://www.your624.org/event/fire-a-shift/2030-04-04/
CATEGORIES:A Shift
ATTACH;FMTTYPE=image/png:https://www.your624.org/wp-content/uploads/2023/08/logo-300x300w.png
END:VEVENT
BEGIN:VEVENT
DTSTART;VALUE=DATE:20300407
DTEND;VALUE=DATE:20300408
DTSTAMP:20260423T035238
CREATED:20250812T185325Z
LAST-MODIFIED:20250812T185325Z
UID:10000835-1901750400-1901836799@www.your624.org
SUMMARY:FIRE - A Shift
DESCRIPTION:
URL:https://www.your624.org/event/fire-a-shift/2030-04-07/
CATEGORIES:A Shift
ATTACH;FMTTYPE=image/png:https://www.your624.org/wp-content/uploads/2023/08/logo-300x300w.png
END:VEVENT
BEGIN:VEVENT
DTSTART;VALUE=DATE:20300410
DTEND;VALUE=DATE:20300411
DTSTAMP:20260423T035238
CREATED:20250812T185325Z
LAST-MODIFIED:20250812T185325Z
UID:10000836-1902009600-1902095999@www.your624.org
SUMMARY:FIRE - A Shift
DESCRIPTION:
URL:https://www.your624.org/event/fire-a-shift/2030-04-10/
CATEGORIES:A Shift
ATTACH;FMTTYPE=image/png:https://www.your624.org/wp-content/uploads/2023/08/logo-300x300w.png
END:VEVENT
BEGIN:VEVENT
DTSTART;VALUE=DATE:20300413
DTEND;VALUE=DATE:20300414
DTSTAMP:20260423T035238
CREATED:20250812T185325Z
LAST-MODIFIED:20250812T185325Z
UID:10000837-1902268800-1902355199@www.your624.org
SUMMARY:FIRE - A Shift
DESCRIPTION:
URL:https://www.your624.org/event/fire-a-shift/2030-04-13/
CATEGORIES:A Shift
ATTACH;FMTTYPE=image/png:https://www.your624.org/wp-content/uploads/2023/08/logo-300x300w.png
END:VEVENT
BEGIN:VEVENT
DTSTART;VALUE=DATE:20300416
DTEND;VALUE=DATE:20300417
DTSTAMP:20260423T035238
CREATED:20250812T185325Z
LAST-MODIFIED:20250812T185325Z
UID:10000838-1902528000-1902614399@www.your624.org
SUMMARY:FIRE - A Shift
DESCRIPTION:
URL:https://www.your624.org/event/fire-a-shift/2030-04-16/
CATEGORIES:A Shift
ATTACH;FMTTYPE=image/png:https://www.your624.org/wp-content/uploads/2023/08/logo-300x300w.png
END:VEVENT
BEGIN:VEVENT
DTSTART;VALUE=DATE:20300419
DTEND;VALUE=DATE:20300420
DTSTAMP:20260423T035238
CREATED:20250812T185325Z
LAST-MODIFIED:20250812T185325Z
UID:10000839-1902787200-1902873599@www.your624.org
SUMMARY:FIRE - A Shift
DESCRIPTION:
URL:https://www.your624.org/event/fire-a-shift/2030-04-19/
CATEGORIES:A Shift
ATTACH;FMTTYPE=image/png:https://www.your624.org/wp-content/uploads/2023/08/logo-300x300w.png
END:VEVENT
BEGIN:VEVENT
DTSTART;VALUE=DATE:20300422
DTEND;VALUE=DATE:20300423
DTSTAMP:20260423T035238
CREATED:20250812T185325Z
LAST-MODIFIED:20250812T185325Z
UID:10000840-1903046400-1903132799@www.your624.org
SUMMARY:FIRE - A Shift
DESCRIPTION:
URL:https://www.your624.org/event/fire-a-shift/2030-04-22/
CATEGORIES:A Shift
ATTACH;FMTTYPE=image/png:https://www.your624.org/wp-content/uploads/2023/08/logo-300x300w.png
END:VEVENT
END:VCALENDAR