BEGIN:VCALENDAR
VERSION:2.0
PRODID:-//San Antonio Professional Firefighters Association - ECPv6.15.20//NONSGML v1.0//EN
CALSCALE:GREGORIAN
METHOD:PUBLISH
X-ORIGINAL-URL:https://www.your624.org
X-WR-CALDESC:Events for San Antonio Professional Firefighters Association
REFRESH-INTERVAL;VALUE=DURATION:PT1H
X-Robots-Tag:noindex
X-PUBLISHED-TTL:PT1H
BEGIN:VTIMEZONE
TZID:America/New_York
BEGIN:DAYLIGHT
TZOFFSETFROM:-0500
TZOFFSETTO:-0400
TZNAME:EDT
DTSTART:20230312T070000
END:DAYLIGHT
BEGIN:STANDARD
TZOFFSETFROM:-0400
TZOFFSETTO:-0500
TZNAME:EST
DTSTART:20231105T060000
END:STANDARD
BEGIN:DAYLIGHT
TZOFFSETFROM:-0500
TZOFFSETTO:-0400
TZNAME:EDT
DTSTART:20240310T070000
END:DAYLIGHT
BEGIN:STANDARD
TZOFFSETFROM:-0400
TZOFFSETTO:-0500
TZNAME:EST
DTSTART:20241103T060000
END:STANDARD
BEGIN:DAYLIGHT
TZOFFSETFROM:-0500
TZOFFSETTO:-0400
TZNAME:EDT
DTSTART:20250309T070000
END:DAYLIGHT
BEGIN:STANDARD
TZOFFSETFROM:-0400
TZOFFSETTO:-0500
TZNAME:EST
DTSTART:20251102T060000
END:STANDARD
END:VTIMEZONE
BEGIN:VEVENT
DTSTART;VALUE=DATE:20241002
DTEND;VALUE=DATE:20241003
DTSTAMP:20260424T003911
CREATED:20250812T185704Z
LAST-MODIFIED:20250812T185704Z
UID:10002535-1727827200-1727913599@www.your624.org
SUMMARY:EMS - B Shift
DESCRIPTION:
URL:https://www.your624.org/event/ems-b-shift/2024-10-02/
CATEGORIES:B Shift EMS
ATTACH;FMTTYPE=image/png:https://www.your624.org/wp-content/uploads/2023/08/logo-300x300w.png
END:VEVENT
BEGIN:VEVENT
DTSTART;VALUE=DATE:20241006
DTEND;VALUE=DATE:20241007
DTSTAMP:20260424T003911
CREATED:20250812T185704Z
LAST-MODIFIED:20250812T185704Z
UID:10002536-1728172800-1728259199@www.your624.org
SUMMARY:EMS - B Shift
DESCRIPTION:
URL:https://www.your624.org/event/ems-b-shift/2024-10-06/
CATEGORIES:B Shift EMS
ATTACH;FMTTYPE=image/png:https://www.your624.org/wp-content/uploads/2023/08/logo-300x300w.png
END:VEVENT
BEGIN:VEVENT
DTSTART;VALUE=DATE:20241010
DTEND;VALUE=DATE:20241011
DTSTAMP:20260424T003911
CREATED:20250812T185704Z
LAST-MODIFIED:20250812T185704Z
UID:10002537-1728518400-1728604799@www.your624.org
SUMMARY:EMS - B Shift
DESCRIPTION:
URL:https://www.your624.org/event/ems-b-shift/2024-10-10/
CATEGORIES:B Shift EMS
ATTACH;FMTTYPE=image/png:https://www.your624.org/wp-content/uploads/2023/08/logo-300x300w.png
END:VEVENT
BEGIN:VEVENT
DTSTART;VALUE=DATE:20241014
DTEND;VALUE=DATE:20241015
DTSTAMP:20260424T003911
CREATED:20250812T185704Z
LAST-MODIFIED:20250812T185704Z
UID:10002538-1728864000-1728950399@www.your624.org
SUMMARY:EMS - B Shift
DESCRIPTION:
URL:https://www.your624.org/event/ems-b-shift/2024-10-14/
CATEGORIES:B Shift EMS
ATTACH;FMTTYPE=image/png:https://www.your624.org/wp-content/uploads/2023/08/logo-300x300w.png
END:VEVENT
BEGIN:VEVENT
DTSTART;VALUE=DATE:20241018
DTEND;VALUE=DATE:20241019
DTSTAMP:20260424T003911
CREATED:20250812T185704Z
LAST-MODIFIED:20250812T185704Z
UID:10002539-1729209600-1729295999@www.your624.org
SUMMARY:EMS - B Shift
DESCRIPTION:
URL:https://www.your624.org/event/ems-b-shift/2024-10-18/
CATEGORIES:B Shift EMS
ATTACH;FMTTYPE=image/png:https://www.your624.org/wp-content/uploads/2023/08/logo-300x300w.png
END:VEVENT
BEGIN:VEVENT
DTSTART;VALUE=DATE:20241022
DTEND;VALUE=DATE:20241023
DTSTAMP:20260424T003911
CREATED:20250812T185704Z
LAST-MODIFIED:20250812T185704Z
UID:10002540-1729555200-1729641599@www.your624.org
SUMMARY:EMS - B Shift
DESCRIPTION:
URL:https://www.your624.org/event/ems-b-shift/2024-10-22/
CATEGORIES:B Shift EMS
ATTACH;FMTTYPE=image/png:https://www.your624.org/wp-content/uploads/2023/08/logo-300x300w.png
END:VEVENT
BEGIN:VEVENT
DTSTART;VALUE=DATE:20241026
DTEND;VALUE=DATE:20241027
DTSTAMP:20260424T003911
CREATED:20250812T185704Z
LAST-MODIFIED:20250812T185704Z
UID:10002541-1729900800-1729987199@www.your624.org
SUMMARY:EMS - B Shift
DESCRIPTION:
URL:https://www.your624.org/event/ems-b-shift/2024-10-26/
CATEGORIES:B Shift EMS
ATTACH;FMTTYPE=image/png:https://www.your624.org/wp-content/uploads/2023/08/logo-300x300w.png
END:VEVENT
BEGIN:VEVENT
DTSTART;VALUE=DATE:20241030
DTEND;VALUE=DATE:20241031
DTSTAMP:20260424T003911
CREATED:20250812T185704Z
LAST-MODIFIED:20250812T185704Z
UID:10002542-1730246400-1730332799@www.your624.org
SUMMARY:EMS - B Shift
DESCRIPTION:
URL:https://www.your624.org/event/ems-b-shift/2024-10-30/
CATEGORIES:B Shift EMS
ATTACH;FMTTYPE=image/png:https://www.your624.org/wp-content/uploads/2023/08/logo-300x300w.png
END:VEVENT
END:VCALENDAR