BEGIN:VCALENDAR
VERSION:2.0
PRODID:-//San Antonio Professional Firefighters Association - ECPv6.15.20//NONSGML v1.0//EN
CALSCALE:GREGORIAN
METHOD:PUBLISH
X-ORIGINAL-URL:https://www.your624.org
X-WR-CALDESC:Events for San Antonio Professional Firefighters Association
REFRESH-INTERVAL;VALUE=DURATION:PT1H
X-Robots-Tag:noindex
X-PUBLISHED-TTL:PT1H
BEGIN:VTIMEZONE
TZID:America/New_York
BEGIN:DAYLIGHT
TZOFFSETFROM:-0500
TZOFFSETTO:-0400
TZNAME:EDT
DTSTART:20270314T070000
END:DAYLIGHT
BEGIN:STANDARD
TZOFFSETFROM:-0400
TZOFFSETTO:-0500
TZNAME:EST
DTSTART:20271107T060000
END:STANDARD
BEGIN:DAYLIGHT
TZOFFSETFROM:-0500
TZOFFSETTO:-0400
TZNAME:EDT
DTSTART:20280312T070000
END:DAYLIGHT
BEGIN:STANDARD
TZOFFSETFROM:-0400
TZOFFSETTO:-0500
TZNAME:EST
DTSTART:20281105T060000
END:STANDARD
BEGIN:DAYLIGHT
TZOFFSETFROM:-0500
TZOFFSETTO:-0400
TZNAME:EDT
DTSTART:20290311T070000
END:DAYLIGHT
BEGIN:STANDARD
TZOFFSETFROM:-0400
TZOFFSETTO:-0500
TZNAME:EST
DTSTART:20291104T060000
END:STANDARD
END:VTIMEZONE
BEGIN:VEVENT
DTSTART;VALUE=DATE:20280801
DTEND;VALUE=DATE:20280802
DTSTAMP:20260421T030341
CREATED:20250812T185553Z
LAST-MODIFIED:20250812T185553Z
UID:10002165-1848700800-1848787199@www.your624.org
SUMMARY:FIRE - B Shift
DESCRIPTION:
URL:https://www.your624.org/event/fire-b-shift/2028-08-01/
CATEGORIES:B Shift
ATTACH;FMTTYPE=image/png:https://www.your624.org/wp-content/uploads/2023/08/logo-300x300w.png
END:VEVENT
BEGIN:VEVENT
DTSTART;VALUE=DATE:20280804
DTEND;VALUE=DATE:20280805
DTSTAMP:20260421T030341
CREATED:20250812T185553Z
LAST-MODIFIED:20250812T185553Z
UID:10002166-1848960000-1849046399@www.your624.org
SUMMARY:FIRE - B Shift
DESCRIPTION:
URL:https://www.your624.org/event/fire-b-shift/2028-08-04/
CATEGORIES:B Shift
ATTACH;FMTTYPE=image/png:https://www.your624.org/wp-content/uploads/2023/08/logo-300x300w.png
END:VEVENT
BEGIN:VEVENT
DTSTART;VALUE=DATE:20280807
DTEND;VALUE=DATE:20280808
DTSTAMP:20260421T030341
CREATED:20250812T185553Z
LAST-MODIFIED:20250812T185553Z
UID:10002167-1849219200-1849305599@www.your624.org
SUMMARY:FIRE - B Shift
DESCRIPTION:
URL:https://www.your624.org/event/fire-b-shift/2028-08-07/
CATEGORIES:B Shift
ATTACH;FMTTYPE=image/png:https://www.your624.org/wp-content/uploads/2023/08/logo-300x300w.png
END:VEVENT
BEGIN:VEVENT
DTSTART;VALUE=DATE:20280810
DTEND;VALUE=DATE:20280811
DTSTAMP:20260421T030341
CREATED:20250812T185553Z
LAST-MODIFIED:20250812T185553Z
UID:10002168-1849478400-1849564799@www.your624.org
SUMMARY:FIRE - B Shift
DESCRIPTION:
URL:https://www.your624.org/event/fire-b-shift/2028-08-10/
CATEGORIES:B Shift
ATTACH;FMTTYPE=image/png:https://www.your624.org/wp-content/uploads/2023/08/logo-300x300w.png
END:VEVENT
BEGIN:VEVENT
DTSTART;VALUE=DATE:20280813
DTEND;VALUE=DATE:20280814
DTSTAMP:20260421T030341
CREATED:20250812T185553Z
LAST-MODIFIED:20250812T185553Z
UID:10002169-1849737600-1849823999@www.your624.org
SUMMARY:FIRE - B Shift
DESCRIPTION:
URL:https://www.your624.org/event/fire-b-shift/2028-08-13/
CATEGORIES:B Shift
ATTACH;FMTTYPE=image/png:https://www.your624.org/wp-content/uploads/2023/08/logo-300x300w.png
END:VEVENT
BEGIN:VEVENT
DTSTART;VALUE=DATE:20280816
DTEND;VALUE=DATE:20280817
DTSTAMP:20260421T030341
CREATED:20250812T185553Z
LAST-MODIFIED:20250812T185553Z
UID:10002170-1849996800-1850083199@www.your624.org
SUMMARY:FIRE - B Shift
DESCRIPTION:
URL:https://www.your624.org/event/fire-b-shift/2028-08-16/
CATEGORIES:B Shift
ATTACH;FMTTYPE=image/png:https://www.your624.org/wp-content/uploads/2023/08/logo-300x300w.png
END:VEVENT
BEGIN:VEVENT
DTSTART;VALUE=DATE:20280819
DTEND;VALUE=DATE:20280820
DTSTAMP:20260421T030341
CREATED:20250812T185553Z
LAST-MODIFIED:20250812T185553Z
UID:10002171-1850256000-1850342399@www.your624.org
SUMMARY:FIRE - B Shift
DESCRIPTION:
URL:https://www.your624.org/event/fire-b-shift/2028-08-19/
CATEGORIES:B Shift
ATTACH;FMTTYPE=image/png:https://www.your624.org/wp-content/uploads/2023/08/logo-300x300w.png
END:VEVENT
BEGIN:VEVENT
DTSTART;VALUE=DATE:20280822
DTEND;VALUE=DATE:20280823
DTSTAMP:20260421T030341
CREATED:20250812T185553Z
LAST-MODIFIED:20250812T185553Z
UID:10002172-1850515200-1850601599@www.your624.org
SUMMARY:FIRE - B Shift
DESCRIPTION:
URL:https://www.your624.org/event/fire-b-shift/2028-08-22/
CATEGORIES:B Shift
ATTACH;FMTTYPE=image/png:https://www.your624.org/wp-content/uploads/2023/08/logo-300x300w.png
END:VEVENT
BEGIN:VEVENT
DTSTART;VALUE=DATE:20280825
DTEND;VALUE=DATE:20280826
DTSTAMP:20260421T030341
CREATED:20250812T185553Z
LAST-MODIFIED:20250812T185553Z
UID:10002173-1850774400-1850860799@www.your624.org
SUMMARY:FIRE - B Shift
DESCRIPTION:
URL:https://www.your624.org/event/fire-b-shift/2028-08-25/
CATEGORIES:B Shift
ATTACH;FMTTYPE=image/png:https://www.your624.org/wp-content/uploads/2023/08/logo-300x300w.png
END:VEVENT
BEGIN:VEVENT
DTSTART;VALUE=DATE:20280828
DTEND;VALUE=DATE:20280829
DTSTAMP:20260421T030341
CREATED:20250812T185553Z
LAST-MODIFIED:20250812T185553Z
UID:10002174-1851033600-1851119999@www.your624.org
SUMMARY:FIRE - B Shift
DESCRIPTION:
URL:https://www.your624.org/event/fire-b-shift/2028-08-28/
CATEGORIES:B Shift
ATTACH;FMTTYPE=image/png:https://www.your624.org/wp-content/uploads/2023/08/logo-300x300w.png
END:VEVENT
BEGIN:VEVENT
DTSTART;VALUE=DATE:20280831
DTEND;VALUE=DATE:20280901
DTSTAMP:20260421T030341
CREATED:20250812T185553Z
LAST-MODIFIED:20250812T185553Z
UID:10002175-1851292800-1851379199@www.your624.org
SUMMARY:FIRE - B Shift
DESCRIPTION:
URL:https://www.your624.org/event/fire-b-shift/2028-08-31/
CATEGORIES:B Shift
ATTACH;FMTTYPE=image/png:https://www.your624.org/wp-content/uploads/2023/08/logo-300x300w.png
END:VEVENT
BEGIN:VEVENT
DTSTART;VALUE=DATE:20280903
DTEND;VALUE=DATE:20280904
DTSTAMP:20260421T030341
CREATED:20250812T185553Z
LAST-MODIFIED:20250812T185553Z
UID:10002176-1851552000-1851638399@www.your624.org
SUMMARY:FIRE - B Shift
DESCRIPTION:
URL:https://www.your624.org/event/fire-b-shift/2028-09-03/
CATEGORIES:B Shift
ATTACH;FMTTYPE=image/png:https://www.your624.org/wp-content/uploads/2023/08/logo-300x300w.png
END:VEVENT
BEGIN:VEVENT
DTSTART;VALUE=DATE:20280906
DTEND;VALUE=DATE:20280907
DTSTAMP:20260421T030341
CREATED:20250812T185553Z
LAST-MODIFIED:20250812T185553Z
UID:10002177-1851811200-1851897599@www.your624.org
SUMMARY:FIRE - B Shift
DESCRIPTION:
URL:https://www.your624.org/event/fire-b-shift/2028-09-06/
CATEGORIES:B Shift
ATTACH;FMTTYPE=image/png:https://www.your624.org/wp-content/uploads/2023/08/logo-300x300w.png
END:VEVENT
BEGIN:VEVENT
DTSTART;VALUE=DATE:20280909
DTEND;VALUE=DATE:20280910
DTSTAMP:20260421T030341
CREATED:20250812T185553Z
LAST-MODIFIED:20250812T185553Z
UID:10002178-1852070400-1852156799@www.your624.org
SUMMARY:FIRE - B Shift
DESCRIPTION:
URL:https://www.your624.org/event/fire-b-shift/2028-09-09/
CATEGORIES:B Shift
ATTACH;FMTTYPE=image/png:https://www.your624.org/wp-content/uploads/2023/08/logo-300x300w.png
END:VEVENT
BEGIN:VEVENT
DTSTART;VALUE=DATE:20280912
DTEND;VALUE=DATE:20280913
DTSTAMP:20260421T030341
CREATED:20250812T185553Z
LAST-MODIFIED:20250812T185553Z
UID:10002179-1852329600-1852415999@www.your624.org
SUMMARY:FIRE - B Shift
DESCRIPTION:
URL:https://www.your624.org/event/fire-b-shift/2028-09-12/
CATEGORIES:B Shift
ATTACH;FMTTYPE=image/png:https://www.your624.org/wp-content/uploads/2023/08/logo-300x300w.png
END:VEVENT
BEGIN:VEVENT
DTSTART;VALUE=DATE:20280915
DTEND;VALUE=DATE:20280916
DTSTAMP:20260421T030341
CREATED:20250812T185553Z
LAST-MODIFIED:20250812T185553Z
UID:10002180-1852588800-1852675199@www.your624.org
SUMMARY:FIRE - B Shift
DESCRIPTION:
URL:https://www.your624.org/event/fire-b-shift/2028-09-15/
CATEGORIES:B Shift
ATTACH;FMTTYPE=image/png:https://www.your624.org/wp-content/uploads/2023/08/logo-300x300w.png
END:VEVENT
BEGIN:VEVENT
DTSTART;VALUE=DATE:20280918
DTEND;VALUE=DATE:20280919
DTSTAMP:20260421T030341
CREATED:20250812T185553Z
LAST-MODIFIED:20250812T185553Z
UID:10002181-1852848000-1852934399@www.your624.org
SUMMARY:FIRE - B Shift
DESCRIPTION:
URL:https://www.your624.org/event/fire-b-shift/2028-09-18/
CATEGORIES:B Shift
ATTACH;FMTTYPE=image/png:https://www.your624.org/wp-content/uploads/2023/08/logo-300x300w.png
END:VEVENT
BEGIN:VEVENT
DTSTART;VALUE=DATE:20280921
DTEND;VALUE=DATE:20280922
DTSTAMP:20260421T030341
CREATED:20250812T185553Z
LAST-MODIFIED:20250812T185553Z
UID:10002182-1853107200-1853193599@www.your624.org
SUMMARY:FIRE - B Shift
DESCRIPTION:
URL:https://www.your624.org/event/fire-b-shift/2028-09-21/
CATEGORIES:B Shift
ATTACH;FMTTYPE=image/png:https://www.your624.org/wp-content/uploads/2023/08/logo-300x300w.png
END:VEVENT
BEGIN:VEVENT
DTSTART;VALUE=DATE:20280924
DTEND;VALUE=DATE:20280925
DTSTAMP:20260421T030341
CREATED:20250812T185553Z
LAST-MODIFIED:20250812T185553Z
UID:10002183-1853366400-1853452799@www.your624.org
SUMMARY:FIRE - B Shift
DESCRIPTION:
URL:https://www.your624.org/event/fire-b-shift/2028-09-24/
CATEGORIES:B Shift
ATTACH;FMTTYPE=image/png:https://www.your624.org/wp-content/uploads/2023/08/logo-300x300w.png
END:VEVENT
BEGIN:VEVENT
DTSTART;VALUE=DATE:20280927
DTEND;VALUE=DATE:20280928
DTSTAMP:20260421T030341
CREATED:20250812T185553Z
LAST-MODIFIED:20250812T185553Z
UID:10002184-1853625600-1853711999@www.your624.org
SUMMARY:FIRE - B Shift
DESCRIPTION:
URL:https://www.your624.org/event/fire-b-shift/2028-09-27/
CATEGORIES:B Shift
ATTACH;FMTTYPE=image/png:https://www.your624.org/wp-content/uploads/2023/08/logo-300x300w.png
END:VEVENT
BEGIN:VEVENT
DTSTART;VALUE=DATE:20280930
DTEND;VALUE=DATE:20281001
DTSTAMP:20260421T030341
CREATED:20250812T185553Z
LAST-MODIFIED:20250812T185553Z
UID:10002185-1853884800-1853971199@www.your624.org
SUMMARY:FIRE - B Shift
DESCRIPTION:
URL:https://www.your624.org/event/fire-b-shift/2028-09-30/
CATEGORIES:B Shift
ATTACH;FMTTYPE=image/png:https://www.your624.org/wp-content/uploads/2023/08/logo-300x300w.png
END:VEVENT
BEGIN:VEVENT
DTSTART;VALUE=DATE:20281003
DTEND;VALUE=DATE:20281004
DTSTAMP:20260421T030341
CREATED:20250812T185553Z
LAST-MODIFIED:20250812T185553Z
UID:10002186-1854144000-1854230399@www.your624.org
SUMMARY:FIRE - B Shift
DESCRIPTION:
URL:https://www.your624.org/event/fire-b-shift/2028-10-03/
CATEGORIES:B Shift
ATTACH;FMTTYPE=image/png:https://www.your624.org/wp-content/uploads/2023/08/logo-300x300w.png
END:VEVENT
BEGIN:VEVENT
DTSTART;VALUE=DATE:20281006
DTEND;VALUE=DATE:20281007
DTSTAMP:20260421T030341
CREATED:20250812T185553Z
LAST-MODIFIED:20250812T185553Z
UID:10002187-1854403200-1854489599@www.your624.org
SUMMARY:FIRE - B Shift
DESCRIPTION:
URL:https://www.your624.org/event/fire-b-shift/2028-10-06/
CATEGORIES:B Shift
ATTACH;FMTTYPE=image/png:https://www.your624.org/wp-content/uploads/2023/08/logo-300x300w.png
END:VEVENT
BEGIN:VEVENT
DTSTART;VALUE=DATE:20281009
DTEND;VALUE=DATE:20281010
DTSTAMP:20260421T030341
CREATED:20250812T185553Z
LAST-MODIFIED:20250812T185553Z
UID:10002188-1854662400-1854748799@www.your624.org
SUMMARY:FIRE - B Shift
DESCRIPTION:
URL:https://www.your624.org/event/fire-b-shift/2028-10-09/
CATEGORIES:B Shift
ATTACH;FMTTYPE=image/png:https://www.your624.org/wp-content/uploads/2023/08/logo-300x300w.png
END:VEVENT
BEGIN:VEVENT
DTSTART;VALUE=DATE:20281012
DTEND;VALUE=DATE:20281013
DTSTAMP:20260421T030341
CREATED:20250812T185553Z
LAST-MODIFIED:20250812T185553Z
UID:10002189-1854921600-1855007999@www.your624.org
SUMMARY:FIRE - B Shift
DESCRIPTION:
URL:https://www.your624.org/event/fire-b-shift/2028-10-12/
CATEGORIES:B Shift
ATTACH;FMTTYPE=image/png:https://www.your624.org/wp-content/uploads/2023/08/logo-300x300w.png
END:VEVENT
BEGIN:VEVENT
DTSTART;VALUE=DATE:20281015
DTEND;VALUE=DATE:20281016
DTSTAMP:20260421T030341
CREATED:20250812T185553Z
LAST-MODIFIED:20250812T185553Z
UID:10002190-1855180800-1855267199@www.your624.org
SUMMARY:FIRE - B Shift
DESCRIPTION:
URL:https://www.your624.org/event/fire-b-shift/2028-10-15/
CATEGORIES:B Shift
ATTACH;FMTTYPE=image/png:https://www.your624.org/wp-content/uploads/2023/08/logo-300x300w.png
END:VEVENT
BEGIN:VEVENT
DTSTART;VALUE=DATE:20281018
DTEND;VALUE=DATE:20281019
DTSTAMP:20260421T030341
CREATED:20250812T185553Z
LAST-MODIFIED:20250812T185553Z
UID:10002191-1855440000-1855526399@www.your624.org
SUMMARY:FIRE - B Shift
DESCRIPTION:
URL:https://www.your624.org/event/fire-b-shift/2028-10-18/
CATEGORIES:B Shift
ATTACH;FMTTYPE=image/png:https://www.your624.org/wp-content/uploads/2023/08/logo-300x300w.png
END:VEVENT
BEGIN:VEVENT
DTSTART;VALUE=DATE:20281021
DTEND;VALUE=DATE:20281022
DTSTAMP:20260421T030341
CREATED:20250812T185553Z
LAST-MODIFIED:20250812T185553Z
UID:10002192-1855699200-1855785599@www.your624.org
SUMMARY:FIRE - B Shift
DESCRIPTION:
URL:https://www.your624.org/event/fire-b-shift/2028-10-21/
CATEGORIES:B Shift
ATTACH;FMTTYPE=image/png:https://www.your624.org/wp-content/uploads/2023/08/logo-300x300w.png
END:VEVENT
BEGIN:VEVENT
DTSTART;VALUE=DATE:20281024
DTEND;VALUE=DATE:20281025
DTSTAMP:20260421T030341
CREATED:20250812T185553Z
LAST-MODIFIED:20250812T185553Z
UID:10002193-1855958400-1856044799@www.your624.org
SUMMARY:FIRE - B Shift
DESCRIPTION:
URL:https://www.your624.org/event/fire-b-shift/2028-10-24/
CATEGORIES:B Shift
ATTACH;FMTTYPE=image/png:https://www.your624.org/wp-content/uploads/2023/08/logo-300x300w.png
END:VEVENT
BEGIN:VEVENT
DTSTART;VALUE=DATE:20281027
DTEND;VALUE=DATE:20281028
DTSTAMP:20260421T030341
CREATED:20250812T185553Z
LAST-MODIFIED:20250812T185553Z
UID:10002194-1856217600-1856303999@www.your624.org
SUMMARY:FIRE - B Shift
DESCRIPTION:
URL:https://www.your624.org/event/fire-b-shift/2028-10-27/
CATEGORIES:B Shift
ATTACH;FMTTYPE=image/png:https://www.your624.org/wp-content/uploads/2023/08/logo-300x300w.png
END:VEVENT
END:VCALENDAR