BEGIN:VCALENDAR
VERSION:2.0
PRODID:-//San Antonio Professional Firefighters Association - ECPv6.15.20//NONSGML v1.0//EN
CALSCALE:GREGORIAN
METHOD:PUBLISH
X-ORIGINAL-URL:https://www.your624.org
X-WR-CALDESC:Events for San Antonio Professional Firefighters Association
REFRESH-INTERVAL;VALUE=DURATION:PT1H
X-Robots-Tag:noindex
X-PUBLISHED-TTL:PT1H
BEGIN:VTIMEZONE
TZID:America/New_York
BEGIN:DAYLIGHT
TZOFFSETFROM:-0500
TZOFFSETTO:-0400
TZNAME:EDT
DTSTART:20280312T070000
END:DAYLIGHT
BEGIN:STANDARD
TZOFFSETFROM:-0400
TZOFFSETTO:-0500
TZNAME:EST
DTSTART:20281105T060000
END:STANDARD
BEGIN:DAYLIGHT
TZOFFSETFROM:-0500
TZOFFSETTO:-0400
TZNAME:EDT
DTSTART:20290311T070000
END:DAYLIGHT
BEGIN:STANDARD
TZOFFSETFROM:-0400
TZOFFSETTO:-0500
TZNAME:EST
DTSTART:20291104T060000
END:STANDARD
BEGIN:DAYLIGHT
TZOFFSETFROM:-0500
TZOFFSETTO:-0400
TZNAME:EDT
DTSTART:20300310T070000
END:DAYLIGHT
BEGIN:STANDARD
TZOFFSETFROM:-0400
TZOFFSETTO:-0500
TZNAME:EST
DTSTART:20301103T060000
END:STANDARD
END:VTIMEZONE
BEGIN:VEVENT
DTSTART;VALUE=DATE:20290516
DTEND;VALUE=DATE:20290517
DTSTAMP:20260424T112435
CREATED:20250812T185553Z
LAST-MODIFIED:20250812T185553Z
UID:10002261-1873584000-1873670399@www.your624.org
SUMMARY:FIRE - B Shift
DESCRIPTION:
URL:https://www.your624.org/event/fire-b-shift/2029-05-16/
CATEGORIES:B Shift
ATTACH;FMTTYPE=image/png:https://www.your624.org/wp-content/uploads/2023/08/logo-300x300w.png
END:VEVENT
BEGIN:VEVENT
DTSTART;VALUE=DATE:20290519
DTEND;VALUE=DATE:20290520
DTSTAMP:20260424T112435
CREATED:20250812T185553Z
LAST-MODIFIED:20250812T185553Z
UID:10002262-1873843200-1873929599@www.your624.org
SUMMARY:FIRE - B Shift
DESCRIPTION:
URL:https://www.your624.org/event/fire-b-shift/2029-05-19/
CATEGORIES:B Shift
ATTACH;FMTTYPE=image/png:https://www.your624.org/wp-content/uploads/2023/08/logo-300x300w.png
END:VEVENT
BEGIN:VEVENT
DTSTART;VALUE=DATE:20290522
DTEND;VALUE=DATE:20290523
DTSTAMP:20260424T112435
CREATED:20250812T185553Z
LAST-MODIFIED:20250812T185553Z
UID:10002263-1874102400-1874188799@www.your624.org
SUMMARY:FIRE - B Shift
DESCRIPTION:
URL:https://www.your624.org/event/fire-b-shift/2029-05-22/
CATEGORIES:B Shift
ATTACH;FMTTYPE=image/png:https://www.your624.org/wp-content/uploads/2023/08/logo-300x300w.png
END:VEVENT
BEGIN:VEVENT
DTSTART;VALUE=DATE:20290525
DTEND;VALUE=DATE:20290526
DTSTAMP:20260424T112435
CREATED:20250812T185553Z
LAST-MODIFIED:20250812T185553Z
UID:10002264-1874361600-1874447999@www.your624.org
SUMMARY:FIRE - B Shift
DESCRIPTION:
URL:https://www.your624.org/event/fire-b-shift/2029-05-25/
CATEGORIES:B Shift
ATTACH;FMTTYPE=image/png:https://www.your624.org/wp-content/uploads/2023/08/logo-300x300w.png
END:VEVENT
BEGIN:VEVENT
DTSTART;VALUE=DATE:20290528
DTEND;VALUE=DATE:20290529
DTSTAMP:20260424T112435
CREATED:20250812T185553Z
LAST-MODIFIED:20250812T185553Z
UID:10002265-1874620800-1874707199@www.your624.org
SUMMARY:FIRE - B Shift
DESCRIPTION:
URL:https://www.your624.org/event/fire-b-shift/2029-05-28/
CATEGORIES:B Shift
ATTACH;FMTTYPE=image/png:https://www.your624.org/wp-content/uploads/2023/08/logo-300x300w.png
END:VEVENT
BEGIN:VEVENT
DTSTART;VALUE=DATE:20290531
DTEND;VALUE=DATE:20290601
DTSTAMP:20260424T112435
CREATED:20250812T185553Z
LAST-MODIFIED:20250812T185553Z
UID:10002266-1874880000-1874966399@www.your624.org
SUMMARY:FIRE - B Shift
DESCRIPTION:
URL:https://www.your624.org/event/fire-b-shift/2029-05-31/
CATEGORIES:B Shift
ATTACH;FMTTYPE=image/png:https://www.your624.org/wp-content/uploads/2023/08/logo-300x300w.png
END:VEVENT
BEGIN:VEVENT
DTSTART;VALUE=DATE:20290603
DTEND;VALUE=DATE:20290604
DTSTAMP:20260424T112435
CREATED:20250812T185553Z
LAST-MODIFIED:20250812T185553Z
UID:10002267-1875139200-1875225599@www.your624.org
SUMMARY:FIRE - B Shift
DESCRIPTION:
URL:https://www.your624.org/event/fire-b-shift/2029-06-03/
CATEGORIES:B Shift
ATTACH;FMTTYPE=image/png:https://www.your624.org/wp-content/uploads/2023/08/logo-300x300w.png
END:VEVENT
BEGIN:VEVENT
DTSTART;VALUE=DATE:20290606
DTEND;VALUE=DATE:20290607
DTSTAMP:20260424T112435
CREATED:20250812T185553Z
LAST-MODIFIED:20250812T185553Z
UID:10002268-1875398400-1875484799@www.your624.org
SUMMARY:FIRE - B Shift
DESCRIPTION:
URL:https://www.your624.org/event/fire-b-shift/2029-06-06/
CATEGORIES:B Shift
ATTACH;FMTTYPE=image/png:https://www.your624.org/wp-content/uploads/2023/08/logo-300x300w.png
END:VEVENT
BEGIN:VEVENT
DTSTART;VALUE=DATE:20290609
DTEND;VALUE=DATE:20290610
DTSTAMP:20260424T112435
CREATED:20250812T185553Z
LAST-MODIFIED:20250812T185553Z
UID:10002269-1875657600-1875743999@www.your624.org
SUMMARY:FIRE - B Shift
DESCRIPTION:
URL:https://www.your624.org/event/fire-b-shift/2029-06-09/
CATEGORIES:B Shift
ATTACH;FMTTYPE=image/png:https://www.your624.org/wp-content/uploads/2023/08/logo-300x300w.png
END:VEVENT
BEGIN:VEVENT
DTSTART;VALUE=DATE:20290612
DTEND;VALUE=DATE:20290613
DTSTAMP:20260424T112435
CREATED:20250812T185553Z
LAST-MODIFIED:20250812T185553Z
UID:10002270-1875916800-1876003199@www.your624.org
SUMMARY:FIRE - B Shift
DESCRIPTION:
URL:https://www.your624.org/event/fire-b-shift/2029-06-12/
CATEGORIES:B Shift
ATTACH;FMTTYPE=image/png:https://www.your624.org/wp-content/uploads/2023/08/logo-300x300w.png
END:VEVENT
BEGIN:VEVENT
DTSTART;VALUE=DATE:20290615
DTEND;VALUE=DATE:20290616
DTSTAMP:20260424T112435
CREATED:20250812T185553Z
LAST-MODIFIED:20250812T185553Z
UID:10002271-1876176000-1876262399@www.your624.org
SUMMARY:FIRE - B Shift
DESCRIPTION:
URL:https://www.your624.org/event/fire-b-shift/2029-06-15/
CATEGORIES:B Shift
ATTACH;FMTTYPE=image/png:https://www.your624.org/wp-content/uploads/2023/08/logo-300x300w.png
END:VEVENT
BEGIN:VEVENT
DTSTART;VALUE=DATE:20290618
DTEND;VALUE=DATE:20290619
DTSTAMP:20260424T112435
CREATED:20250812T185553Z
LAST-MODIFIED:20250812T185553Z
UID:10002272-1876435200-1876521599@www.your624.org
SUMMARY:FIRE - B Shift
DESCRIPTION:
URL:https://www.your624.org/event/fire-b-shift/2029-06-18/
CATEGORIES:B Shift
ATTACH;FMTTYPE=image/png:https://www.your624.org/wp-content/uploads/2023/08/logo-300x300w.png
END:VEVENT
BEGIN:VEVENT
DTSTART;VALUE=DATE:20290621
DTEND;VALUE=DATE:20290622
DTSTAMP:20260424T112435
CREATED:20250812T185553Z
LAST-MODIFIED:20250812T185553Z
UID:10002273-1876694400-1876780799@www.your624.org
SUMMARY:FIRE - B Shift
DESCRIPTION:
URL:https://www.your624.org/event/fire-b-shift/2029-06-21/
CATEGORIES:B Shift
ATTACH;FMTTYPE=image/png:https://www.your624.org/wp-content/uploads/2023/08/logo-300x300w.png
END:VEVENT
BEGIN:VEVENT
DTSTART;VALUE=DATE:20290624
DTEND;VALUE=DATE:20290625
DTSTAMP:20260424T112435
CREATED:20250812T185553Z
LAST-MODIFIED:20250812T185553Z
UID:10002274-1876953600-1877039999@www.your624.org
SUMMARY:FIRE - B Shift
DESCRIPTION:
URL:https://www.your624.org/event/fire-b-shift/2029-06-24/
CATEGORIES:B Shift
ATTACH;FMTTYPE=image/png:https://www.your624.org/wp-content/uploads/2023/08/logo-300x300w.png
END:VEVENT
BEGIN:VEVENT
DTSTART;VALUE=DATE:20290627
DTEND;VALUE=DATE:20290628
DTSTAMP:20260424T112435
CREATED:20250812T185553Z
LAST-MODIFIED:20250812T185553Z
UID:10002275-1877212800-1877299199@www.your624.org
SUMMARY:FIRE - B Shift
DESCRIPTION:
URL:https://www.your624.org/event/fire-b-shift/2029-06-27/
CATEGORIES:B Shift
ATTACH;FMTTYPE=image/png:https://www.your624.org/wp-content/uploads/2023/08/logo-300x300w.png
END:VEVENT
BEGIN:VEVENT
DTSTART;VALUE=DATE:20290630
DTEND;VALUE=DATE:20290701
DTSTAMP:20260424T112435
CREATED:20250812T185553Z
LAST-MODIFIED:20250812T185553Z
UID:10002276-1877472000-1877558399@www.your624.org
SUMMARY:FIRE - B Shift
DESCRIPTION:
URL:https://www.your624.org/event/fire-b-shift/2029-06-30/
CATEGORIES:B Shift
ATTACH;FMTTYPE=image/png:https://www.your624.org/wp-content/uploads/2023/08/logo-300x300w.png
END:VEVENT
BEGIN:VEVENT
DTSTART;VALUE=DATE:20290703
DTEND;VALUE=DATE:20290704
DTSTAMP:20260424T112435
CREATED:20250812T185553Z
LAST-MODIFIED:20250812T185553Z
UID:10002277-1877731200-1877817599@www.your624.org
SUMMARY:FIRE - B Shift
DESCRIPTION:
URL:https://www.your624.org/event/fire-b-shift/2029-07-03/
CATEGORIES:B Shift
ATTACH;FMTTYPE=image/png:https://www.your624.org/wp-content/uploads/2023/08/logo-300x300w.png
END:VEVENT
BEGIN:VEVENT
DTSTART;VALUE=DATE:20290706
DTEND;VALUE=DATE:20290707
DTSTAMP:20260424T112435
CREATED:20250812T185553Z
LAST-MODIFIED:20250812T185553Z
UID:10002278-1877990400-1878076799@www.your624.org
SUMMARY:FIRE - B Shift
DESCRIPTION:
URL:https://www.your624.org/event/fire-b-shift/2029-07-06/
CATEGORIES:B Shift
ATTACH;FMTTYPE=image/png:https://www.your624.org/wp-content/uploads/2023/08/logo-300x300w.png
END:VEVENT
BEGIN:VEVENT
DTSTART;VALUE=DATE:20290709
DTEND;VALUE=DATE:20290710
DTSTAMP:20260424T112435
CREATED:20250812T185553Z
LAST-MODIFIED:20250812T185553Z
UID:10002279-1878249600-1878335999@www.your624.org
SUMMARY:FIRE - B Shift
DESCRIPTION:
URL:https://www.your624.org/event/fire-b-shift/2029-07-09/
CATEGORIES:B Shift
ATTACH;FMTTYPE=image/png:https://www.your624.org/wp-content/uploads/2023/08/logo-300x300w.png
END:VEVENT
BEGIN:VEVENT
DTSTART;VALUE=DATE:20290712
DTEND;VALUE=DATE:20290713
DTSTAMP:20260424T112435
CREATED:20250812T185553Z
LAST-MODIFIED:20250812T185553Z
UID:10002280-1878508800-1878595199@www.your624.org
SUMMARY:FIRE - B Shift
DESCRIPTION:
URL:https://www.your624.org/event/fire-b-shift/2029-07-12/
CATEGORIES:B Shift
ATTACH;FMTTYPE=image/png:https://www.your624.org/wp-content/uploads/2023/08/logo-300x300w.png
END:VEVENT
BEGIN:VEVENT
DTSTART;VALUE=DATE:20290715
DTEND;VALUE=DATE:20290716
DTSTAMP:20260424T112435
CREATED:20250812T185553Z
LAST-MODIFIED:20250812T185553Z
UID:10002281-1878768000-1878854399@www.your624.org
SUMMARY:FIRE - B Shift
DESCRIPTION:
URL:https://www.your624.org/event/fire-b-shift/2029-07-15/
CATEGORIES:B Shift
ATTACH;FMTTYPE=image/png:https://www.your624.org/wp-content/uploads/2023/08/logo-300x300w.png
END:VEVENT
BEGIN:VEVENT
DTSTART;VALUE=DATE:20290718
DTEND;VALUE=DATE:20290719
DTSTAMP:20260424T112435
CREATED:20250812T185553Z
LAST-MODIFIED:20250812T185553Z
UID:10002282-1879027200-1879113599@www.your624.org
SUMMARY:FIRE - B Shift
DESCRIPTION:
URL:https://www.your624.org/event/fire-b-shift/2029-07-18/
CATEGORIES:B Shift
ATTACH;FMTTYPE=image/png:https://www.your624.org/wp-content/uploads/2023/08/logo-300x300w.png
END:VEVENT
BEGIN:VEVENT
DTSTART;VALUE=DATE:20290721
DTEND;VALUE=DATE:20290722
DTSTAMP:20260424T112435
CREATED:20250812T185553Z
LAST-MODIFIED:20250812T185553Z
UID:10002283-1879286400-1879372799@www.your624.org
SUMMARY:FIRE - B Shift
DESCRIPTION:
URL:https://www.your624.org/event/fire-b-shift/2029-07-21/
CATEGORIES:B Shift
ATTACH;FMTTYPE=image/png:https://www.your624.org/wp-content/uploads/2023/08/logo-300x300w.png
END:VEVENT
BEGIN:VEVENT
DTSTART;VALUE=DATE:20290724
DTEND;VALUE=DATE:20290725
DTSTAMP:20260424T112435
CREATED:20250812T185553Z
LAST-MODIFIED:20250812T185553Z
UID:10002284-1879545600-1879631999@www.your624.org
SUMMARY:FIRE - B Shift
DESCRIPTION:
URL:https://www.your624.org/event/fire-b-shift/2029-07-24/
CATEGORIES:B Shift
ATTACH;FMTTYPE=image/png:https://www.your624.org/wp-content/uploads/2023/08/logo-300x300w.png
END:VEVENT
BEGIN:VEVENT
DTSTART;VALUE=DATE:20290727
DTEND;VALUE=DATE:20290728
DTSTAMP:20260424T112435
CREATED:20250812T185553Z
LAST-MODIFIED:20250812T185553Z
UID:10002285-1879804800-1879891199@www.your624.org
SUMMARY:FIRE - B Shift
DESCRIPTION:
URL:https://www.your624.org/event/fire-b-shift/2029-07-27/
CATEGORIES:B Shift
ATTACH;FMTTYPE=image/png:https://www.your624.org/wp-content/uploads/2023/08/logo-300x300w.png
END:VEVENT
BEGIN:VEVENT
DTSTART;VALUE=DATE:20290730
DTEND;VALUE=DATE:20290731
DTSTAMP:20260424T112435
CREATED:20250812T185553Z
LAST-MODIFIED:20250812T185553Z
UID:10002286-1880064000-1880150399@www.your624.org
SUMMARY:FIRE - B Shift
DESCRIPTION:
URL:https://www.your624.org/event/fire-b-shift/2029-07-30/
CATEGORIES:B Shift
ATTACH;FMTTYPE=image/png:https://www.your624.org/wp-content/uploads/2023/08/logo-300x300w.png
END:VEVENT
BEGIN:VEVENT
DTSTART;VALUE=DATE:20290802
DTEND;VALUE=DATE:20290803
DTSTAMP:20260424T112435
CREATED:20250812T185553Z
LAST-MODIFIED:20250812T185553Z
UID:10002287-1880323200-1880409599@www.your624.org
SUMMARY:FIRE - B Shift
DESCRIPTION:
URL:https://www.your624.org/event/fire-b-shift/2029-08-02/
CATEGORIES:B Shift
ATTACH;FMTTYPE=image/png:https://www.your624.org/wp-content/uploads/2023/08/logo-300x300w.png
END:VEVENT
BEGIN:VEVENT
DTSTART;VALUE=DATE:20290805
DTEND;VALUE=DATE:20290806
DTSTAMP:20260424T112435
CREATED:20250812T185553Z
LAST-MODIFIED:20250812T185553Z
UID:10002288-1880582400-1880668799@www.your624.org
SUMMARY:FIRE - B Shift
DESCRIPTION:
URL:https://www.your624.org/event/fire-b-shift/2029-08-05/
CATEGORIES:B Shift
ATTACH;FMTTYPE=image/png:https://www.your624.org/wp-content/uploads/2023/08/logo-300x300w.png
END:VEVENT
BEGIN:VEVENT
DTSTART;VALUE=DATE:20290808
DTEND;VALUE=DATE:20290809
DTSTAMP:20260424T112435
CREATED:20250812T185553Z
LAST-MODIFIED:20250812T185553Z
UID:10002289-1880841600-1880927999@www.your624.org
SUMMARY:FIRE - B Shift
DESCRIPTION:
URL:https://www.your624.org/event/fire-b-shift/2029-08-08/
CATEGORIES:B Shift
ATTACH;FMTTYPE=image/png:https://www.your624.org/wp-content/uploads/2023/08/logo-300x300w.png
END:VEVENT
BEGIN:VEVENT
DTSTART;VALUE=DATE:20290811
DTEND;VALUE=DATE:20290812
DTSTAMP:20260424T112435
CREATED:20250812T185553Z
LAST-MODIFIED:20250812T185553Z
UID:10002290-1881100800-1881187199@www.your624.org
SUMMARY:FIRE - B Shift
DESCRIPTION:
URL:https://www.your624.org/event/fire-b-shift/2029-08-11/
CATEGORIES:B Shift
ATTACH;FMTTYPE=image/png:https://www.your624.org/wp-content/uploads/2023/08/logo-300x300w.png
END:VEVENT
END:VCALENDAR