BEGIN:VCALENDAR
VERSION:2.0
PRODID:-//San Antonio Professional Firefighters Association - ECPv6.15.20//NONSGML v1.0//EN
CALSCALE:GREGORIAN
METHOD:PUBLISH
X-ORIGINAL-URL:https://www.your624.org
X-WR-CALDESC:Events for San Antonio Professional Firefighters Association
REFRESH-INTERVAL;VALUE=DURATION:PT1H
X-Robots-Tag:noindex
X-PUBLISHED-TTL:PT1H
BEGIN:VTIMEZONE
TZID:America/New_York
BEGIN:DAYLIGHT
TZOFFSETFROM:-0500
TZOFFSETTO:-0400
TZNAME:EDT
DTSTART:20280312T070000
END:DAYLIGHT
BEGIN:STANDARD
TZOFFSETFROM:-0400
TZOFFSETTO:-0500
TZNAME:EST
DTSTART:20281105T060000
END:STANDARD
BEGIN:DAYLIGHT
TZOFFSETFROM:-0500
TZOFFSETTO:-0400
TZNAME:EDT
DTSTART:20290311T070000
END:DAYLIGHT
BEGIN:STANDARD
TZOFFSETFROM:-0400
TZOFFSETTO:-0500
TZNAME:EST
DTSTART:20291104T060000
END:STANDARD
BEGIN:DAYLIGHT
TZOFFSETFROM:-0500
TZOFFSETTO:-0400
TZNAME:EDT
DTSTART:20300310T070000
END:DAYLIGHT
BEGIN:STANDARD
TZOFFSETFROM:-0400
TZOFFSETTO:-0500
TZNAME:EST
DTSTART:20301103T060000
END:STANDARD
BEGIN:DAYLIGHT
TZOFFSETFROM:-0500
TZOFFSETTO:-0400
TZNAME:EDT
DTSTART:20310309T070000
END:DAYLIGHT
BEGIN:STANDARD
TZOFFSETFROM:-0400
TZOFFSETTO:-0500
TZNAME:EST
DTSTART:20311102T060000
END:STANDARD
END:VTIMEZONE
BEGIN:VEVENT
DTSTART;VALUE=DATE:20291101
DTEND;VALUE=DATE:20291102
DTSTAMP:20260425T171913
CREATED:20250812T185811Z
LAST-MODIFIED:20250812T185811Z
UID:10003852-1888185600-1888271999@www.your624.org
SUMMARY:FIRE - C Shift
DESCRIPTION:
URL:https://www.your624.org/event/fire-c-shift/2029-11-01/
CATEGORIES:C Shift
ATTACH;FMTTYPE=image/png:https://www.your624.org/wp-content/uploads/2023/08/logo-300x300w.png
END:VEVENT
BEGIN:VEVENT
DTSTART;VALUE=DATE:20291104
DTEND;VALUE=DATE:20291105
DTSTAMP:20260425T171913
CREATED:20250812T185811Z
LAST-MODIFIED:20250812T185811Z
UID:10003853-1888444800-1888527599@www.your624.org
SUMMARY:FIRE - C Shift
DESCRIPTION:
URL:https://www.your624.org/event/fire-c-shift/2029-11-04/
CATEGORIES:C Shift
ATTACH;FMTTYPE=image/png:https://www.your624.org/wp-content/uploads/2023/08/logo-300x300w.png
END:VEVENT
BEGIN:VEVENT
DTSTART;VALUE=DATE:20291107
DTEND;VALUE=DATE:20291108
DTSTAMP:20260425T171913
CREATED:20250812T185811Z
LAST-MODIFIED:20250812T185811Z
UID:10003854-1888704000-1888790399@www.your624.org
SUMMARY:FIRE - C Shift
DESCRIPTION:
URL:https://www.your624.org/event/fire-c-shift/2029-11-07/
CATEGORIES:C Shift
ATTACH;FMTTYPE=image/png:https://www.your624.org/wp-content/uploads/2023/08/logo-300x300w.png
END:VEVENT
BEGIN:VEVENT
DTSTART;VALUE=DATE:20291110
DTEND;VALUE=DATE:20291111
DTSTAMP:20260425T171913
CREATED:20250812T185811Z
LAST-MODIFIED:20250812T185811Z
UID:10003855-1888963200-1889049599@www.your624.org
SUMMARY:FIRE - C Shift
DESCRIPTION:
URL:https://www.your624.org/event/fire-c-shift/2029-11-10/
CATEGORIES:C Shift
ATTACH;FMTTYPE=image/png:https://www.your624.org/wp-content/uploads/2023/08/logo-300x300w.png
END:VEVENT
BEGIN:VEVENT
DTSTART;VALUE=DATE:20291113
DTEND;VALUE=DATE:20291114
DTSTAMP:20260425T171913
CREATED:20250812T185811Z
LAST-MODIFIED:20250812T185811Z
UID:10003856-1889222400-1889308799@www.your624.org
SUMMARY:FIRE - C Shift
DESCRIPTION:
URL:https://www.your624.org/event/fire-c-shift/2029-11-13/
CATEGORIES:C Shift
ATTACH;FMTTYPE=image/png:https://www.your624.org/wp-content/uploads/2023/08/logo-300x300w.png
END:VEVENT
BEGIN:VEVENT
DTSTART;VALUE=DATE:20291116
DTEND;VALUE=DATE:20291117
DTSTAMP:20260425T171913
CREATED:20250812T185811Z
LAST-MODIFIED:20250812T185811Z
UID:10003857-1889481600-1889567999@www.your624.org
SUMMARY:FIRE - C Shift
DESCRIPTION:
URL:https://www.your624.org/event/fire-c-shift/2029-11-16/
CATEGORIES:C Shift
ATTACH;FMTTYPE=image/png:https://www.your624.org/wp-content/uploads/2023/08/logo-300x300w.png
END:VEVENT
BEGIN:VEVENT
DTSTART;VALUE=DATE:20291119
DTEND;VALUE=DATE:20291120
DTSTAMP:20260425T171913
CREATED:20250812T185811Z
LAST-MODIFIED:20250812T185811Z
UID:10003858-1889740800-1889827199@www.your624.org
SUMMARY:FIRE - C Shift
DESCRIPTION:
URL:https://www.your624.org/event/fire-c-shift/2029-11-19/
CATEGORIES:C Shift
ATTACH;FMTTYPE=image/png:https://www.your624.org/wp-content/uploads/2023/08/logo-300x300w.png
END:VEVENT
BEGIN:VEVENT
DTSTART;VALUE=DATE:20291122
DTEND;VALUE=DATE:20291123
DTSTAMP:20260425T171913
CREATED:20250812T185811Z
LAST-MODIFIED:20250812T185811Z
UID:10003859-1890000000-1890086399@www.your624.org
SUMMARY:FIRE - C Shift
DESCRIPTION:
URL:https://www.your624.org/event/fire-c-shift/2029-11-22/
CATEGORIES:C Shift
ATTACH;FMTTYPE=image/png:https://www.your624.org/wp-content/uploads/2023/08/logo-300x300w.png
END:VEVENT
BEGIN:VEVENT
DTSTART;VALUE=DATE:20291125
DTEND;VALUE=DATE:20291126
DTSTAMP:20260425T171913
CREATED:20250812T185811Z
LAST-MODIFIED:20250812T185811Z
UID:10003860-1890259200-1890345599@www.your624.org
SUMMARY:FIRE - C Shift
DESCRIPTION:
URL:https://www.your624.org/event/fire-c-shift/2029-11-25/
CATEGORIES:C Shift
ATTACH;FMTTYPE=image/png:https://www.your624.org/wp-content/uploads/2023/08/logo-300x300w.png
END:VEVENT
BEGIN:VEVENT
DTSTART;VALUE=DATE:20291128
DTEND;VALUE=DATE:20291129
DTSTAMP:20260425T171913
CREATED:20250812T185811Z
LAST-MODIFIED:20250812T185811Z
UID:10003861-1890518400-1890604799@www.your624.org
SUMMARY:FIRE - C Shift
DESCRIPTION:
URL:https://www.your624.org/event/fire-c-shift/2029-11-28/
CATEGORIES:C Shift
ATTACH;FMTTYPE=image/png:https://www.your624.org/wp-content/uploads/2023/08/logo-300x300w.png
END:VEVENT
BEGIN:VEVENT
DTSTART;VALUE=DATE:20291201
DTEND;VALUE=DATE:20291202
DTSTAMP:20260425T171913
CREATED:20250812T185811Z
LAST-MODIFIED:20250812T185811Z
UID:10003862-1890777600-1890863999@www.your624.org
SUMMARY:FIRE - C Shift
DESCRIPTION:
URL:https://www.your624.org/event/fire-c-shift/2029-12-01/
CATEGORIES:C Shift
ATTACH;FMTTYPE=image/png:https://www.your624.org/wp-content/uploads/2023/08/logo-300x300w.png
END:VEVENT
BEGIN:VEVENT
DTSTART;VALUE=DATE:20291204
DTEND;VALUE=DATE:20291205
DTSTAMP:20260425T171913
CREATED:20250812T185811Z
LAST-MODIFIED:20250812T185811Z
UID:10003863-1891036800-1891123199@www.your624.org
SUMMARY:FIRE - C Shift
DESCRIPTION:
URL:https://www.your624.org/event/fire-c-shift/2029-12-04/
CATEGORIES:C Shift
ATTACH;FMTTYPE=image/png:https://www.your624.org/wp-content/uploads/2023/08/logo-300x300w.png
END:VEVENT
BEGIN:VEVENT
DTSTART;VALUE=DATE:20291207
DTEND;VALUE=DATE:20291208
DTSTAMP:20260425T171913
CREATED:20250812T185811Z
LAST-MODIFIED:20250812T185811Z
UID:10003864-1891296000-1891382399@www.your624.org
SUMMARY:FIRE - C Shift
DESCRIPTION:
URL:https://www.your624.org/event/fire-c-shift/2029-12-07/
CATEGORIES:C Shift
ATTACH;FMTTYPE=image/png:https://www.your624.org/wp-content/uploads/2023/08/logo-300x300w.png
END:VEVENT
BEGIN:VEVENT
DTSTART;VALUE=DATE:20291210
DTEND;VALUE=DATE:20291211
DTSTAMP:20260425T171913
CREATED:20250812T185811Z
LAST-MODIFIED:20250812T185811Z
UID:10003865-1891555200-1891641599@www.your624.org
SUMMARY:FIRE - C Shift
DESCRIPTION:
URL:https://www.your624.org/event/fire-c-shift/2029-12-10/
CATEGORIES:C Shift
ATTACH;FMTTYPE=image/png:https://www.your624.org/wp-content/uploads/2023/08/logo-300x300w.png
END:VEVENT
BEGIN:VEVENT
DTSTART;VALUE=DATE:20291213
DTEND;VALUE=DATE:20291214
DTSTAMP:20260425T171913
CREATED:20250812T185811Z
LAST-MODIFIED:20250812T185811Z
UID:10003866-1891814400-1891900799@www.your624.org
SUMMARY:FIRE - C Shift
DESCRIPTION:
URL:https://www.your624.org/event/fire-c-shift/2029-12-13/
CATEGORIES:C Shift
ATTACH;FMTTYPE=image/png:https://www.your624.org/wp-content/uploads/2023/08/logo-300x300w.png
END:VEVENT
BEGIN:VEVENT
DTSTART;VALUE=DATE:20291216
DTEND;VALUE=DATE:20291217
DTSTAMP:20260425T171913
CREATED:20250812T185811Z
LAST-MODIFIED:20250812T185811Z
UID:10003867-1892073600-1892159999@www.your624.org
SUMMARY:FIRE - C Shift
DESCRIPTION:
URL:https://www.your624.org/event/fire-c-shift/2029-12-16/
CATEGORIES:C Shift
ATTACH;FMTTYPE=image/png:https://www.your624.org/wp-content/uploads/2023/08/logo-300x300w.png
END:VEVENT
BEGIN:VEVENT
DTSTART;VALUE=DATE:20291219
DTEND;VALUE=DATE:20291220
DTSTAMP:20260425T171913
CREATED:20250812T185811Z
LAST-MODIFIED:20250812T185811Z
UID:10003868-1892332800-1892419199@www.your624.org
SUMMARY:FIRE - C Shift
DESCRIPTION:
URL:https://www.your624.org/event/fire-c-shift/2029-12-19/
CATEGORIES:C Shift
ATTACH;FMTTYPE=image/png:https://www.your624.org/wp-content/uploads/2023/08/logo-300x300w.png
END:VEVENT
BEGIN:VEVENT
DTSTART;VALUE=DATE:20291222
DTEND;VALUE=DATE:20291223
DTSTAMP:20260425T171913
CREATED:20250812T185811Z
LAST-MODIFIED:20250812T185811Z
UID:10003869-1892592000-1892678399@www.your624.org
SUMMARY:FIRE - C Shift
DESCRIPTION:
URL:https://www.your624.org/event/fire-c-shift/2029-12-22/
CATEGORIES:C Shift
ATTACH;FMTTYPE=image/png:https://www.your624.org/wp-content/uploads/2023/08/logo-300x300w.png
END:VEVENT
BEGIN:VEVENT
DTSTART;VALUE=DATE:20291225
DTEND;VALUE=DATE:20291226
DTSTAMP:20260425T171913
CREATED:20250812T185811Z
LAST-MODIFIED:20250812T185811Z
UID:10003870-1892851200-1892937599@www.your624.org
SUMMARY:FIRE - C Shift
DESCRIPTION:
URL:https://www.your624.org/event/fire-c-shift/2029-12-25/
CATEGORIES:C Shift
ATTACH;FMTTYPE=image/png:https://www.your624.org/wp-content/uploads/2023/08/logo-300x300w.png
END:VEVENT
BEGIN:VEVENT
DTSTART;VALUE=DATE:20291228
DTEND;VALUE=DATE:20291229
DTSTAMP:20260425T171913
CREATED:20250812T185811Z
LAST-MODIFIED:20250812T185811Z
UID:10003871-1893110400-1893196799@www.your624.org
SUMMARY:FIRE - C Shift
DESCRIPTION:
URL:https://www.your624.org/event/fire-c-shift/2029-12-28/
CATEGORIES:C Shift
ATTACH;FMTTYPE=image/png:https://www.your624.org/wp-content/uploads/2023/08/logo-300x300w.png
END:VEVENT
BEGIN:VEVENT
DTSTART;VALUE=DATE:20291231
DTEND;VALUE=DATE:20300101
DTSTAMP:20260425T171913
CREATED:20250812T185811Z
LAST-MODIFIED:20250812T185811Z
UID:10003872-1893369600-1893455999@www.your624.org
SUMMARY:FIRE - C Shift
DESCRIPTION:
URL:https://www.your624.org/event/fire-c-shift/2029-12-31/
CATEGORIES:C Shift
ATTACH;FMTTYPE=image/png:https://www.your624.org/wp-content/uploads/2023/08/logo-300x300w.png
END:VEVENT
BEGIN:VEVENT
DTSTART;VALUE=DATE:20300103
DTEND;VALUE=DATE:20300104
DTSTAMP:20260425T171913
CREATED:20250812T185811Z
LAST-MODIFIED:20250812T185811Z
UID:10003873-1893628800-1893715199@www.your624.org
SUMMARY:FIRE - C Shift
DESCRIPTION:
URL:https://www.your624.org/event/fire-c-shift/2030-01-03/
CATEGORIES:C Shift
ATTACH;FMTTYPE=image/png:https://www.your624.org/wp-content/uploads/2023/08/logo-300x300w.png
END:VEVENT
BEGIN:VEVENT
DTSTART;VALUE=DATE:20300106
DTEND;VALUE=DATE:20300107
DTSTAMP:20260425T171913
CREATED:20250812T185811Z
LAST-MODIFIED:20250812T185811Z
UID:10003874-1893888000-1893974399@www.your624.org
SUMMARY:FIRE - C Shift
DESCRIPTION:
URL:https://www.your624.org/event/fire-c-shift/2030-01-06/
CATEGORIES:C Shift
ATTACH;FMTTYPE=image/png:https://www.your624.org/wp-content/uploads/2023/08/logo-300x300w.png
END:VEVENT
BEGIN:VEVENT
DTSTART;VALUE=DATE:20300109
DTEND;VALUE=DATE:20300110
DTSTAMP:20260425T171913
CREATED:20250812T185811Z
LAST-MODIFIED:20250812T185811Z
UID:10003875-1894147200-1894233599@www.your624.org
SUMMARY:FIRE - C Shift
DESCRIPTION:
URL:https://www.your624.org/event/fire-c-shift/2030-01-09/
CATEGORIES:C Shift
ATTACH;FMTTYPE=image/png:https://www.your624.org/wp-content/uploads/2023/08/logo-300x300w.png
END:VEVENT
BEGIN:VEVENT
DTSTART;VALUE=DATE:20300112
DTEND;VALUE=DATE:20300113
DTSTAMP:20260425T171913
CREATED:20250812T185811Z
LAST-MODIFIED:20250812T185811Z
UID:10003876-1894406400-1894492799@www.your624.org
SUMMARY:FIRE - C Shift
DESCRIPTION:
URL:https://www.your624.org/event/fire-c-shift/2030-01-12/
CATEGORIES:C Shift
ATTACH;FMTTYPE=image/png:https://www.your624.org/wp-content/uploads/2023/08/logo-300x300w.png
END:VEVENT
BEGIN:VEVENT
DTSTART;VALUE=DATE:20300115
DTEND;VALUE=DATE:20300116
DTSTAMP:20260425T171913
CREATED:20250812T185811Z
LAST-MODIFIED:20250812T185811Z
UID:10003877-1894665600-1894751999@www.your624.org
SUMMARY:FIRE - C Shift
DESCRIPTION:
URL:https://www.your624.org/event/fire-c-shift/2030-01-15/
CATEGORIES:C Shift
ATTACH;FMTTYPE=image/png:https://www.your624.org/wp-content/uploads/2023/08/logo-300x300w.png
END:VEVENT
BEGIN:VEVENT
DTSTART;VALUE=DATE:20300118
DTEND;VALUE=DATE:20300119
DTSTAMP:20260425T171913
CREATED:20250812T185811Z
LAST-MODIFIED:20250812T185811Z
UID:10003878-1894924800-1895011199@www.your624.org
SUMMARY:FIRE - C Shift
DESCRIPTION:
URL:https://www.your624.org/event/fire-c-shift/2030-01-18/
CATEGORIES:C Shift
ATTACH;FMTTYPE=image/png:https://www.your624.org/wp-content/uploads/2023/08/logo-300x300w.png
END:VEVENT
BEGIN:VEVENT
DTSTART;VALUE=DATE:20300121
DTEND;VALUE=DATE:20300122
DTSTAMP:20260425T171913
CREATED:20250812T185811Z
LAST-MODIFIED:20250812T185811Z
UID:10003879-1895184000-1895270399@www.your624.org
SUMMARY:FIRE - C Shift
DESCRIPTION:
URL:https://www.your624.org/event/fire-c-shift/2030-01-21/
CATEGORIES:C Shift
ATTACH;FMTTYPE=image/png:https://www.your624.org/wp-content/uploads/2023/08/logo-300x300w.png
END:VEVENT
BEGIN:VEVENT
DTSTART;VALUE=DATE:20300124
DTEND;VALUE=DATE:20300125
DTSTAMP:20260425T171913
CREATED:20250812T185811Z
LAST-MODIFIED:20250812T185811Z
UID:10003880-1895443200-1895529599@www.your624.org
SUMMARY:FIRE - C Shift
DESCRIPTION:
URL:https://www.your624.org/event/fire-c-shift/2030-01-24/
CATEGORIES:C Shift
ATTACH;FMTTYPE=image/png:https://www.your624.org/wp-content/uploads/2023/08/logo-300x300w.png
END:VEVENT
BEGIN:VEVENT
DTSTART;VALUE=DATE:20300127
DTEND;VALUE=DATE:20300128
DTSTAMP:20260425T171913
CREATED:20250812T185811Z
LAST-MODIFIED:20250812T185811Z
UID:10003881-1895702400-1895788799@www.your624.org
SUMMARY:FIRE - C Shift
DESCRIPTION:
URL:https://www.your624.org/event/fire-c-shift/2030-01-27/
CATEGORIES:C Shift
ATTACH;FMTTYPE=image/png:https://www.your624.org/wp-content/uploads/2023/08/logo-300x300w.png
END:VEVENT
END:VCALENDAR