BEGIN:VCALENDAR
VERSION:2.0
PRODID:-//San Antonio Professional Firefighters Association - ECPv6.15.20//NONSGML v1.0//EN
CALSCALE:GREGORIAN
METHOD:PUBLISH
X-ORIGINAL-URL:https://www.your624.org
X-WR-CALDESC:Events for San Antonio Professional Firefighters Association
REFRESH-INTERVAL;VALUE=DURATION:PT1H
X-Robots-Tag:noindex
X-PUBLISHED-TTL:PT1H
BEGIN:VTIMEZONE
TZID:America/New_York
BEGIN:DAYLIGHT
TZOFFSETFROM:-0500
TZOFFSETTO:-0400
TZNAME:EDT
DTSTART:20280312T070000
END:DAYLIGHT
BEGIN:STANDARD
TZOFFSETFROM:-0400
TZOFFSETTO:-0500
TZNAME:EST
DTSTART:20281105T060000
END:STANDARD
BEGIN:DAYLIGHT
TZOFFSETFROM:-0500
TZOFFSETTO:-0400
TZNAME:EDT
DTSTART:20290311T070000
END:DAYLIGHT
BEGIN:STANDARD
TZOFFSETFROM:-0400
TZOFFSETTO:-0500
TZNAME:EST
DTSTART:20291104T060000
END:STANDARD
BEGIN:DAYLIGHT
TZOFFSETFROM:-0500
TZOFFSETTO:-0400
TZNAME:EDT
DTSTART:20300310T070000
END:DAYLIGHT
BEGIN:STANDARD
TZOFFSETFROM:-0400
TZOFFSETTO:-0500
TZNAME:EST
DTSTART:20301103T060000
END:STANDARD
BEGIN:DAYLIGHT
TZOFFSETFROM:-0500
TZOFFSETTO:-0400
TZNAME:EDT
DTSTART:20310309T070000
END:DAYLIGHT
BEGIN:STANDARD
TZOFFSETFROM:-0400
TZOFFSETTO:-0500
TZNAME:EST
DTSTART:20311102T060000
END:STANDARD
END:VTIMEZONE
BEGIN:VEVENT
DTSTART;VALUE=DATE:20291018
DTEND;VALUE=DATE:20291019
DTSTAMP:20260422T181919
CREATED:20250812T190019Z
LAST-MODIFIED:20250812T190019Z
UID:10005186-1886976000-1887062399@www.your624.org
SUMMARY:EMS - D Shift
DESCRIPTION:
URL:https://www.your624.org/event/ems-d-shift/2029-10-18/
CATEGORIES:D Shift EMS
ATTACH;FMTTYPE=image/png:https://www.your624.org/wp-content/uploads/2023/08/logo-300x300w.png
END:VEVENT
BEGIN:VEVENT
DTSTART;VALUE=DATE:20291022
DTEND;VALUE=DATE:20291023
DTSTAMP:20260422T181919
CREATED:20250812T190019Z
LAST-MODIFIED:20250812T190019Z
UID:10005187-1887321600-1887407999@www.your624.org
SUMMARY:EMS - D Shift
DESCRIPTION:
URL:https://www.your624.org/event/ems-d-shift/2029-10-22/
CATEGORIES:D Shift EMS
ATTACH;FMTTYPE=image/png:https://www.your624.org/wp-content/uploads/2023/08/logo-300x300w.png
END:VEVENT
BEGIN:VEVENT
DTSTART;VALUE=DATE:20291026
DTEND;VALUE=DATE:20291027
DTSTAMP:20260422T181919
CREATED:20250812T190019Z
LAST-MODIFIED:20250812T190019Z
UID:10005188-1887667200-1887753599@www.your624.org
SUMMARY:EMS - D Shift
DESCRIPTION:
URL:https://www.your624.org/event/ems-d-shift/2029-10-26/
CATEGORIES:D Shift EMS
ATTACH;FMTTYPE=image/png:https://www.your624.org/wp-content/uploads/2023/08/logo-300x300w.png
END:VEVENT
BEGIN:VEVENT
DTSTART;VALUE=DATE:20291030
DTEND;VALUE=DATE:20291031
DTSTAMP:20260422T181919
CREATED:20250812T190019Z
LAST-MODIFIED:20250812T190019Z
UID:10005189-1888012800-1888099199@www.your624.org
SUMMARY:EMS - D Shift
DESCRIPTION:
URL:https://www.your624.org/event/ems-d-shift/2029-10-30/
CATEGORIES:D Shift EMS
ATTACH;FMTTYPE=image/png:https://www.your624.org/wp-content/uploads/2023/08/logo-300x300w.png
END:VEVENT
BEGIN:VEVENT
DTSTART;VALUE=DATE:20291103
DTEND;VALUE=DATE:20291104
DTSTAMP:20260422T181919
CREATED:20250812T190019Z
LAST-MODIFIED:20250812T190019Z
UID:10005190-1888358400-1888444799@www.your624.org
SUMMARY:EMS - D Shift
DESCRIPTION:
URL:https://www.your624.org/event/ems-d-shift/2029-11-03/
CATEGORIES:D Shift EMS
ATTACH;FMTTYPE=image/png:https://www.your624.org/wp-content/uploads/2023/08/logo-300x300w.png
END:VEVENT
BEGIN:VEVENT
DTSTART;VALUE=DATE:20291107
DTEND;VALUE=DATE:20291108
DTSTAMP:20260422T181919
CREATED:20250812T190019Z
LAST-MODIFIED:20250812T190019Z
UID:10005191-1888704000-1888790399@www.your624.org
SUMMARY:EMS - D Shift
DESCRIPTION:
URL:https://www.your624.org/event/ems-d-shift/2029-11-07/
CATEGORIES:D Shift EMS
ATTACH;FMTTYPE=image/png:https://www.your624.org/wp-content/uploads/2023/08/logo-300x300w.png
END:VEVENT
BEGIN:VEVENT
DTSTART;VALUE=DATE:20291111
DTEND;VALUE=DATE:20291112
DTSTAMP:20260422T181919
CREATED:20250812T190019Z
LAST-MODIFIED:20250812T190019Z
UID:10005192-1889049600-1889135999@www.your624.org
SUMMARY:EMS - D Shift
DESCRIPTION:
URL:https://www.your624.org/event/ems-d-shift/2029-11-11/
CATEGORIES:D Shift EMS
ATTACH;FMTTYPE=image/png:https://www.your624.org/wp-content/uploads/2023/08/logo-300x300w.png
END:VEVENT
BEGIN:VEVENT
DTSTART;VALUE=DATE:20291115
DTEND;VALUE=DATE:20291116
DTSTAMP:20260422T181919
CREATED:20250812T190019Z
LAST-MODIFIED:20250812T190019Z
UID:10005193-1889395200-1889481599@www.your624.org
SUMMARY:EMS - D Shift
DESCRIPTION:
URL:https://www.your624.org/event/ems-d-shift/2029-11-15/
CATEGORIES:D Shift EMS
ATTACH;FMTTYPE=image/png:https://www.your624.org/wp-content/uploads/2023/08/logo-300x300w.png
END:VEVENT
BEGIN:VEVENT
DTSTART;VALUE=DATE:20291119
DTEND;VALUE=DATE:20291120
DTSTAMP:20260422T181919
CREATED:20250812T190019Z
LAST-MODIFIED:20250812T190019Z
UID:10005194-1889740800-1889827199@www.your624.org
SUMMARY:EMS - D Shift
DESCRIPTION:
URL:https://www.your624.org/event/ems-d-shift/2029-11-19/
CATEGORIES:D Shift EMS
ATTACH;FMTTYPE=image/png:https://www.your624.org/wp-content/uploads/2023/08/logo-300x300w.png
END:VEVENT
BEGIN:VEVENT
DTSTART;VALUE=DATE:20291123
DTEND;VALUE=DATE:20291124
DTSTAMP:20260422T181919
CREATED:20250812T190019Z
LAST-MODIFIED:20250812T190019Z
UID:10005195-1890086400-1890172799@www.your624.org
SUMMARY:EMS - D Shift
DESCRIPTION:
URL:https://www.your624.org/event/ems-d-shift/2029-11-23/
CATEGORIES:D Shift EMS
ATTACH;FMTTYPE=image/png:https://www.your624.org/wp-content/uploads/2023/08/logo-300x300w.png
END:VEVENT
BEGIN:VEVENT
DTSTART;VALUE=DATE:20291127
DTEND;VALUE=DATE:20291128
DTSTAMP:20260422T181919
CREATED:20250812T190019Z
LAST-MODIFIED:20250812T190019Z
UID:10005196-1890432000-1890518399@www.your624.org
SUMMARY:EMS - D Shift
DESCRIPTION:
URL:https://www.your624.org/event/ems-d-shift/2029-11-27/
CATEGORIES:D Shift EMS
ATTACH;FMTTYPE=image/png:https://www.your624.org/wp-content/uploads/2023/08/logo-300x300w.png
END:VEVENT
BEGIN:VEVENT
DTSTART;VALUE=DATE:20291201
DTEND;VALUE=DATE:20291202
DTSTAMP:20260422T181919
CREATED:20250812T190019Z
LAST-MODIFIED:20250812T190019Z
UID:10005197-1890777600-1890863999@www.your624.org
SUMMARY:EMS - D Shift
DESCRIPTION:
URL:https://www.your624.org/event/ems-d-shift/2029-12-01/
CATEGORIES:D Shift EMS
ATTACH;FMTTYPE=image/png:https://www.your624.org/wp-content/uploads/2023/08/logo-300x300w.png
END:VEVENT
BEGIN:VEVENT
DTSTART;VALUE=DATE:20291205
DTEND;VALUE=DATE:20291206
DTSTAMP:20260422T181919
CREATED:20250812T190019Z
LAST-MODIFIED:20250812T190019Z
UID:10005198-1891123200-1891209599@www.your624.org
SUMMARY:EMS - D Shift
DESCRIPTION:
URL:https://www.your624.org/event/ems-d-shift/2029-12-05/
CATEGORIES:D Shift EMS
ATTACH;FMTTYPE=image/png:https://www.your624.org/wp-content/uploads/2023/08/logo-300x300w.png
END:VEVENT
BEGIN:VEVENT
DTSTART;VALUE=DATE:20291209
DTEND;VALUE=DATE:20291210
DTSTAMP:20260422T181919
CREATED:20250812T190019Z
LAST-MODIFIED:20250812T190019Z
UID:10005199-1891468800-1891555199@www.your624.org
SUMMARY:EMS - D Shift
DESCRIPTION:
URL:https://www.your624.org/event/ems-d-shift/2029-12-09/
CATEGORIES:D Shift EMS
ATTACH;FMTTYPE=image/png:https://www.your624.org/wp-content/uploads/2023/08/logo-300x300w.png
END:VEVENT
BEGIN:VEVENT
DTSTART;VALUE=DATE:20291213
DTEND;VALUE=DATE:20291214
DTSTAMP:20260422T181919
CREATED:20250812T190019Z
LAST-MODIFIED:20250812T190019Z
UID:10005200-1891814400-1891900799@www.your624.org
SUMMARY:EMS - D Shift
DESCRIPTION:
URL:https://www.your624.org/event/ems-d-shift/2029-12-13/
CATEGORIES:D Shift EMS
ATTACH;FMTTYPE=image/png:https://www.your624.org/wp-content/uploads/2023/08/logo-300x300w.png
END:VEVENT
BEGIN:VEVENT
DTSTART;VALUE=DATE:20291217
DTEND;VALUE=DATE:20291218
DTSTAMP:20260422T181919
CREATED:20250812T190019Z
LAST-MODIFIED:20250812T190019Z
UID:10005201-1892160000-1892246399@www.your624.org
SUMMARY:EMS - D Shift
DESCRIPTION:
URL:https://www.your624.org/event/ems-d-shift/2029-12-17/
CATEGORIES:D Shift EMS
ATTACH;FMTTYPE=image/png:https://www.your624.org/wp-content/uploads/2023/08/logo-300x300w.png
END:VEVENT
BEGIN:VEVENT
DTSTART;VALUE=DATE:20291221
DTEND;VALUE=DATE:20291222
DTSTAMP:20260422T181920
CREATED:20250812T190019Z
LAST-MODIFIED:20250812T190019Z
UID:10005202-1892505600-1892591999@www.your624.org
SUMMARY:EMS - D Shift
DESCRIPTION:
URL:https://www.your624.org/event/ems-d-shift/2029-12-21/
CATEGORIES:D Shift EMS
ATTACH;FMTTYPE=image/png:https://www.your624.org/wp-content/uploads/2023/08/logo-300x300w.png
END:VEVENT
BEGIN:VEVENT
DTSTART;VALUE=DATE:20291225
DTEND;VALUE=DATE:20291226
DTSTAMP:20260422T181920
CREATED:20250812T190019Z
LAST-MODIFIED:20250812T190019Z
UID:10005203-1892851200-1892937599@www.your624.org
SUMMARY:EMS - D Shift
DESCRIPTION:
URL:https://www.your624.org/event/ems-d-shift/2029-12-25/
CATEGORIES:D Shift EMS
ATTACH;FMTTYPE=image/png:https://www.your624.org/wp-content/uploads/2023/08/logo-300x300w.png
END:VEVENT
BEGIN:VEVENT
DTSTART;VALUE=DATE:20291229
DTEND;VALUE=DATE:20291230
DTSTAMP:20260422T181920
CREATED:20250812T190019Z
LAST-MODIFIED:20250812T190019Z
UID:10005204-1893196800-1893283199@www.your624.org
SUMMARY:EMS - D Shift
DESCRIPTION:
URL:https://www.your624.org/event/ems-d-shift/2029-12-29/
CATEGORIES:D Shift EMS
ATTACH;FMTTYPE=image/png:https://www.your624.org/wp-content/uploads/2023/08/logo-300x300w.png
END:VEVENT
BEGIN:VEVENT
DTSTART;VALUE=DATE:20300102
DTEND;VALUE=DATE:20300103
DTSTAMP:20260422T181920
CREATED:20250812T190019Z
LAST-MODIFIED:20250812T190019Z
UID:10005205-1893542400-1893628799@www.your624.org
SUMMARY:EMS - D Shift
DESCRIPTION:
URL:https://www.your624.org/event/ems-d-shift/2030-01-02/
CATEGORIES:D Shift EMS
ATTACH;FMTTYPE=image/png:https://www.your624.org/wp-content/uploads/2023/08/logo-300x300w.png
END:VEVENT
BEGIN:VEVENT
DTSTART;VALUE=DATE:20300106
DTEND;VALUE=DATE:20300107
DTSTAMP:20260422T181920
CREATED:20250812T190019Z
LAST-MODIFIED:20250812T190019Z
UID:10005206-1893888000-1893974399@www.your624.org
SUMMARY:EMS - D Shift
DESCRIPTION:
URL:https://www.your624.org/event/ems-d-shift/2030-01-06/
CATEGORIES:D Shift EMS
ATTACH;FMTTYPE=image/png:https://www.your624.org/wp-content/uploads/2023/08/logo-300x300w.png
END:VEVENT
BEGIN:VEVENT
DTSTART;VALUE=DATE:20300110
DTEND;VALUE=DATE:20300111
DTSTAMP:20260422T181920
CREATED:20250812T190019Z
LAST-MODIFIED:20250812T190019Z
UID:10005207-1894233600-1894319999@www.your624.org
SUMMARY:EMS - D Shift
DESCRIPTION:
URL:https://www.your624.org/event/ems-d-shift/2030-01-10/
CATEGORIES:D Shift EMS
ATTACH;FMTTYPE=image/png:https://www.your624.org/wp-content/uploads/2023/08/logo-300x300w.png
END:VEVENT
BEGIN:VEVENT
DTSTART;VALUE=DATE:20300114
DTEND;VALUE=DATE:20300115
DTSTAMP:20260422T181920
CREATED:20250812T190019Z
LAST-MODIFIED:20250812T190019Z
UID:10005208-1894579200-1894665599@www.your624.org
SUMMARY:EMS - D Shift
DESCRIPTION:
URL:https://www.your624.org/event/ems-d-shift/2030-01-14/
CATEGORIES:D Shift EMS
ATTACH;FMTTYPE=image/png:https://www.your624.org/wp-content/uploads/2023/08/logo-300x300w.png
END:VEVENT
BEGIN:VEVENT
DTSTART;VALUE=DATE:20300118
DTEND;VALUE=DATE:20300119
DTSTAMP:20260422T181920
CREATED:20250812T190019Z
LAST-MODIFIED:20250812T190019Z
UID:10005209-1894924800-1895011199@www.your624.org
SUMMARY:EMS - D Shift
DESCRIPTION:
URL:https://www.your624.org/event/ems-d-shift/2030-01-18/
CATEGORIES:D Shift EMS
ATTACH;FMTTYPE=image/png:https://www.your624.org/wp-content/uploads/2023/08/logo-300x300w.png
END:VEVENT
BEGIN:VEVENT
DTSTART;VALUE=DATE:20300122
DTEND;VALUE=DATE:20300123
DTSTAMP:20260422T181920
CREATED:20250812T190019Z
LAST-MODIFIED:20250812T190019Z
UID:10005210-1895270400-1895356799@www.your624.org
SUMMARY:EMS - D Shift
DESCRIPTION:
URL:https://www.your624.org/event/ems-d-shift/2030-01-22/
CATEGORIES:D Shift EMS
ATTACH;FMTTYPE=image/png:https://www.your624.org/wp-content/uploads/2023/08/logo-300x300w.png
END:VEVENT
BEGIN:VEVENT
DTSTART;VALUE=DATE:20300126
DTEND;VALUE=DATE:20300127
DTSTAMP:20260422T181920
CREATED:20250812T190019Z
LAST-MODIFIED:20250812T190019Z
UID:10005211-1895616000-1895702399@www.your624.org
SUMMARY:EMS - D Shift
DESCRIPTION:
URL:https://www.your624.org/event/ems-d-shift/2030-01-26/
CATEGORIES:D Shift EMS
ATTACH;FMTTYPE=image/png:https://www.your624.org/wp-content/uploads/2023/08/logo-300x300w.png
END:VEVENT
BEGIN:VEVENT
DTSTART;VALUE=DATE:20300130
DTEND;VALUE=DATE:20300131
DTSTAMP:20260422T181920
CREATED:20250812T190019Z
LAST-MODIFIED:20250812T190019Z
UID:10005212-1895961600-1896047999@www.your624.org
SUMMARY:EMS - D Shift
DESCRIPTION:
URL:https://www.your624.org/event/ems-d-shift/2030-01-30/
CATEGORIES:D Shift EMS
ATTACH;FMTTYPE=image/png:https://www.your624.org/wp-content/uploads/2023/08/logo-300x300w.png
END:VEVENT
BEGIN:VEVENT
DTSTART;VALUE=DATE:20300203
DTEND;VALUE=DATE:20300204
DTSTAMP:20260422T181920
CREATED:20250812T190019Z
LAST-MODIFIED:20250812T190019Z
UID:10005213-1896307200-1896393599@www.your624.org
SUMMARY:EMS - D Shift
DESCRIPTION:
URL:https://www.your624.org/event/ems-d-shift/2030-02-03/
CATEGORIES:D Shift EMS
ATTACH;FMTTYPE=image/png:https://www.your624.org/wp-content/uploads/2023/08/logo-300x300w.png
END:VEVENT
BEGIN:VEVENT
DTSTART;VALUE=DATE:20300207
DTEND;VALUE=DATE:20300208
DTSTAMP:20260422T181920
CREATED:20250812T190019Z
LAST-MODIFIED:20250812T190019Z
UID:10005214-1896652800-1896739199@www.your624.org
SUMMARY:EMS - D Shift
DESCRIPTION:
URL:https://www.your624.org/event/ems-d-shift/2030-02-07/
CATEGORIES:D Shift EMS
ATTACH;FMTTYPE=image/png:https://www.your624.org/wp-content/uploads/2023/08/logo-300x300w.png
END:VEVENT
BEGIN:VEVENT
DTSTART;VALUE=DATE:20300211
DTEND;VALUE=DATE:20300212
DTSTAMP:20260422T181920
CREATED:20250812T190019Z
LAST-MODIFIED:20250812T190019Z
UID:10005215-1896998400-1897084799@www.your624.org
SUMMARY:EMS - D Shift
DESCRIPTION:
URL:https://www.your624.org/event/ems-d-shift/2030-02-11/
CATEGORIES:D Shift EMS
ATTACH;FMTTYPE=image/png:https://www.your624.org/wp-content/uploads/2023/08/logo-300x300w.png
END:VEVENT
END:VCALENDAR