BEGIN:VCALENDAR
VERSION:2.0
PRODID:-//San Antonio Professional Firefighters Association - ECPv6.15.20//NONSGML v1.0//EN
CALSCALE:GREGORIAN
METHOD:PUBLISH
X-ORIGINAL-URL:https://www.your624.org
X-WR-CALDESC:Events for San Antonio Professional Firefighters Association
REFRESH-INTERVAL;VALUE=DURATION:PT1H
X-Robots-Tag:noindex
X-PUBLISHED-TTL:PT1H
BEGIN:VTIMEZONE
TZID:America/New_York
BEGIN:DAYLIGHT
TZOFFSETFROM:-0500
TZOFFSETTO:-0400
TZNAME:EDT
DTSTART:20260308T070000
END:DAYLIGHT
BEGIN:STANDARD
TZOFFSETFROM:-0400
TZOFFSETTO:-0500
TZNAME:EST
DTSTART:20261101T060000
END:STANDARD
BEGIN:DAYLIGHT
TZOFFSETFROM:-0500
TZOFFSETTO:-0400
TZNAME:EDT
DTSTART:20270314T070000
END:DAYLIGHT
BEGIN:STANDARD
TZOFFSETFROM:-0400
TZOFFSETTO:-0500
TZNAME:EST
DTSTART:20271107T060000
END:STANDARD
BEGIN:DAYLIGHT
TZOFFSETFROM:-0500
TZOFFSETTO:-0400
TZNAME:EDT
DTSTART:20280312T070000
END:DAYLIGHT
BEGIN:STANDARD
TZOFFSETFROM:-0400
TZOFFSETTO:-0500
TZNAME:EST
DTSTART:20281105T060000
END:STANDARD
END:VTIMEZONE
BEGIN:VEVENT
DTSTART;VALUE=DATE:20270228
DTEND;VALUE=DATE:20270301
DTSTAMP:20260421T003905
CREATED:20250812T185325Z
LAST-MODIFIED:20250812T185325Z
UID:10000457-1803772800-1803859199@www.your624.org
SUMMARY:FIRE - A Shift
DESCRIPTION:
URL:https://www.your624.org/event/fire-a-shift/2027-02-28/
CATEGORIES:A Shift
ATTACH;FMTTYPE=image/png:https://www.your624.org/wp-content/uploads/2023/08/logo-300x300w.png
END:VEVENT
BEGIN:VEVENT
DTSTART;VALUE=DATE:20270228
DTEND;VALUE=DATE:20270301
DTSTAMP:20260421T003905
CREATED:20250812T185446Z
LAST-MODIFIED:20250812T185446Z
UID:10001220-1803772800-1803859199@www.your624.org
SUMMARY:EMS - A Shift
DESCRIPTION:
URL:https://www.your624.org/event/ems-a-shift/2027-02-28/
CATEGORIES:A Shift EMS
ATTACH;FMTTYPE=image/png:https://www.your624.org/wp-content/uploads/2023/08/logo-300x300w.png
END:VEVENT
BEGIN:VEVENT
DTSTART;VALUE=DATE:20270301
DTEND;VALUE=DATE:20270302
DTSTAMP:20260421T003905
CREATED:20250812T185553Z
LAST-MODIFIED:20250812T185553Z
UID:10001992-1803859200-1803945599@www.your624.org
SUMMARY:FIRE - B Shift
DESCRIPTION:
URL:https://www.your624.org/event/fire-b-shift/2027-03-01/
CATEGORIES:B Shift
ATTACH;FMTTYPE=image/png:https://www.your624.org/wp-content/uploads/2023/08/logo-300x300w.png
END:VEVENT
BEGIN:VEVENT
DTSTART;VALUE=DATE:20270301
DTEND;VALUE=DATE:20270302
DTSTAMP:20260421T003905
CREATED:20250812T185704Z
LAST-MODIFIED:20250812T185704Z
UID:10002755-1803859200-1803945599@www.your624.org
SUMMARY:EMS - B Shift
DESCRIPTION:
URL:https://www.your624.org/event/ems-b-shift/2027-03-01/
CATEGORIES:B Shift EMS
ATTACH;FMTTYPE=image/png:https://www.your624.org/wp-content/uploads/2023/08/logo-300x300w.png
END:VEVENT
BEGIN:VEVENT
DTSTART;VALUE=DATE:20270302
DTEND;VALUE=DATE:20270303
DTSTAMP:20260421T003905
CREATED:20250812T185811Z
LAST-MODIFIED:20250812T185811Z
UID:10003527-1803945600-1804031999@www.your624.org
SUMMARY:FIRE - C Shift
DESCRIPTION:
URL:https://www.your624.org/event/fire-c-shift/2027-03-02/
CATEGORIES:C Shift
ATTACH;FMTTYPE=image/png:https://www.your624.org/wp-content/uploads/2023/08/logo-300x300w.png
END:VEVENT
BEGIN:VEVENT
DTSTART;VALUE=DATE:20270302
DTEND;VALUE=DATE:20270303
DTSTAMP:20260421T003905
CREATED:20250812T185913Z
LAST-MODIFIED:20250812T185913Z
UID:10004289-1803945600-1804031999@www.your624.org
SUMMARY:EMS - C Shift
DESCRIPTION:
URL:https://www.your624.org/event/ems-c-shift/2027-03-02/
CATEGORIES:C Shift EMS
ATTACH;FMTTYPE=image/png:https://www.your624.org/wp-content/uploads/2023/08/logo-300x300w.png
END:VEVENT
BEGIN:VEVENT
DTSTART;VALUE=DATE:20270303
DTEND;VALUE=DATE:20270304
DTSTAMP:20260421T003905
CREATED:20250812T185325Z
LAST-MODIFIED:20250812T185325Z
UID:10000458-1804032000-1804118399@www.your624.org
SUMMARY:FIRE - A Shift
DESCRIPTION:
URL:https://www.your624.org/event/fire-a-shift/2027-03-03/
CATEGORIES:A Shift
ATTACH;FMTTYPE=image/png:https://www.your624.org/wp-content/uploads/2023/08/logo-300x300w.png
END:VEVENT
BEGIN:VEVENT
DTSTART;VALUE=DATE:20270303
DTEND;VALUE=DATE:20270304
DTSTAMP:20260421T003905
CREATED:20250812T190019Z
LAST-MODIFIED:20250812T190019Z
UID:10004946-1804032000-1804118399@www.your624.org
SUMMARY:EMS - D Shift
DESCRIPTION:
URL:https://www.your624.org/event/ems-d-shift/2027-03-03/
CATEGORIES:D Shift EMS
ATTACH;FMTTYPE=image/png:https://www.your624.org/wp-content/uploads/2023/08/logo-300x300w.png
END:VEVENT
BEGIN:VEVENT
DTSTART;VALUE=DATE:20270304
DTEND;VALUE=DATE:20270305
DTSTAMP:20260421T003905
CREATED:20250812T185446Z
LAST-MODIFIED:20250812T185446Z
UID:10001221-1804118400-1804204799@www.your624.org
SUMMARY:EMS - A Shift
DESCRIPTION:
URL:https://www.your624.org/event/ems-a-shift/2027-03-04/
CATEGORIES:A Shift EMS
ATTACH;FMTTYPE=image/png:https://www.your624.org/wp-content/uploads/2023/08/logo-300x300w.png
END:VEVENT
BEGIN:VEVENT
DTSTART;VALUE=DATE:20270304
DTEND;VALUE=DATE:20270305
DTSTAMP:20260421T003905
CREATED:20250812T185553Z
LAST-MODIFIED:20250812T185553Z
UID:10001993-1804118400-1804204799@www.your624.org
SUMMARY:FIRE - B Shift
DESCRIPTION:
URL:https://www.your624.org/event/fire-b-shift/2027-03-04/
CATEGORIES:B Shift
ATTACH;FMTTYPE=image/png:https://www.your624.org/wp-content/uploads/2023/08/logo-300x300w.png
END:VEVENT
BEGIN:VEVENT
DTSTART;TZID=America/New_York:20270304T100000
DTEND;TZID=America/New_York:20270304T140000
DTSTAMP:20260421T003905
CREATED:20250818T145252Z
LAST-MODIFIED:20250818T145252Z
UID:10005459-1804154400-1804168800@www.your624.org
SUMMARY:Cancer Committee Meeting
DESCRIPTION:
URL:https://www.your624.org/event/cancer-committee-meeting/2027-03-04/
CATEGORIES:Union Event
ATTACH;FMTTYPE=image/png:https://www.your624.org/wp-content/uploads/2023/08/logo-300x300w.png
END:VEVENT
BEGIN:VEVENT
DTSTART;VALUE=DATE:20270305
DTEND;VALUE=DATE:20270306
DTSTAMP:20260421T003905
CREATED:20250812T185704Z
LAST-MODIFIED:20250812T185704Z
UID:10002756-1804204800-1804291199@www.your624.org
SUMMARY:EMS - B Shift
DESCRIPTION:
URL:https://www.your624.org/event/ems-b-shift/2027-03-05/
CATEGORIES:B Shift EMS
ATTACH;FMTTYPE=image/png:https://www.your624.org/wp-content/uploads/2023/08/logo-300x300w.png
END:VEVENT
BEGIN:VEVENT
DTSTART;VALUE=DATE:20270305
DTEND;VALUE=DATE:20270306
DTSTAMP:20260421T003905
CREATED:20250812T185811Z
LAST-MODIFIED:20250812T185811Z
UID:10003528-1804204800-1804291199@www.your624.org
SUMMARY:FIRE - C Shift
DESCRIPTION:
URL:https://www.your624.org/event/fire-c-shift/2027-03-05/
CATEGORIES:C Shift
ATTACH;FMTTYPE=image/png:https://www.your624.org/wp-content/uploads/2023/08/logo-300x300w.png
END:VEVENT
BEGIN:VEVENT
DTSTART;VALUE=DATE:20270306
DTEND;VALUE=DATE:20270307
DTSTAMP:20260421T003905
CREATED:20250812T185325Z
LAST-MODIFIED:20250812T185325Z
UID:10000459-1804291200-1804377599@www.your624.org
SUMMARY:FIRE - A Shift
DESCRIPTION:
URL:https://www.your624.org/event/fire-a-shift/2027-03-06/
CATEGORIES:A Shift
ATTACH;FMTTYPE=image/png:https://www.your624.org/wp-content/uploads/2023/08/logo-300x300w.png
END:VEVENT
BEGIN:VEVENT
DTSTART;VALUE=DATE:20270306
DTEND;VALUE=DATE:20270307
DTSTAMP:20260421T003905
CREATED:20250812T185913Z
LAST-MODIFIED:20250812T185913Z
UID:10004290-1804291200-1804377599@www.your624.org
SUMMARY:EMS - C Shift
DESCRIPTION:
URL:https://www.your624.org/event/ems-c-shift/2027-03-06/
CATEGORIES:C Shift EMS
ATTACH;FMTTYPE=image/png:https://www.your624.org/wp-content/uploads/2023/08/logo-300x300w.png
END:VEVENT
BEGIN:VEVENT
DTSTART;VALUE=DATE:20270307
DTEND;VALUE=DATE:20270308
DTSTAMP:20260421T003905
CREATED:20250812T185553Z
LAST-MODIFIED:20250812T185553Z
UID:10001994-1804377600-1804463999@www.your624.org
SUMMARY:FIRE - B Shift
DESCRIPTION:
URL:https://www.your624.org/event/fire-b-shift/2027-03-07/
CATEGORIES:B Shift
ATTACH;FMTTYPE=image/png:https://www.your624.org/wp-content/uploads/2023/08/logo-300x300w.png
END:VEVENT
BEGIN:VEVENT
DTSTART;VALUE=DATE:20270307
DTEND;VALUE=DATE:20270308
DTSTAMP:20260421T003905
CREATED:20250812T190019Z
LAST-MODIFIED:20250812T190019Z
UID:10004947-1804377600-1804463999@www.your624.org
SUMMARY:EMS - D Shift
DESCRIPTION:
URL:https://www.your624.org/event/ems-d-shift/2027-03-07/
CATEGORIES:D Shift EMS
ATTACH;FMTTYPE=image/png:https://www.your624.org/wp-content/uploads/2023/08/logo-300x300w.png
END:VEVENT
BEGIN:VEVENT
DTSTART;VALUE=DATE:20270308
DTEND;VALUE=DATE:20270309
DTSTAMP:20260421T003905
CREATED:20250812T185446Z
LAST-MODIFIED:20250812T185446Z
UID:10001222-1804464000-1804550399@www.your624.org
SUMMARY:EMS - A Shift
DESCRIPTION:
URL:https://www.your624.org/event/ems-a-shift/2027-03-08/
CATEGORIES:A Shift EMS
ATTACH;FMTTYPE=image/png:https://www.your624.org/wp-content/uploads/2023/08/logo-300x300w.png
END:VEVENT
BEGIN:VEVENT
DTSTART;VALUE=DATE:20270308
DTEND;VALUE=DATE:20270309
DTSTAMP:20260421T003905
CREATED:20250812T185811Z
LAST-MODIFIED:20250812T185811Z
UID:10003529-1804464000-1804550399@www.your624.org
SUMMARY:FIRE - C Shift
DESCRIPTION:
URL:https://www.your624.org/event/fire-c-shift/2027-03-08/
CATEGORIES:C Shift
ATTACH;FMTTYPE=image/png:https://www.your624.org/wp-content/uploads/2023/08/logo-300x300w.png
END:VEVENT
BEGIN:VEVENT
DTSTART;TZID=America/New_York:20270308T100000
DTEND;TZID=America/New_York:20270308T140000
DTSTAMP:20260421T003905
CREATED:20250818T145155Z
LAST-MODIFIED:20250818T145155Z
UID:10005399-1804500000-1804514400@www.your624.org
SUMMARY:PPE Committee Meeting
DESCRIPTION:
URL:https://www.your624.org/event/ppe-committee-meeting/2027-03-08/
CATEGORIES:Union Event
ATTACH;FMTTYPE=image/png:https://www.your624.org/wp-content/uploads/2023/08/logo-300x300w.png
END:VEVENT
BEGIN:VEVENT
DTSTART;VALUE=DATE:20270309
DTEND;VALUE=DATE:20270310
DTSTAMP:20260421T003905
CREATED:20250812T185325Z
LAST-MODIFIED:20250812T185325Z
UID:10000460-1804550400-1804636799@www.your624.org
SUMMARY:FIRE - A Shift
DESCRIPTION:
URL:https://www.your624.org/event/fire-a-shift/2027-03-09/
CATEGORIES:A Shift
ATTACH;FMTTYPE=image/png:https://www.your624.org/wp-content/uploads/2023/08/logo-300x300w.png
END:VEVENT
BEGIN:VEVENT
DTSTART;VALUE=DATE:20270309
DTEND;VALUE=DATE:20270310
DTSTAMP:20260421T003905
CREATED:20250812T185704Z
LAST-MODIFIED:20250812T185704Z
UID:10002757-1804550400-1804636799@www.your624.org
SUMMARY:EMS - B Shift
DESCRIPTION:
URL:https://www.your624.org/event/ems-b-shift/2027-03-09/
CATEGORIES:B Shift EMS
ATTACH;FMTTYPE=image/png:https://www.your624.org/wp-content/uploads/2023/08/logo-300x300w.png
END:VEVENT
BEGIN:VEVENT
DTSTART;TZID=America/New_York:20270309T100000
DTEND;TZID=America/New_York:20270309T140000
DTSTAMP:20260421T003905
CREATED:20250818T144901Z
LAST-MODIFIED:20250818T144901Z
UID:10005279-1804586400-1804600800@www.your624.org
SUMMARY:Union Meeting
DESCRIPTION:
URL:https://www.your624.org/event/union-meeting/2027-03-09/
LOCATION:SAPFFA Union Hall\, 8925 IH 10 W\, San Antonio\, TX\, 78230\, United States
CATEGORIES:Union Event
ATTACH;FMTTYPE=image/png:https://www.your624.org/wp-content/uploads/2023/08/logo-300x300w.png
END:VEVENT
BEGIN:VEVENT
DTSTART;VALUE=DATE:20270310
DTEND;VALUE=DATE:20270311
DTSTAMP:20260421T003905
CREATED:20250812T185553Z
LAST-MODIFIED:20250812T185553Z
UID:10001995-1804636800-1804723199@www.your624.org
SUMMARY:FIRE - B Shift
DESCRIPTION:
URL:https://www.your624.org/event/fire-b-shift/2027-03-10/
CATEGORIES:B Shift
ATTACH;FMTTYPE=image/png:https://www.your624.org/wp-content/uploads/2023/08/logo-300x300w.png
END:VEVENT
BEGIN:VEVENT
DTSTART;VALUE=DATE:20270310
DTEND;VALUE=DATE:20270311
DTSTAMP:20260421T003905
CREATED:20250812T185913Z
LAST-MODIFIED:20250812T185913Z
UID:10004291-1804636800-1804723199@www.your624.org
SUMMARY:EMS - C Shift
DESCRIPTION:
URL:https://www.your624.org/event/ems-c-shift/2027-03-10/
CATEGORIES:C Shift EMS
ATTACH;FMTTYPE=image/png:https://www.your624.org/wp-content/uploads/2023/08/logo-300x300w.png
END:VEVENT
BEGIN:VEVENT
DTSTART;VALUE=DATE:20270311
DTEND;VALUE=DATE:20270312
DTSTAMP:20260421T003905
CREATED:20250812T185811Z
LAST-MODIFIED:20250812T185811Z
UID:10003530-1804723200-1804809599@www.your624.org
SUMMARY:FIRE - C Shift
DESCRIPTION:
URL:https://www.your624.org/event/fire-c-shift/2027-03-11/
CATEGORIES:C Shift
ATTACH;FMTTYPE=image/png:https://www.your624.org/wp-content/uploads/2023/08/logo-300x300w.png
END:VEVENT
BEGIN:VEVENT
DTSTART;VALUE=DATE:20270311
DTEND;VALUE=DATE:20270312
DTSTAMP:20260421T003905
CREATED:20250812T190019Z
LAST-MODIFIED:20250812T190019Z
UID:10004948-1804723200-1804809599@www.your624.org
SUMMARY:EMS - D Shift
DESCRIPTION:
URL:https://www.your624.org/event/ems-d-shift/2027-03-11/
CATEGORIES:D Shift EMS
ATTACH;FMTTYPE=image/png:https://www.your624.org/wp-content/uploads/2023/08/logo-300x300w.png
END:VEVENT
BEGIN:VEVENT
DTSTART;VALUE=DATE:20270312
DTEND;VALUE=DATE:20270313
DTSTAMP:20260421T003905
CREATED:20250812T185325Z
LAST-MODIFIED:20250812T185325Z
UID:10000461-1804809600-1804895999@www.your624.org
SUMMARY:FIRE - A Shift
DESCRIPTION:
URL:https://www.your624.org/event/fire-a-shift/2027-03-12/
CATEGORIES:A Shift
ATTACH;FMTTYPE=image/png:https://www.your624.org/wp-content/uploads/2023/08/logo-300x300w.png
END:VEVENT
BEGIN:VEVENT
DTSTART;VALUE=DATE:20270312
DTEND;VALUE=DATE:20270313
DTSTAMP:20260421T003905
CREATED:20250812T185446Z
LAST-MODIFIED:20250812T185446Z
UID:10001223-1804809600-1804895999@www.your624.org
SUMMARY:EMS - A Shift
DESCRIPTION:
URL:https://www.your624.org/event/ems-a-shift/2027-03-12/
CATEGORIES:A Shift EMS
ATTACH;FMTTYPE=image/png:https://www.your624.org/wp-content/uploads/2023/08/logo-300x300w.png
END:VEVENT
BEGIN:VEVENT
DTSTART;VALUE=DATE:20270313
DTEND;VALUE=DATE:20270314
DTSTAMP:20260421T003905
CREATED:20250812T185553Z
LAST-MODIFIED:20250812T185553Z
UID:10001996-1804896000-1804982399@www.your624.org
SUMMARY:FIRE - B Shift
DESCRIPTION:
URL:https://www.your624.org/event/fire-b-shift/2027-03-13/
CATEGORIES:B Shift
ATTACH;FMTTYPE=image/png:https://www.your624.org/wp-content/uploads/2023/08/logo-300x300w.png
END:VEVENT
END:VCALENDAR