BEGIN:VCALENDAR
VERSION:2.0
PRODID:-//San Antonio Professional Firefighters Association - ECPv6.15.20//NONSGML v1.0//EN
CALSCALE:GREGORIAN
METHOD:PUBLISH
X-WR-CALNAME:San Antonio Professional Firefighters Association
X-ORIGINAL-URL:https://www.your624.org
X-WR-CALDESC:Events for San Antonio Professional Firefighters Association
REFRESH-INTERVAL;VALUE=DURATION:PT1H
X-Robots-Tag:noindex
X-PUBLISHED-TTL:PT1H
BEGIN:VTIMEZONE
TZID:America/New_York
BEGIN:DAYLIGHT
TZOFFSETFROM:-0500
TZOFFSETTO:-0400
TZNAME:EDT
DTSTART:20260308T070000
END:DAYLIGHT
BEGIN:STANDARD
TZOFFSETFROM:-0400
TZOFFSETTO:-0500
TZNAME:EST
DTSTART:20261101T060000
END:STANDARD
BEGIN:DAYLIGHT
TZOFFSETFROM:-0500
TZOFFSETTO:-0400
TZNAME:EDT
DTSTART:20270314T070000
END:DAYLIGHT
BEGIN:STANDARD
TZOFFSETFROM:-0400
TZOFFSETTO:-0500
TZNAME:EST
DTSTART:20271107T060000
END:STANDARD
BEGIN:DAYLIGHT
TZOFFSETFROM:-0500
TZOFFSETTO:-0400
TZNAME:EDT
DTSTART:20280312T070000
END:DAYLIGHT
BEGIN:STANDARD
TZOFFSETFROM:-0400
TZOFFSETTO:-0500
TZNAME:EST
DTSTART:20281105T060000
END:STANDARD
END:VTIMEZONE
BEGIN:VEVENT
DTSTART;VALUE=DATE:20270429
DTEND;VALUE=DATE:20270430
DTSTAMP:20260425T090649
CREATED:20250812T185325Z
LAST-MODIFIED:20250812T185325Z
UID:10000477-1808956800-1809043199@www.your624.org
SUMMARY:FIRE - A Shift
DESCRIPTION:
URL:https://www.your624.org/event/fire-a-shift/2027-04-29/
CATEGORIES:A Shift
ATTACH;FMTTYPE=image/png:https://www.your624.org/wp-content/uploads/2023/08/logo-300x300w.png
END:VEVENT
BEGIN:VEVENT
DTSTART;VALUE=DATE:20270429
DTEND;VALUE=DATE:20270430
DTSTAMP:20260425T090649
CREATED:20250812T185446Z
LAST-MODIFIED:20250812T185446Z
UID:10001235-1808956800-1809043199@www.your624.org
SUMMARY:EMS - A Shift
DESCRIPTION:
URL:https://www.your624.org/event/ems-a-shift/2027-04-29/
CATEGORIES:A Shift EMS
ATTACH;FMTTYPE=image/png:https://www.your624.org/wp-content/uploads/2023/08/logo-300x300w.png
END:VEVENT
BEGIN:VEVENT
DTSTART;VALUE=DATE:20270430
DTEND;VALUE=DATE:20270501
DTSTAMP:20260425T090649
CREATED:20250812T185553Z
LAST-MODIFIED:20250812T185553Z
UID:10002012-1809043200-1809129599@www.your624.org
SUMMARY:FIRE - B Shift
DESCRIPTION:
URL:https://www.your624.org/event/fire-b-shift/2027-04-30/
CATEGORIES:B Shift
ATTACH;FMTTYPE=image/png:https://www.your624.org/wp-content/uploads/2023/08/logo-300x300w.png
END:VEVENT
BEGIN:VEVENT
DTSTART;VALUE=DATE:20270430
DTEND;VALUE=DATE:20270501
DTSTAMP:20260425T090649
CREATED:20250812T185704Z
LAST-MODIFIED:20250812T185704Z
UID:10002770-1809043200-1809129599@www.your624.org
SUMMARY:EMS - B Shift
DESCRIPTION:
URL:https://www.your624.org/event/ems-b-shift/2027-04-30/
CATEGORIES:B Shift EMS
ATTACH;FMTTYPE=image/png:https://www.your624.org/wp-content/uploads/2023/08/logo-300x300w.png
END:VEVENT
BEGIN:VEVENT
DTSTART;VALUE=DATE:20270501
DTEND;VALUE=DATE:20270502
DTSTAMP:20260425T090649
CREATED:20250812T185811Z
LAST-MODIFIED:20250812T185811Z
UID:10003547-1809129600-1809215999@www.your624.org
SUMMARY:FIRE - C Shift
DESCRIPTION:
URL:https://www.your624.org/event/fire-c-shift/2027-05-01/
CATEGORIES:C Shift
ATTACH;FMTTYPE=image/png:https://www.your624.org/wp-content/uploads/2023/08/logo-300x300w.png
END:VEVENT
BEGIN:VEVENT
DTSTART;VALUE=DATE:20270501
DTEND;VALUE=DATE:20270502
DTSTAMP:20260425T090649
CREATED:20250812T185913Z
LAST-MODIFIED:20250812T185913Z
UID:10004304-1809129600-1809215999@www.your624.org
SUMMARY:EMS - C Shift
DESCRIPTION:
URL:https://www.your624.org/event/ems-c-shift/2027-05-01/
CATEGORIES:C Shift EMS
ATTACH;FMTTYPE=image/png:https://www.your624.org/wp-content/uploads/2023/08/logo-300x300w.png
END:VEVENT
BEGIN:VEVENT
DTSTART;VALUE=DATE:20270502
DTEND;VALUE=DATE:20270503
DTSTAMP:20260425T090649
CREATED:20250812T185325Z
LAST-MODIFIED:20250812T185325Z
UID:10000478-1809216000-1809302399@www.your624.org
SUMMARY:FIRE - A Shift
DESCRIPTION:
URL:https://www.your624.org/event/fire-a-shift/2027-05-02/
CATEGORIES:A Shift
ATTACH;FMTTYPE=image/png:https://www.your624.org/wp-content/uploads/2023/08/logo-300x300w.png
END:VEVENT
BEGIN:VEVENT
DTSTART;VALUE=DATE:20270502
DTEND;VALUE=DATE:20270503
DTSTAMP:20260425T090649
CREATED:20250812T190019Z
LAST-MODIFIED:20250812T190019Z
UID:10004961-1809216000-1809302399@www.your624.org
SUMMARY:EMS - D Shift
DESCRIPTION:
URL:https://www.your624.org/event/ems-d-shift/2027-05-02/
CATEGORIES:D Shift EMS
ATTACH;FMTTYPE=image/png:https://www.your624.org/wp-content/uploads/2023/08/logo-300x300w.png
END:VEVENT
BEGIN:VEVENT
DTSTART;VALUE=DATE:20270503
DTEND;VALUE=DATE:20270504
DTSTAMP:20260425T090649
CREATED:20250812T185446Z
LAST-MODIFIED:20250812T185446Z
UID:10001236-1809302400-1809388799@www.your624.org
SUMMARY:EMS - A Shift
DESCRIPTION:
URL:https://www.your624.org/event/ems-a-shift/2027-05-03/
CATEGORIES:A Shift EMS
ATTACH;FMTTYPE=image/png:https://www.your624.org/wp-content/uploads/2023/08/logo-300x300w.png
END:VEVENT
BEGIN:VEVENT
DTSTART;VALUE=DATE:20270503
DTEND;VALUE=DATE:20270504
DTSTAMP:20260425T090649
CREATED:20250812T185553Z
LAST-MODIFIED:20250812T185553Z
UID:10002013-1809302400-1809388799@www.your624.org
SUMMARY:FIRE - B Shift
DESCRIPTION:
URL:https://www.your624.org/event/fire-b-shift/2027-05-03/
CATEGORIES:B Shift
ATTACH;FMTTYPE=image/png:https://www.your624.org/wp-content/uploads/2023/08/logo-300x300w.png
END:VEVENT
BEGIN:VEVENT
DTSTART;VALUE=DATE:20270504
DTEND;VALUE=DATE:20270505
DTSTAMP:20260425T090649
CREATED:20250812T185704Z
LAST-MODIFIED:20250812T185704Z
UID:10002771-1809388800-1809475199@www.your624.org
SUMMARY:EMS - B Shift
DESCRIPTION:
URL:https://www.your624.org/event/ems-b-shift/2027-05-04/
CATEGORIES:B Shift EMS
ATTACH;FMTTYPE=image/png:https://www.your624.org/wp-content/uploads/2023/08/logo-300x300w.png
END:VEVENT
BEGIN:VEVENT
DTSTART;VALUE=DATE:20270504
DTEND;VALUE=DATE:20270505
DTSTAMP:20260425T090649
CREATED:20250812T185811Z
LAST-MODIFIED:20250812T185811Z
UID:10003548-1809388800-1809475199@www.your624.org
SUMMARY:FIRE - C Shift
DESCRIPTION:
URL:https://www.your624.org/event/fire-c-shift/2027-05-04/
CATEGORIES:C Shift
ATTACH;FMTTYPE=image/png:https://www.your624.org/wp-content/uploads/2023/08/logo-300x300w.png
END:VEVENT
BEGIN:VEVENT
DTSTART;VALUE=DATE:20270505
DTEND;VALUE=DATE:20270506
DTSTAMP:20260425T090649
CREATED:20250812T185325Z
LAST-MODIFIED:20250812T185325Z
UID:10000479-1809475200-1809561599@www.your624.org
SUMMARY:FIRE - A Shift
DESCRIPTION:
URL:https://www.your624.org/event/fire-a-shift/2027-05-05/
CATEGORIES:A Shift
ATTACH;FMTTYPE=image/png:https://www.your624.org/wp-content/uploads/2023/08/logo-300x300w.png
END:VEVENT
BEGIN:VEVENT
DTSTART;VALUE=DATE:20270505
DTEND;VALUE=DATE:20270506
DTSTAMP:20260425T090649
CREATED:20250812T185913Z
LAST-MODIFIED:20250812T185913Z
UID:10004305-1809475200-1809561599@www.your624.org
SUMMARY:EMS - C Shift
DESCRIPTION:
URL:https://www.your624.org/event/ems-c-shift/2027-05-05/
CATEGORIES:C Shift EMS
ATTACH;FMTTYPE=image/png:https://www.your624.org/wp-content/uploads/2023/08/logo-300x300w.png
END:VEVENT
BEGIN:VEVENT
DTSTART;VALUE=DATE:20270506
DTEND;VALUE=DATE:20270507
DTSTAMP:20260425T090649
CREATED:20250812T185553Z
LAST-MODIFIED:20250812T185553Z
UID:10002014-1809561600-1809647999@www.your624.org
SUMMARY:FIRE - B Shift
DESCRIPTION:
URL:https://www.your624.org/event/fire-b-shift/2027-05-06/
CATEGORIES:B Shift
ATTACH;FMTTYPE=image/png:https://www.your624.org/wp-content/uploads/2023/08/logo-300x300w.png
END:VEVENT
BEGIN:VEVENT
DTSTART;VALUE=DATE:20270506
DTEND;VALUE=DATE:20270507
DTSTAMP:20260425T090649
CREATED:20250812T190019Z
LAST-MODIFIED:20250812T190019Z
UID:10004962-1809561600-1809647999@www.your624.org
SUMMARY:EMS - D Shift
DESCRIPTION:
URL:https://www.your624.org/event/ems-d-shift/2027-05-06/
CATEGORIES:D Shift EMS
ATTACH;FMTTYPE=image/png:https://www.your624.org/wp-content/uploads/2023/08/logo-300x300w.png
END:VEVENT
BEGIN:VEVENT
DTSTART;TZID=America/New_York:20270506T100000
DTEND;TZID=America/New_York:20270506T140000
DTSTAMP:20260425T090649
CREATED:20250818T145252Z
LAST-MODIFIED:20250818T145252Z
UID:10005461-1809597600-1809612000@www.your624.org
SUMMARY:Cancer Committee Meeting
DESCRIPTION:
URL:https://www.your624.org/event/cancer-committee-meeting/2027-05-06/
CATEGORIES:Union Event
ATTACH;FMTTYPE=image/png:https://www.your624.org/wp-content/uploads/2023/08/logo-300x300w.png
END:VEVENT
BEGIN:VEVENT
DTSTART;VALUE=DATE:20270507
DTEND;VALUE=DATE:20270508
DTSTAMP:20260425T090649
CREATED:20250812T185446Z
LAST-MODIFIED:20250812T185446Z
UID:10001237-1809648000-1809734399@www.your624.org
SUMMARY:EMS - A Shift
DESCRIPTION:
URL:https://www.your624.org/event/ems-a-shift/2027-05-07/
CATEGORIES:A Shift EMS
ATTACH;FMTTYPE=image/png:https://www.your624.org/wp-content/uploads/2023/08/logo-300x300w.png
END:VEVENT
BEGIN:VEVENT
DTSTART;VALUE=DATE:20270507
DTEND;VALUE=DATE:20270508
DTSTAMP:20260425T090649
CREATED:20250812T185811Z
LAST-MODIFIED:20250812T185811Z
UID:10003549-1809648000-1809734399@www.your624.org
SUMMARY:FIRE - C Shift
DESCRIPTION:
URL:https://www.your624.org/event/fire-c-shift/2027-05-07/
CATEGORIES:C Shift
ATTACH;FMTTYPE=image/png:https://www.your624.org/wp-content/uploads/2023/08/logo-300x300w.png
END:VEVENT
BEGIN:VEVENT
DTSTART;VALUE=DATE:20270508
DTEND;VALUE=DATE:20270509
DTSTAMP:20260425T090649
CREATED:20250812T185325Z
LAST-MODIFIED:20250812T185325Z
UID:10000480-1809734400-1809820799@www.your624.org
SUMMARY:FIRE - A Shift
DESCRIPTION:
URL:https://www.your624.org/event/fire-a-shift/2027-05-08/
CATEGORIES:A Shift
ATTACH;FMTTYPE=image/png:https://www.your624.org/wp-content/uploads/2023/08/logo-300x300w.png
END:VEVENT
BEGIN:VEVENT
DTSTART;VALUE=DATE:20270508
DTEND;VALUE=DATE:20270509
DTSTAMP:20260425T090649
CREATED:20250812T185704Z
LAST-MODIFIED:20250812T185704Z
UID:10002772-1809734400-1809820799@www.your624.org
SUMMARY:EMS - B Shift
DESCRIPTION:
URL:https://www.your624.org/event/ems-b-shift/2027-05-08/
CATEGORIES:B Shift EMS
ATTACH;FMTTYPE=image/png:https://www.your624.org/wp-content/uploads/2023/08/logo-300x300w.png
END:VEVENT
BEGIN:VEVENT
DTSTART;VALUE=DATE:20270509
DTEND;VALUE=DATE:20270510
DTSTAMP:20260425T090649
CREATED:20250812T185553Z
LAST-MODIFIED:20250812T185553Z
UID:10002015-1809820800-1809907199@www.your624.org
SUMMARY:FIRE - B Shift
DESCRIPTION:
URL:https://www.your624.org/event/fire-b-shift/2027-05-09/
CATEGORIES:B Shift
ATTACH;FMTTYPE=image/png:https://www.your624.org/wp-content/uploads/2023/08/logo-300x300w.png
END:VEVENT
BEGIN:VEVENT
DTSTART;VALUE=DATE:20270509
DTEND;VALUE=DATE:20270510
DTSTAMP:20260425T090649
CREATED:20250812T185913Z
LAST-MODIFIED:20250812T185913Z
UID:10004306-1809820800-1809907199@www.your624.org
SUMMARY:EMS - C Shift
DESCRIPTION:
URL:https://www.your624.org/event/ems-c-shift/2027-05-09/
CATEGORIES:C Shift EMS
ATTACH;FMTTYPE=image/png:https://www.your624.org/wp-content/uploads/2023/08/logo-300x300w.png
END:VEVENT
BEGIN:VEVENT
DTSTART;VALUE=DATE:20270510
DTEND;VALUE=DATE:20270511
DTSTAMP:20260425T090649
CREATED:20250812T185811Z
LAST-MODIFIED:20250812T185811Z
UID:10003550-1809907200-1809993599@www.your624.org
SUMMARY:FIRE - C Shift
DESCRIPTION:
URL:https://www.your624.org/event/fire-c-shift/2027-05-10/
CATEGORIES:C Shift
ATTACH;FMTTYPE=image/png:https://www.your624.org/wp-content/uploads/2023/08/logo-300x300w.png
END:VEVENT
BEGIN:VEVENT
DTSTART;VALUE=DATE:20270510
DTEND;VALUE=DATE:20270511
DTSTAMP:20260425T090649
CREATED:20250812T190019Z
LAST-MODIFIED:20250812T190019Z
UID:10004963-1809907200-1809993599@www.your624.org
SUMMARY:EMS - D Shift
DESCRIPTION:
URL:https://www.your624.org/event/ems-d-shift/2027-05-10/
CATEGORIES:D Shift EMS
ATTACH;FMTTYPE=image/png:https://www.your624.org/wp-content/uploads/2023/08/logo-300x300w.png
END:VEVENT
BEGIN:VEVENT
DTSTART;TZID=America/New_York:20270510T100000
DTEND;TZID=America/New_York:20270510T140000
DTSTAMP:20260425T090649
CREATED:20250818T145155Z
LAST-MODIFIED:20250818T145155Z
UID:10005401-1809943200-1809957600@www.your624.org
SUMMARY:PPE Committee Meeting
DESCRIPTION:
URL:https://www.your624.org/event/ppe-committee-meeting/2027-05-10/
CATEGORIES:Union Event
ATTACH;FMTTYPE=image/png:https://www.your624.org/wp-content/uploads/2023/08/logo-300x300w.png
END:VEVENT
BEGIN:VEVENT
DTSTART;VALUE=DATE:20270511
DTEND;VALUE=DATE:20270512
DTSTAMP:20260425T090649
CREATED:20250812T185325Z
LAST-MODIFIED:20250812T185325Z
UID:10000481-1809993600-1810079999@www.your624.org
SUMMARY:FIRE - A Shift
DESCRIPTION:
URL:https://www.your624.org/event/fire-a-shift/2027-05-11/
CATEGORIES:A Shift
ATTACH;FMTTYPE=image/png:https://www.your624.org/wp-content/uploads/2023/08/logo-300x300w.png
END:VEVENT
BEGIN:VEVENT
DTSTART;VALUE=DATE:20270511
DTEND;VALUE=DATE:20270512
DTSTAMP:20260425T090649
CREATED:20250812T185446Z
LAST-MODIFIED:20250812T185446Z
UID:10001238-1809993600-1810079999@www.your624.org
SUMMARY:EMS - A Shift
DESCRIPTION:
URL:https://www.your624.org/event/ems-a-shift/2027-05-11/
CATEGORIES:A Shift EMS
ATTACH;FMTTYPE=image/png:https://www.your624.org/wp-content/uploads/2023/08/logo-300x300w.png
END:VEVENT
BEGIN:VEVENT
DTSTART;TZID=America/New_York:20270511T100000
DTEND;TZID=America/New_York:20270511T140000
DTSTAMP:20260425T090649
CREATED:20250818T144901Z
LAST-MODIFIED:20250818T144901Z
UID:10005281-1810029600-1810044000@www.your624.org
SUMMARY:Union Meeting
DESCRIPTION:
URL:https://www.your624.org/event/union-meeting/2027-05-11/
LOCATION:SAPFFA Union Hall\, 8925 IH 10 W\, San Antonio\, TX\, 78230\, United States
CATEGORIES:Union Event
ATTACH;FMTTYPE=image/png:https://www.your624.org/wp-content/uploads/2023/08/logo-300x300w.png
END:VEVENT
BEGIN:VEVENT
DTSTART;VALUE=DATE:20270512
DTEND;VALUE=DATE:20270513
DTSTAMP:20260425T090649
CREATED:20250812T185553Z
LAST-MODIFIED:20250812T185553Z
UID:10002016-1810080000-1810166399@www.your624.org
SUMMARY:FIRE - B Shift
DESCRIPTION:
URL:https://www.your624.org/event/fire-b-shift/2027-05-12/
CATEGORIES:B Shift
ATTACH;FMTTYPE=image/png:https://www.your624.org/wp-content/uploads/2023/08/logo-300x300w.png
END:VEVENT
END:VCALENDAR