BEGIN:VCALENDAR
VERSION:2.0
PRODID:-//San Antonio Professional Firefighters Association - ECPv6.15.20//NONSGML v1.0//EN
CALSCALE:GREGORIAN
METHOD:PUBLISH
X-WR-CALNAME:San Antonio Professional Firefighters Association
X-ORIGINAL-URL:https://www.your624.org
X-WR-CALDESC:Events for San Antonio Professional Firefighters Association
REFRESH-INTERVAL;VALUE=DURATION:PT1H
X-Robots-Tag:noindex
X-PUBLISHED-TTL:PT1H
BEGIN:VTIMEZONE
TZID:America/New_York
BEGIN:DAYLIGHT
TZOFFSETFROM:-0500
TZOFFSETTO:-0400
TZNAME:EDT
DTSTART:20250309T070000
END:DAYLIGHT
BEGIN:STANDARD
TZOFFSETFROM:-0400
TZOFFSETTO:-0500
TZNAME:EST
DTSTART:20251102T060000
END:STANDARD
BEGIN:DAYLIGHT
TZOFFSETFROM:-0500
TZOFFSETTO:-0400
TZNAME:EDT
DTSTART:20260308T070000
END:DAYLIGHT
BEGIN:STANDARD
TZOFFSETFROM:-0400
TZOFFSETTO:-0500
TZNAME:EST
DTSTART:20261101T060000
END:STANDARD
BEGIN:DAYLIGHT
TZOFFSETFROM:-0500
TZOFFSETTO:-0400
TZNAME:EDT
DTSTART:20270314T070000
END:DAYLIGHT
BEGIN:STANDARD
TZOFFSETFROM:-0400
TZOFFSETTO:-0500
TZNAME:EST
DTSTART:20271107T060000
END:STANDARD
END:VTIMEZONE
BEGIN:VEVENT
DTSTART;VALUE=DATE:20261030
DTEND;VALUE=DATE:20261031
DTSTAMP:20260420T233010
CREATED:20250812T190019Z
LAST-MODIFIED:20250812T190019Z
UID:10004915-1793318400-1793404799@www.your624.org
SUMMARY:EMS - D Shift
DESCRIPTION:
URL:https://www.your624.org/event/ems-d-shift/2026-10-30/
CATEGORIES:D Shift EMS
ATTACH;FMTTYPE=image/png:https://www.your624.org/wp-content/uploads/2023/08/logo-300x300w.png
END:VEVENT
BEGIN:VEVENT
DTSTART;VALUE=DATE:20261030
DTEND;VALUE=DATE:20261031
DTSTAMP:20260420T233010
CREATED:20250812T185811Z
LAST-MODIFIED:20250812T185811Z
UID:10003486-1793318400-1793404799@www.your624.org
SUMMARY:FIRE - C Shift
DESCRIPTION:
URL:https://www.your624.org/event/fire-c-shift/2026-10-30/
CATEGORIES:C Shift
ATTACH;FMTTYPE=image/png:https://www.your624.org/wp-content/uploads/2023/08/logo-300x300w.png
END:VEVENT
BEGIN:VEVENT
DTSTART;VALUE=DATE:20261029
DTEND;VALUE=DATE:20261030
DTSTAMP:20260420T233010
CREATED:20250812T185913Z
LAST-MODIFIED:20250812T185913Z
UID:10004258-1793232000-1793318399@www.your624.org
SUMMARY:EMS - C Shift
DESCRIPTION:
URL:https://www.your624.org/event/ems-c-shift/2026-10-29/
CATEGORIES:C Shift EMS
ATTACH;FMTTYPE=image/png:https://www.your624.org/wp-content/uploads/2023/08/logo-300x300w.png
END:VEVENT
BEGIN:VEVENT
DTSTART;VALUE=DATE:20261029
DTEND;VALUE=DATE:20261030
DTSTAMP:20260420T233010
CREATED:20250812T185553Z
LAST-MODIFIED:20250812T185553Z
UID:10001951-1793232000-1793318399@www.your624.org
SUMMARY:FIRE - B Shift
DESCRIPTION:
URL:https://www.your624.org/event/fire-b-shift/2026-10-29/
CATEGORIES:B Shift
ATTACH;FMTTYPE=image/png:https://www.your624.org/wp-content/uploads/2023/08/logo-300x300w.png
END:VEVENT
BEGIN:VEVENT
DTSTART;VALUE=DATE:20261028
DTEND;VALUE=DATE:20261029
DTSTAMP:20260420T233010
CREATED:20250812T185704Z
LAST-MODIFIED:20250812T185704Z
UID:10002724-1793145600-1793231999@www.your624.org
SUMMARY:EMS - B Shift
DESCRIPTION:
URL:https://www.your624.org/event/ems-b-shift/2026-10-28/
CATEGORIES:B Shift EMS
ATTACH;FMTTYPE=image/png:https://www.your624.org/wp-content/uploads/2023/08/logo-300x300w.png
END:VEVENT
BEGIN:VEVENT
DTSTART;VALUE=DATE:20261028
DTEND;VALUE=DATE:20261029
DTSTAMP:20260420T233010
CREATED:20250812T185325Z
LAST-MODIFIED:20250812T185325Z
UID:10000416-1793145600-1793231999@www.your624.org
SUMMARY:FIRE - A Shift
DESCRIPTION:
URL:https://www.your624.org/event/fire-a-shift/2026-10-28/
CATEGORIES:A Shift
ATTACH;FMTTYPE=image/png:https://www.your624.org/wp-content/uploads/2023/08/logo-300x300w.png
END:VEVENT
BEGIN:VEVENT
DTSTART;VALUE=DATE:20261027
DTEND;VALUE=DATE:20261028
DTSTAMP:20260420T233010
CREATED:20250812T185811Z
LAST-MODIFIED:20250812T185811Z
UID:10003485-1793059200-1793145599@www.your624.org
SUMMARY:FIRE - C Shift
DESCRIPTION:
URL:https://www.your624.org/event/fire-c-shift/2026-10-27/
CATEGORIES:C Shift
ATTACH;FMTTYPE=image/png:https://www.your624.org/wp-content/uploads/2023/08/logo-300x300w.png
END:VEVENT
BEGIN:VEVENT
DTSTART;VALUE=DATE:20261027
DTEND;VALUE=DATE:20261028
DTSTAMP:20260420T233010
CREATED:20250812T185446Z
LAST-MODIFIED:20250812T185446Z
UID:10001189-1793059200-1793145599@www.your624.org
SUMMARY:EMS - A Shift
DESCRIPTION:
URL:https://www.your624.org/event/ems-a-shift/2026-10-27/
CATEGORIES:A Shift EMS
ATTACH;FMTTYPE=image/png:https://www.your624.org/wp-content/uploads/2023/08/logo-300x300w.png
END:VEVENT
BEGIN:VEVENT
DTSTART;VALUE=DATE:20261026
DTEND;VALUE=DATE:20261027
DTSTAMP:20260420T233010
CREATED:20250812T190019Z
LAST-MODIFIED:20250812T190019Z
UID:10004914-1792972800-1793059199@www.your624.org
SUMMARY:EMS - D Shift
DESCRIPTION:
URL:https://www.your624.org/event/ems-d-shift/2026-10-26/
CATEGORIES:D Shift EMS
ATTACH;FMTTYPE=image/png:https://www.your624.org/wp-content/uploads/2023/08/logo-300x300w.png
END:VEVENT
BEGIN:VEVENT
DTSTART;VALUE=DATE:20261026
DTEND;VALUE=DATE:20261027
DTSTAMP:20260420T233010
CREATED:20250812T185553Z
LAST-MODIFIED:20250812T185553Z
UID:10001950-1792972800-1793059199@www.your624.org
SUMMARY:FIRE - B Shift
DESCRIPTION:
URL:https://www.your624.org/event/fire-b-shift/2026-10-26/
CATEGORIES:B Shift
ATTACH;FMTTYPE=image/png:https://www.your624.org/wp-content/uploads/2023/08/logo-300x300w.png
END:VEVENT
BEGIN:VEVENT
DTSTART;VALUE=DATE:20261025
DTEND;VALUE=DATE:20261026
DTSTAMP:20260420T233010
CREATED:20250812T185913Z
LAST-MODIFIED:20250812T185913Z
UID:10004257-1792886400-1792972799@www.your624.org
SUMMARY:EMS - C Shift
DESCRIPTION:
URL:https://www.your624.org/event/ems-c-shift/2026-10-25/
CATEGORIES:C Shift EMS
ATTACH;FMTTYPE=image/png:https://www.your624.org/wp-content/uploads/2023/08/logo-300x300w.png
END:VEVENT
BEGIN:VEVENT
DTSTART;VALUE=DATE:20261025
DTEND;VALUE=DATE:20261026
DTSTAMP:20260420T233010
CREATED:20250812T185325Z
LAST-MODIFIED:20250812T185325Z
UID:10000415-1792886400-1792972799@www.your624.org
SUMMARY:FIRE - A Shift
DESCRIPTION:
URL:https://www.your624.org/event/fire-a-shift/2026-10-25/
CATEGORIES:A Shift
ATTACH;FMTTYPE=image/png:https://www.your624.org/wp-content/uploads/2023/08/logo-300x300w.png
END:VEVENT
BEGIN:VEVENT
DTSTART;VALUE=DATE:20261024
DTEND;VALUE=DATE:20261025
DTSTAMP:20260420T233010
CREATED:20250812T185811Z
LAST-MODIFIED:20250812T185811Z
UID:10003484-1792800000-1792886399@www.your624.org
SUMMARY:FIRE - C Shift
DESCRIPTION:
URL:https://www.your624.org/event/fire-c-shift/2026-10-24/
CATEGORIES:C Shift
ATTACH;FMTTYPE=image/png:https://www.your624.org/wp-content/uploads/2023/08/logo-300x300w.png
END:VEVENT
BEGIN:VEVENT
DTSTART;VALUE=DATE:20261024
DTEND;VALUE=DATE:20261025
DTSTAMP:20260420T233010
CREATED:20250812T185704Z
LAST-MODIFIED:20250812T185704Z
UID:10002723-1792800000-1792886399@www.your624.org
SUMMARY:EMS - B Shift
DESCRIPTION:
URL:https://www.your624.org/event/ems-b-shift/2026-10-24/
CATEGORIES:B Shift EMS
ATTACH;FMTTYPE=image/png:https://www.your624.org/wp-content/uploads/2023/08/logo-300x300w.png
END:VEVENT
BEGIN:VEVENT
DTSTART;VALUE=DATE:20261023
DTEND;VALUE=DATE:20261024
DTSTAMP:20260420T233010
CREATED:20250812T185553Z
LAST-MODIFIED:20250812T185553Z
UID:10001949-1792713600-1792799999@www.your624.org
SUMMARY:FIRE - B Shift
DESCRIPTION:
URL:https://www.your624.org/event/fire-b-shift/2026-10-23/
CATEGORIES:B Shift
ATTACH;FMTTYPE=image/png:https://www.your624.org/wp-content/uploads/2023/08/logo-300x300w.png
END:VEVENT
BEGIN:VEVENT
DTSTART;VALUE=DATE:20261023
DTEND;VALUE=DATE:20261024
DTSTAMP:20260420T233010
CREATED:20250812T185446Z
LAST-MODIFIED:20250812T185446Z
UID:10001188-1792713600-1792799999@www.your624.org
SUMMARY:EMS - A Shift
DESCRIPTION:
URL:https://www.your624.org/event/ems-a-shift/2026-10-23/
CATEGORIES:A Shift EMS
ATTACH;FMTTYPE=image/png:https://www.your624.org/wp-content/uploads/2023/08/logo-300x300w.png
END:VEVENT
BEGIN:VEVENT
DTSTART;VALUE=DATE:20261022
DTEND;VALUE=DATE:20261023
DTSTAMP:20260420T233010
CREATED:20250812T190019Z
LAST-MODIFIED:20250812T190019Z
UID:10004913-1792627200-1792713599@www.your624.org
SUMMARY:EMS - D Shift
DESCRIPTION:
URL:https://www.your624.org/event/ems-d-shift/2026-10-22/
CATEGORIES:D Shift EMS
ATTACH;FMTTYPE=image/png:https://www.your624.org/wp-content/uploads/2023/08/logo-300x300w.png
END:VEVENT
BEGIN:VEVENT
DTSTART;VALUE=DATE:20261022
DTEND;VALUE=DATE:20261023
DTSTAMP:20260420T233010
CREATED:20250812T185325Z
LAST-MODIFIED:20250812T185325Z
UID:10000414-1792627200-1792713599@www.your624.org
SUMMARY:FIRE - A Shift
DESCRIPTION:
URL:https://www.your624.org/event/fire-a-shift/2026-10-22/
CATEGORIES:A Shift
ATTACH;FMTTYPE=image/png:https://www.your624.org/wp-content/uploads/2023/08/logo-300x300w.png
END:VEVENT
BEGIN:VEVENT
DTSTART;VALUE=DATE:20261021
DTEND;VALUE=DATE:20261022
DTSTAMP:20260420T233010
CREATED:20250812T185913Z
LAST-MODIFIED:20250812T185913Z
UID:10004256-1792540800-1792627199@www.your624.org
SUMMARY:EMS - C Shift
DESCRIPTION:
URL:https://www.your624.org/event/ems-c-shift/2026-10-21/
CATEGORIES:C Shift EMS
ATTACH;FMTTYPE=image/png:https://www.your624.org/wp-content/uploads/2023/08/logo-300x300w.png
END:VEVENT
BEGIN:VEVENT
DTSTART;VALUE=DATE:20261021
DTEND;VALUE=DATE:20261022
DTSTAMP:20260420T233010
CREATED:20250812T185811Z
LAST-MODIFIED:20250812T185811Z
UID:10003483-1792540800-1792627199@www.your624.org
SUMMARY:FIRE - C Shift
DESCRIPTION:
URL:https://www.your624.org/event/fire-c-shift/2026-10-21/
CATEGORIES:C Shift
ATTACH;FMTTYPE=image/png:https://www.your624.org/wp-content/uploads/2023/08/logo-300x300w.png
END:VEVENT
BEGIN:VEVENT
DTSTART;VALUE=DATE:20261020
DTEND;VALUE=DATE:20261021
DTSTAMP:20260420T233010
CREATED:20250812T185704Z
LAST-MODIFIED:20250812T185704Z
UID:10002722-1792454400-1792540799@www.your624.org
SUMMARY:EMS - B Shift
DESCRIPTION:
URL:https://www.your624.org/event/ems-b-shift/2026-10-20/
CATEGORIES:B Shift EMS
ATTACH;FMTTYPE=image/png:https://www.your624.org/wp-content/uploads/2023/08/logo-300x300w.png
END:VEVENT
BEGIN:VEVENT
DTSTART;VALUE=DATE:20261020
DTEND;VALUE=DATE:20261021
DTSTAMP:20260420T233010
CREATED:20250812T185553Z
LAST-MODIFIED:20250812T185553Z
UID:10001948-1792454400-1792540799@www.your624.org
SUMMARY:FIRE - B Shift
DESCRIPTION:
URL:https://www.your624.org/event/fire-b-shift/2026-10-20/
CATEGORIES:B Shift
ATTACH;FMTTYPE=image/png:https://www.your624.org/wp-content/uploads/2023/08/logo-300x300w.png
END:VEVENT
BEGIN:VEVENT
DTSTART;TZID=America/New_York:20261019T100000
DTEND;TZID=America/New_York:20261019T140000
DTSTAMP:20260420T233010
CREATED:20250818T145010Z
LAST-MODIFIED:20250818T145010Z
UID:10005335-1792404000-1792418400@www.your624.org
SUMMARY:Tool and Equipment Meeting
DESCRIPTION:
URL:https://www.your624.org/event/tool-and-equipment-meeting/2026-10-19/
CATEGORIES:Union Event
ATTACH;FMTTYPE=image/png:https://www.your624.org/wp-content/uploads/2023/08/logo-300x300w.png
END:VEVENT
BEGIN:VEVENT
DTSTART;VALUE=DATE:20261019
DTEND;VALUE=DATE:20261020
DTSTAMP:20260420T233010
CREATED:20250812T185446Z
LAST-MODIFIED:20250812T185446Z
UID:10001187-1792368000-1792454399@www.your624.org
SUMMARY:EMS - A Shift
DESCRIPTION:
URL:https://www.your624.org/event/ems-a-shift/2026-10-19/
CATEGORIES:A Shift EMS
ATTACH;FMTTYPE=image/png:https://www.your624.org/wp-content/uploads/2023/08/logo-300x300w.png
END:VEVENT
BEGIN:VEVENT
DTSTART;VALUE=DATE:20261019
DTEND;VALUE=DATE:20261020
DTSTAMP:20260420T233010
CREATED:20250812T185325Z
LAST-MODIFIED:20250812T185325Z
UID:10000413-1792368000-1792454399@www.your624.org
SUMMARY:FIRE - A Shift
DESCRIPTION:
URL:https://www.your624.org/event/fire-a-shift/2026-10-19/
CATEGORIES:A Shift
ATTACH;FMTTYPE=image/png:https://www.your624.org/wp-content/uploads/2023/08/logo-300x300w.png
END:VEVENT
BEGIN:VEVENT
DTSTART;VALUE=DATE:20261018
DTEND;VALUE=DATE:20261019
DTSTAMP:20260420T233010
CREATED:20250812T190019Z
LAST-MODIFIED:20250812T190019Z
UID:10004912-1792281600-1792367999@www.your624.org
SUMMARY:EMS - D Shift
DESCRIPTION:
URL:https://www.your624.org/event/ems-d-shift/2026-10-18/
CATEGORIES:D Shift EMS
ATTACH;FMTTYPE=image/png:https://www.your624.org/wp-content/uploads/2023/08/logo-300x300w.png
END:VEVENT
BEGIN:VEVENT
DTSTART;VALUE=DATE:20261018
DTEND;VALUE=DATE:20261019
DTSTAMP:20260420T233010
CREATED:20250812T185811Z
LAST-MODIFIED:20250812T185811Z
UID:10003482-1792281600-1792367999@www.your624.org
SUMMARY:FIRE - C Shift
DESCRIPTION:
URL:https://www.your624.org/event/fire-c-shift/2026-10-18/
CATEGORIES:C Shift
ATTACH;FMTTYPE=image/png:https://www.your624.org/wp-content/uploads/2023/08/logo-300x300w.png
END:VEVENT
BEGIN:VEVENT
DTSTART;VALUE=DATE:20261017
DTEND;VALUE=DATE:20261018
DTSTAMP:20260420T233010
CREATED:20250812T185913Z
LAST-MODIFIED:20250812T185913Z
UID:10004255-1792195200-1792281599@www.your624.org
SUMMARY:EMS - C Shift
DESCRIPTION:
URL:https://www.your624.org/event/ems-c-shift/2026-10-17/
CATEGORIES:C Shift EMS
ATTACH;FMTTYPE=image/png:https://www.your624.org/wp-content/uploads/2023/08/logo-300x300w.png
END:VEVENT
BEGIN:VEVENT
DTSTART;VALUE=DATE:20261017
DTEND;VALUE=DATE:20261018
DTSTAMP:20260420T233010
CREATED:20250812T185553Z
LAST-MODIFIED:20250812T185553Z
UID:10001947-1792195200-1792281599@www.your624.org
SUMMARY:FIRE - B Shift
DESCRIPTION:
URL:https://www.your624.org/event/fire-b-shift/2026-10-17/
CATEGORIES:B Shift
ATTACH;FMTTYPE=image/png:https://www.your624.org/wp-content/uploads/2023/08/logo-300x300w.png
END:VEVENT
BEGIN:VEVENT
DTSTART;VALUE=DATE:20261016
DTEND;VALUE=DATE:20261017
DTSTAMP:20260420T233010
CREATED:20250812T185704Z
LAST-MODIFIED:20250812T185704Z
UID:10002721-1792108800-1792195199@www.your624.org
SUMMARY:EMS - B Shift
DESCRIPTION:
URL:https://www.your624.org/event/ems-b-shift/2026-10-16/
CATEGORIES:B Shift EMS
ATTACH;FMTTYPE=image/png:https://www.your624.org/wp-content/uploads/2023/08/logo-300x300w.png
END:VEVENT
END:VCALENDAR