BEGIN:VCALENDAR
VERSION:2.0
PRODID:-//San Antonio Professional Firefighters Association - ECPv6.15.20//NONSGML v1.0//EN
CALSCALE:GREGORIAN
METHOD:PUBLISH
X-WR-CALNAME:San Antonio Professional Firefighters Association
X-ORIGINAL-URL:https://www.your624.org
X-WR-CALDESC:Events for San Antonio Professional Firefighters Association
REFRESH-INTERVAL;VALUE=DURATION:PT1H
X-Robots-Tag:noindex
X-PUBLISHED-TTL:PT1H
BEGIN:VTIMEZONE
TZID:America/New_York
BEGIN:DAYLIGHT
TZOFFSETFROM:-0500
TZOFFSETTO:-0400
TZNAME:EDT
DTSTART:20250309T070000
END:DAYLIGHT
BEGIN:STANDARD
TZOFFSETFROM:-0400
TZOFFSETTO:-0500
TZNAME:EST
DTSTART:20251102T060000
END:STANDARD
BEGIN:DAYLIGHT
TZOFFSETFROM:-0500
TZOFFSETTO:-0400
TZNAME:EDT
DTSTART:20260308T070000
END:DAYLIGHT
BEGIN:STANDARD
TZOFFSETFROM:-0400
TZOFFSETTO:-0500
TZNAME:EST
DTSTART:20261101T060000
END:STANDARD
BEGIN:DAYLIGHT
TZOFFSETFROM:-0500
TZOFFSETTO:-0400
TZNAME:EDT
DTSTART:20270314T070000
END:DAYLIGHT
BEGIN:STANDARD
TZOFFSETFROM:-0400
TZOFFSETTO:-0500
TZNAME:EST
DTSTART:20271107T060000
END:STANDARD
END:VTIMEZONE
BEGIN:VEVENT
DTSTART;VALUE=DATE:20261216
DTEND;VALUE=DATE:20261217
DTSTAMP:20260420T183423
CREATED:20250812T185553Z
LAST-MODIFIED:20250812T185553Z
UID:10001967-1797379200-1797465599@www.your624.org
SUMMARY:FIRE - B Shift
DESCRIPTION:
URL:https://www.your624.org/event/fire-b-shift/2026-12-16/
CATEGORIES:B Shift
ATTACH;FMTTYPE=image/png:https://www.your624.org/wp-content/uploads/2023/08/logo-300x300w.png
END:VEVENT
BEGIN:VEVENT
DTSTART;VALUE=DATE:20261216
DTEND;VALUE=DATE:20261217
DTSTAMP:20260420T183423
CREATED:20250812T185913Z
LAST-MODIFIED:20250812T185913Z
UID:10004270-1797379200-1797465599@www.your624.org
SUMMARY:EMS - C Shift
DESCRIPTION:
URL:https://www.your624.org/event/ems-c-shift/2026-12-16/
CATEGORIES:C Shift EMS
ATTACH;FMTTYPE=image/png:https://www.your624.org/wp-content/uploads/2023/08/logo-300x300w.png
END:VEVENT
BEGIN:VEVENT
DTSTART;VALUE=DATE:20261217
DTEND;VALUE=DATE:20261218
DTSTAMP:20260420T183423
CREATED:20250812T185811Z
LAST-MODIFIED:20250812T185811Z
UID:10003502-1797465600-1797551999@www.your624.org
SUMMARY:FIRE - C Shift
DESCRIPTION:
URL:https://www.your624.org/event/fire-c-shift/2026-12-17/
CATEGORIES:C Shift
ATTACH;FMTTYPE=image/png:https://www.your624.org/wp-content/uploads/2023/08/logo-300x300w.png
END:VEVENT
BEGIN:VEVENT
DTSTART;VALUE=DATE:20261217
DTEND;VALUE=DATE:20261218
DTSTAMP:20260420T183423
CREATED:20250812T190019Z
LAST-MODIFIED:20250812T190019Z
UID:10004927-1797465600-1797551999@www.your624.org
SUMMARY:EMS - D Shift
DESCRIPTION:
URL:https://www.your624.org/event/ems-d-shift/2026-12-17/
CATEGORIES:D Shift EMS
ATTACH;FMTTYPE=image/png:https://www.your624.org/wp-content/uploads/2023/08/logo-300x300w.png
END:VEVENT
BEGIN:VEVENT
DTSTART;VALUE=DATE:20261218
DTEND;VALUE=DATE:20261219
DTSTAMP:20260420T183423
CREATED:20250812T185325Z
LAST-MODIFIED:20250812T185325Z
UID:10000433-1797552000-1797638399@www.your624.org
SUMMARY:FIRE - A Shift
DESCRIPTION:
URL:https://www.your624.org/event/fire-a-shift/2026-12-18/
CATEGORIES:A Shift
ATTACH;FMTTYPE=image/png:https://www.your624.org/wp-content/uploads/2023/08/logo-300x300w.png
END:VEVENT
BEGIN:VEVENT
DTSTART;VALUE=DATE:20261218
DTEND;VALUE=DATE:20261219
DTSTAMP:20260420T183423
CREATED:20250812T185446Z
LAST-MODIFIED:20250812T185446Z
UID:10001202-1797552000-1797638399@www.your624.org
SUMMARY:EMS - A Shift
DESCRIPTION:
URL:https://www.your624.org/event/ems-a-shift/2026-12-18/
CATEGORIES:A Shift EMS
ATTACH;FMTTYPE=image/png:https://www.your624.org/wp-content/uploads/2023/08/logo-300x300w.png
END:VEVENT
BEGIN:VEVENT
DTSTART;VALUE=DATE:20261219
DTEND;VALUE=DATE:20261220
DTSTAMP:20260420T183423
CREATED:20250812T185553Z
LAST-MODIFIED:20250812T185553Z
UID:10001968-1797638400-1797724799@www.your624.org
SUMMARY:FIRE - B Shift
DESCRIPTION:
URL:https://www.your624.org/event/fire-b-shift/2026-12-19/
CATEGORIES:B Shift
ATTACH;FMTTYPE=image/png:https://www.your624.org/wp-content/uploads/2023/08/logo-300x300w.png
END:VEVENT
BEGIN:VEVENT
DTSTART;VALUE=DATE:20261219
DTEND;VALUE=DATE:20261220
DTSTAMP:20260420T183423
CREATED:20250812T185704Z
LAST-MODIFIED:20250812T185704Z
UID:10002737-1797638400-1797724799@www.your624.org
SUMMARY:EMS - B Shift
DESCRIPTION:
URL:https://www.your624.org/event/ems-b-shift/2026-12-19/
CATEGORIES:B Shift EMS
ATTACH;FMTTYPE=image/png:https://www.your624.org/wp-content/uploads/2023/08/logo-300x300w.png
END:VEVENT
BEGIN:VEVENT
DTSTART;VALUE=DATE:20261220
DTEND;VALUE=DATE:20261221
DTSTAMP:20260420T183423
CREATED:20250812T185811Z
LAST-MODIFIED:20250812T185811Z
UID:10003503-1797724800-1797811199@www.your624.org
SUMMARY:FIRE - C Shift
DESCRIPTION:
URL:https://www.your624.org/event/fire-c-shift/2026-12-20/
CATEGORIES:C Shift
ATTACH;FMTTYPE=image/png:https://www.your624.org/wp-content/uploads/2023/08/logo-300x300w.png
END:VEVENT
BEGIN:VEVENT
DTSTART;VALUE=DATE:20261220
DTEND;VALUE=DATE:20261221
DTSTAMP:20260420T183423
CREATED:20250812T185913Z
LAST-MODIFIED:20250812T185913Z
UID:10004271-1797724800-1797811199@www.your624.org
SUMMARY:EMS - C Shift
DESCRIPTION:
URL:https://www.your624.org/event/ems-c-shift/2026-12-20/
CATEGORIES:C Shift EMS
ATTACH;FMTTYPE=image/png:https://www.your624.org/wp-content/uploads/2023/08/logo-300x300w.png
END:VEVENT
BEGIN:VEVENT
DTSTART;VALUE=DATE:20261221
DTEND;VALUE=DATE:20261222
DTSTAMP:20260420T183423
CREATED:20250812T185325Z
LAST-MODIFIED:20250812T185325Z
UID:10000434-1797811200-1797897599@www.your624.org
SUMMARY:FIRE - A Shift
DESCRIPTION:
URL:https://www.your624.org/event/fire-a-shift/2026-12-21/
CATEGORIES:A Shift
ATTACH;FMTTYPE=image/png:https://www.your624.org/wp-content/uploads/2023/08/logo-300x300w.png
END:VEVENT
BEGIN:VEVENT
DTSTART;VALUE=DATE:20261221
DTEND;VALUE=DATE:20261222
DTSTAMP:20260420T183423
CREATED:20250812T190019Z
LAST-MODIFIED:20250812T190019Z
UID:10004928-1797811200-1797897599@www.your624.org
SUMMARY:EMS - D Shift
DESCRIPTION:
URL:https://www.your624.org/event/ems-d-shift/2026-12-21/
CATEGORIES:D Shift EMS
ATTACH;FMTTYPE=image/png:https://www.your624.org/wp-content/uploads/2023/08/logo-300x300w.png
END:VEVENT
BEGIN:VEVENT
DTSTART;TZID=America/New_York:20261221T100000
DTEND;TZID=America/New_York:20261221T140000
DTSTAMP:20260420T183423
CREATED:20250818T145010Z
LAST-MODIFIED:20250818T145010Z
UID:10005337-1797847200-1797861600@www.your624.org
SUMMARY:Tool and Equipment Meeting
DESCRIPTION:
URL:https://www.your624.org/event/tool-and-equipment-meeting/2026-12-21/
CATEGORIES:Union Event
ATTACH;FMTTYPE=image/png:https://www.your624.org/wp-content/uploads/2023/08/logo-300x300w.png
END:VEVENT
BEGIN:VEVENT
DTSTART;VALUE=DATE:20261222
DTEND;VALUE=DATE:20261223
DTSTAMP:20260420T183423
CREATED:20250812T185446Z
LAST-MODIFIED:20250812T185446Z
UID:10001203-1797897600-1797983999@www.your624.org
SUMMARY:EMS - A Shift
DESCRIPTION:
URL:https://www.your624.org/event/ems-a-shift/2026-12-22/
CATEGORIES:A Shift EMS
ATTACH;FMTTYPE=image/png:https://www.your624.org/wp-content/uploads/2023/08/logo-300x300w.png
END:VEVENT
BEGIN:VEVENT
DTSTART;VALUE=DATE:20261222
DTEND;VALUE=DATE:20261223
DTSTAMP:20260420T183423
CREATED:20250812T185553Z
LAST-MODIFIED:20250812T185553Z
UID:10001969-1797897600-1797983999@www.your624.org
SUMMARY:FIRE - B Shift
DESCRIPTION:
URL:https://www.your624.org/event/fire-b-shift/2026-12-22/
CATEGORIES:B Shift
ATTACH;FMTTYPE=image/png:https://www.your624.org/wp-content/uploads/2023/08/logo-300x300w.png
END:VEVENT
BEGIN:VEVENT
DTSTART;VALUE=DATE:20261223
DTEND;VALUE=DATE:20261224
DTSTAMP:20260420T183423
CREATED:20250812T185704Z
LAST-MODIFIED:20250812T185704Z
UID:10002738-1797984000-1798070399@www.your624.org
SUMMARY:EMS - B Shift
DESCRIPTION:
URL:https://www.your624.org/event/ems-b-shift/2026-12-23/
CATEGORIES:B Shift EMS
ATTACH;FMTTYPE=image/png:https://www.your624.org/wp-content/uploads/2023/08/logo-300x300w.png
END:VEVENT
BEGIN:VEVENT
DTSTART;VALUE=DATE:20261223
DTEND;VALUE=DATE:20261224
DTSTAMP:20260420T183423
CREATED:20250812T185811Z
LAST-MODIFIED:20250812T185811Z
UID:10003504-1797984000-1798070399@www.your624.org
SUMMARY:FIRE - C Shift
DESCRIPTION:
URL:https://www.your624.org/event/fire-c-shift/2026-12-23/
CATEGORIES:C Shift
ATTACH;FMTTYPE=image/png:https://www.your624.org/wp-content/uploads/2023/08/logo-300x300w.png
END:VEVENT
BEGIN:VEVENT
DTSTART;VALUE=DATE:20261224
DTEND;VALUE=DATE:20261225
DTSTAMP:20260420T183423
CREATED:20250812T185325Z
LAST-MODIFIED:20250812T185325Z
UID:10000435-1798070400-1798156799@www.your624.org
SUMMARY:FIRE - A Shift
DESCRIPTION:
URL:https://www.your624.org/event/fire-a-shift/2026-12-24/
CATEGORIES:A Shift
ATTACH;FMTTYPE=image/png:https://www.your624.org/wp-content/uploads/2023/08/logo-300x300w.png
END:VEVENT
BEGIN:VEVENT
DTSTART;VALUE=DATE:20261224
DTEND;VALUE=DATE:20261225
DTSTAMP:20260420T183423
CREATED:20250812T185913Z
LAST-MODIFIED:20250812T185913Z
UID:10004272-1798070400-1798156799@www.your624.org
SUMMARY:EMS - C Shift
DESCRIPTION:
URL:https://www.your624.org/event/ems-c-shift/2026-12-24/
CATEGORIES:C Shift EMS
ATTACH;FMTTYPE=image/png:https://www.your624.org/wp-content/uploads/2023/08/logo-300x300w.png
END:VEVENT
BEGIN:VEVENT
DTSTART;VALUE=DATE:20261225
DTEND;VALUE=DATE:20261226
DTSTAMP:20260420T183423
CREATED:20250812T185553Z
LAST-MODIFIED:20250812T185553Z
UID:10001970-1798156800-1798243199@www.your624.org
SUMMARY:FIRE - B Shift
DESCRIPTION:
URL:https://www.your624.org/event/fire-b-shift/2026-12-25/
CATEGORIES:B Shift
ATTACH;FMTTYPE=image/png:https://www.your624.org/wp-content/uploads/2023/08/logo-300x300w.png
END:VEVENT
BEGIN:VEVENT
DTSTART;VALUE=DATE:20261225
DTEND;VALUE=DATE:20261226
DTSTAMP:20260420T183423
CREATED:20250812T190019Z
LAST-MODIFIED:20250812T190019Z
UID:10004929-1798156800-1798243199@www.your624.org
SUMMARY:EMS - D Shift
DESCRIPTION:
URL:https://www.your624.org/event/ems-d-shift/2026-12-25/
CATEGORIES:D Shift EMS
ATTACH;FMTTYPE=image/png:https://www.your624.org/wp-content/uploads/2023/08/logo-300x300w.png
END:VEVENT
BEGIN:VEVENT
DTSTART;VALUE=DATE:20261226
DTEND;VALUE=DATE:20261227
DTSTAMP:20260420T183423
CREATED:20250812T185446Z
LAST-MODIFIED:20250812T185446Z
UID:10001204-1798243200-1798329599@www.your624.org
SUMMARY:EMS - A Shift
DESCRIPTION:
URL:https://www.your624.org/event/ems-a-shift/2026-12-26/
CATEGORIES:A Shift EMS
ATTACH;FMTTYPE=image/png:https://www.your624.org/wp-content/uploads/2023/08/logo-300x300w.png
END:VEVENT
BEGIN:VEVENT
DTSTART;VALUE=DATE:20261226
DTEND;VALUE=DATE:20261227
DTSTAMP:20260420T183423
CREATED:20250812T185811Z
LAST-MODIFIED:20250812T185811Z
UID:10003505-1798243200-1798329599@www.your624.org
SUMMARY:FIRE - C Shift
DESCRIPTION:
URL:https://www.your624.org/event/fire-c-shift/2026-12-26/
CATEGORIES:C Shift
ATTACH;FMTTYPE=image/png:https://www.your624.org/wp-content/uploads/2023/08/logo-300x300w.png
END:VEVENT
BEGIN:VEVENT
DTSTART;VALUE=DATE:20261227
DTEND;VALUE=DATE:20261228
DTSTAMP:20260420T183423
CREATED:20250812T185325Z
LAST-MODIFIED:20250812T185325Z
UID:10000436-1798329600-1798415999@www.your624.org
SUMMARY:FIRE - A Shift
DESCRIPTION:
URL:https://www.your624.org/event/fire-a-shift/2026-12-27/
CATEGORIES:A Shift
ATTACH;FMTTYPE=image/png:https://www.your624.org/wp-content/uploads/2023/08/logo-300x300w.png
END:VEVENT
BEGIN:VEVENT
DTSTART;VALUE=DATE:20261227
DTEND;VALUE=DATE:20261228
DTSTAMP:20260420T183423
CREATED:20250812T185704Z
LAST-MODIFIED:20250812T185704Z
UID:10002739-1798329600-1798415999@www.your624.org
SUMMARY:EMS - B Shift
DESCRIPTION:
URL:https://www.your624.org/event/ems-b-shift/2026-12-27/
CATEGORIES:B Shift EMS
ATTACH;FMTTYPE=image/png:https://www.your624.org/wp-content/uploads/2023/08/logo-300x300w.png
END:VEVENT
BEGIN:VEVENT
DTSTART;VALUE=DATE:20261228
DTEND;VALUE=DATE:20261229
DTSTAMP:20260420T183423
CREATED:20250812T185553Z
LAST-MODIFIED:20250812T185553Z
UID:10001971-1798416000-1798502399@www.your624.org
SUMMARY:FIRE - B Shift
DESCRIPTION:
URL:https://www.your624.org/event/fire-b-shift/2026-12-28/
CATEGORIES:B Shift
ATTACH;FMTTYPE=image/png:https://www.your624.org/wp-content/uploads/2023/08/logo-300x300w.png
END:VEVENT
BEGIN:VEVENT
DTSTART;VALUE=DATE:20261228
DTEND;VALUE=DATE:20261229
DTSTAMP:20260420T183423
CREATED:20250812T185913Z
LAST-MODIFIED:20250812T185913Z
UID:10004273-1798416000-1798502399@www.your624.org
SUMMARY:EMS - C Shift
DESCRIPTION:
URL:https://www.your624.org/event/ems-c-shift/2026-12-28/
CATEGORIES:C Shift EMS
ATTACH;FMTTYPE=image/png:https://www.your624.org/wp-content/uploads/2023/08/logo-300x300w.png
END:VEVENT
BEGIN:VEVENT
DTSTART;VALUE=DATE:20261229
DTEND;VALUE=DATE:20261230
DTSTAMP:20260420T183423
CREATED:20250812T185811Z
LAST-MODIFIED:20250812T185811Z
UID:10003506-1798502400-1798588799@www.your624.org
SUMMARY:FIRE - C Shift
DESCRIPTION:
URL:https://www.your624.org/event/fire-c-shift/2026-12-29/
CATEGORIES:C Shift
ATTACH;FMTTYPE=image/png:https://www.your624.org/wp-content/uploads/2023/08/logo-300x300w.png
END:VEVENT
BEGIN:VEVENT
DTSTART;VALUE=DATE:20261229
DTEND;VALUE=DATE:20261230
DTSTAMP:20260420T183423
CREATED:20250812T190019Z
LAST-MODIFIED:20250812T190019Z
UID:10004930-1798502400-1798588799@www.your624.org
SUMMARY:EMS - D Shift
DESCRIPTION:
URL:https://www.your624.org/event/ems-d-shift/2026-12-29/
CATEGORIES:D Shift EMS
ATTACH;FMTTYPE=image/png:https://www.your624.org/wp-content/uploads/2023/08/logo-300x300w.png
END:VEVENT
BEGIN:VEVENT
DTSTART;VALUE=DATE:20261230
DTEND;VALUE=DATE:20261231
DTSTAMP:20260420T183423
CREATED:20250812T185325Z
LAST-MODIFIED:20250812T185325Z
UID:10000437-1798588800-1798675199@www.your624.org
SUMMARY:FIRE - A Shift
DESCRIPTION:
URL:https://www.your624.org/event/fire-a-shift/2026-12-30/
CATEGORIES:A Shift
ATTACH;FMTTYPE=image/png:https://www.your624.org/wp-content/uploads/2023/08/logo-300x300w.png
END:VEVENT
END:VCALENDAR