BEGIN:VCALENDAR
VERSION:2.0
PRODID:-//San Antonio Professional Firefighters Association - ECPv6.15.20//NONSGML v1.0//EN
CALSCALE:GREGORIAN
METHOD:PUBLISH
X-ORIGINAL-URL:https://www.your624.org
X-WR-CALDESC:Events for San Antonio Professional Firefighters Association
REFRESH-INTERVAL;VALUE=DURATION:PT1H
X-Robots-Tag:noindex
X-PUBLISHED-TTL:PT1H
BEGIN:VTIMEZONE
TZID:America/New_York
BEGIN:DAYLIGHT
TZOFFSETFROM:-0500
TZOFFSETTO:-0400
TZNAME:EDT
DTSTART:20250309T070000
END:DAYLIGHT
BEGIN:STANDARD
TZOFFSETFROM:-0400
TZOFFSETTO:-0500
TZNAME:EST
DTSTART:20251102T060000
END:STANDARD
BEGIN:DAYLIGHT
TZOFFSETFROM:-0500
TZOFFSETTO:-0400
TZNAME:EDT
DTSTART:20260308T070000
END:DAYLIGHT
BEGIN:STANDARD
TZOFFSETFROM:-0400
TZOFFSETTO:-0500
TZNAME:EST
DTSTART:20261101T060000
END:STANDARD
BEGIN:DAYLIGHT
TZOFFSETFROM:-0500
TZOFFSETTO:-0400
TZNAME:EDT
DTSTART:20270314T070000
END:DAYLIGHT
BEGIN:STANDARD
TZOFFSETFROM:-0400
TZOFFSETTO:-0500
TZNAME:EST
DTSTART:20271107T060000
END:STANDARD
END:VTIMEZONE
BEGIN:VEVENT
DTSTART;VALUE=DATE:20261206
DTEND;VALUE=DATE:20261207
DTSTAMP:20260421T003656
CREATED:20250812T185325Z
LAST-MODIFIED:20250812T185325Z
UID:10000429-1796515200-1796601599@www.your624.org
SUMMARY:FIRE - A Shift
DESCRIPTION:
URL:https://www.your624.org/event/fire-a-shift/2026-12-06/
CATEGORIES:A Shift
ATTACH;FMTTYPE=image/png:https://www.your624.org/wp-content/uploads/2023/08/logo-300x300w.png
END:VEVENT
BEGIN:VEVENT
DTSTART;VALUE=DATE:20261206
DTEND;VALUE=DATE:20261207
DTSTAMP:20260421T003656
CREATED:20250812T185446Z
LAST-MODIFIED:20250812T185446Z
UID:10001199-1796515200-1796601599@www.your624.org
SUMMARY:EMS - A Shift
DESCRIPTION:
URL:https://www.your624.org/event/ems-a-shift/2026-12-06/
CATEGORIES:A Shift EMS
ATTACH;FMTTYPE=image/png:https://www.your624.org/wp-content/uploads/2023/08/logo-300x300w.png
END:VEVENT
BEGIN:VEVENT
DTSTART;VALUE=DATE:20261207
DTEND;VALUE=DATE:20261208
DTSTAMP:20260421T003656
CREATED:20250812T185553Z
LAST-MODIFIED:20250812T185553Z
UID:10001964-1796601600-1796687999@www.your624.org
SUMMARY:FIRE - B Shift
DESCRIPTION:
URL:https://www.your624.org/event/fire-b-shift/2026-12-07/
CATEGORIES:B Shift
ATTACH;FMTTYPE=image/png:https://www.your624.org/wp-content/uploads/2023/08/logo-300x300w.png
END:VEVENT
BEGIN:VEVENT
DTSTART;VALUE=DATE:20261207
DTEND;VALUE=DATE:20261208
DTSTAMP:20260421T003656
CREATED:20250812T185704Z
LAST-MODIFIED:20250812T185704Z
UID:10002734-1796601600-1796687999@www.your624.org
SUMMARY:EMS - B Shift
DESCRIPTION:
URL:https://www.your624.org/event/ems-b-shift/2026-12-07/
CATEGORIES:B Shift EMS
ATTACH;FMTTYPE=image/png:https://www.your624.org/wp-content/uploads/2023/08/logo-300x300w.png
END:VEVENT
BEGIN:VEVENT
DTSTART;VALUE=DATE:20261208
DTEND;VALUE=DATE:20261209
DTSTAMP:20260421T003656
CREATED:20250812T185811Z
LAST-MODIFIED:20250812T185811Z
UID:10003499-1796688000-1796774399@www.your624.org
SUMMARY:FIRE - C Shift
DESCRIPTION:
URL:https://www.your624.org/event/fire-c-shift/2026-12-08/
CATEGORIES:C Shift
ATTACH;FMTTYPE=image/png:https://www.your624.org/wp-content/uploads/2023/08/logo-300x300w.png
END:VEVENT
BEGIN:VEVENT
DTSTART;VALUE=DATE:20261208
DTEND;VALUE=DATE:20261209
DTSTAMP:20260421T003656
CREATED:20250812T185913Z
LAST-MODIFIED:20250812T185913Z
UID:10004268-1796688000-1796774399@www.your624.org
SUMMARY:EMS - C Shift
DESCRIPTION:
URL:https://www.your624.org/event/ems-c-shift/2026-12-08/
CATEGORIES:C Shift EMS
ATTACH;FMTTYPE=image/png:https://www.your624.org/wp-content/uploads/2023/08/logo-300x300w.png
END:VEVENT
BEGIN:VEVENT
DTSTART;TZID=America/New_York:20261208T100000
DTEND;TZID=America/New_York:20261208T140000
DTSTAMP:20260421T003656
CREATED:20250818T144901Z
LAST-MODIFIED:20250818T144901Z
UID:10005276-1796724000-1796738400@www.your624.org
SUMMARY:Union Meeting
DESCRIPTION:
URL:https://www.your624.org/event/union-meeting/2026-12-08/
LOCATION:SAPFFA Union Hall\, 8925 IH 10 W\, San Antonio\, TX\, 78230\, United States
CATEGORIES:Union Event
ATTACH;FMTTYPE=image/png:https://www.your624.org/wp-content/uploads/2023/08/logo-300x300w.png
END:VEVENT
BEGIN:VEVENT
DTSTART;VALUE=DATE:20261209
DTEND;VALUE=DATE:20261210
DTSTAMP:20260421T003656
CREATED:20250812T185325Z
LAST-MODIFIED:20250812T185325Z
UID:10000430-1796774400-1796860799@www.your624.org
SUMMARY:FIRE - A Shift
DESCRIPTION:
URL:https://www.your624.org/event/fire-a-shift/2026-12-09/
CATEGORIES:A Shift
ATTACH;FMTTYPE=image/png:https://www.your624.org/wp-content/uploads/2023/08/logo-300x300w.png
END:VEVENT
BEGIN:VEVENT
DTSTART;VALUE=DATE:20261209
DTEND;VALUE=DATE:20261210
DTSTAMP:20260421T003656
CREATED:20250812T190019Z
LAST-MODIFIED:20250812T190019Z
UID:10004925-1796774400-1796860799@www.your624.org
SUMMARY:EMS - D Shift
DESCRIPTION:
URL:https://www.your624.org/event/ems-d-shift/2026-12-09/
CATEGORIES:D Shift EMS
ATTACH;FMTTYPE=image/png:https://www.your624.org/wp-content/uploads/2023/08/logo-300x300w.png
END:VEVENT
BEGIN:VEVENT
DTSTART;VALUE=DATE:20261210
DTEND;VALUE=DATE:20261211
DTSTAMP:20260421T003656
CREATED:20250812T185446Z
LAST-MODIFIED:20250812T185446Z
UID:10001200-1796860800-1796947199@www.your624.org
SUMMARY:EMS - A Shift
DESCRIPTION:
URL:https://www.your624.org/event/ems-a-shift/2026-12-10/
CATEGORIES:A Shift EMS
ATTACH;FMTTYPE=image/png:https://www.your624.org/wp-content/uploads/2023/08/logo-300x300w.png
END:VEVENT
BEGIN:VEVENT
DTSTART;VALUE=DATE:20261210
DTEND;VALUE=DATE:20261211
DTSTAMP:20260421T003656
CREATED:20250812T185553Z
LAST-MODIFIED:20250812T185553Z
UID:10001965-1796860800-1796947199@www.your624.org
SUMMARY:FIRE - B Shift
DESCRIPTION:
URL:https://www.your624.org/event/fire-b-shift/2026-12-10/
CATEGORIES:B Shift
ATTACH;FMTTYPE=image/png:https://www.your624.org/wp-content/uploads/2023/08/logo-300x300w.png
END:VEVENT
BEGIN:VEVENT
DTSTART;VALUE=DATE:20261211
DTEND;VALUE=DATE:20261212
DTSTAMP:20260421T003656
CREATED:20250812T185704Z
LAST-MODIFIED:20250812T185704Z
UID:10002735-1796947200-1797033599@www.your624.org
SUMMARY:EMS - B Shift
DESCRIPTION:
URL:https://www.your624.org/event/ems-b-shift/2026-12-11/
CATEGORIES:B Shift EMS
ATTACH;FMTTYPE=image/png:https://www.your624.org/wp-content/uploads/2023/08/logo-300x300w.png
END:VEVENT
BEGIN:VEVENT
DTSTART;VALUE=DATE:20261211
DTEND;VALUE=DATE:20261212
DTSTAMP:20260421T003656
CREATED:20250812T185811Z
LAST-MODIFIED:20250812T185811Z
UID:10003500-1796947200-1797033599@www.your624.org
SUMMARY:FIRE - C Shift
DESCRIPTION:
URL:https://www.your624.org/event/fire-c-shift/2026-12-11/
CATEGORIES:C Shift
ATTACH;FMTTYPE=image/png:https://www.your624.org/wp-content/uploads/2023/08/logo-300x300w.png
END:VEVENT
BEGIN:VEVENT
DTSTART;VALUE=DATE:20261212
DTEND;VALUE=DATE:20261213
DTSTAMP:20260421T003656
CREATED:20250812T185325Z
LAST-MODIFIED:20250812T185325Z
UID:10000431-1797033600-1797119999@www.your624.org
SUMMARY:FIRE - A Shift
DESCRIPTION:
URL:https://www.your624.org/event/fire-a-shift/2026-12-12/
CATEGORIES:A Shift
ATTACH;FMTTYPE=image/png:https://www.your624.org/wp-content/uploads/2023/08/logo-300x300w.png
END:VEVENT
BEGIN:VEVENT
DTSTART;VALUE=DATE:20261212
DTEND;VALUE=DATE:20261213
DTSTAMP:20260421T003656
CREATED:20250812T185913Z
LAST-MODIFIED:20250812T185913Z
UID:10004269-1797033600-1797119999@www.your624.org
SUMMARY:EMS - C Shift
DESCRIPTION:
URL:https://www.your624.org/event/ems-c-shift/2026-12-12/
CATEGORIES:C Shift EMS
ATTACH;FMTTYPE=image/png:https://www.your624.org/wp-content/uploads/2023/08/logo-300x300w.png
END:VEVENT
BEGIN:VEVENT
DTSTART;VALUE=DATE:20261213
DTEND;VALUE=DATE:20261214
DTSTAMP:20260421T003656
CREATED:20250812T185553Z
LAST-MODIFIED:20250812T185553Z
UID:10001966-1797120000-1797206399@www.your624.org
SUMMARY:FIRE - B Shift
DESCRIPTION:
URL:https://www.your624.org/event/fire-b-shift/2026-12-13/
CATEGORIES:B Shift
ATTACH;FMTTYPE=image/png:https://www.your624.org/wp-content/uploads/2023/08/logo-300x300w.png
END:VEVENT
BEGIN:VEVENT
DTSTART;VALUE=DATE:20261213
DTEND;VALUE=DATE:20261214
DTSTAMP:20260421T003656
CREATED:20250812T190019Z
LAST-MODIFIED:20250812T190019Z
UID:10004926-1797120000-1797206399@www.your624.org
SUMMARY:EMS - D Shift
DESCRIPTION:
URL:https://www.your624.org/event/ems-d-shift/2026-12-13/
CATEGORIES:D Shift EMS
ATTACH;FMTTYPE=image/png:https://www.your624.org/wp-content/uploads/2023/08/logo-300x300w.png
END:VEVENT
BEGIN:VEVENT
DTSTART;VALUE=DATE:20261214
DTEND;VALUE=DATE:20261215
DTSTAMP:20260421T003656
CREATED:20250812T185446Z
LAST-MODIFIED:20250812T185446Z
UID:10001201-1797206400-1797292799@www.your624.org
SUMMARY:EMS - A Shift
DESCRIPTION:
URL:https://www.your624.org/event/ems-a-shift/2026-12-14/
CATEGORIES:A Shift EMS
ATTACH;FMTTYPE=image/png:https://www.your624.org/wp-content/uploads/2023/08/logo-300x300w.png
END:VEVENT
BEGIN:VEVENT
DTSTART;VALUE=DATE:20261214
DTEND;VALUE=DATE:20261215
DTSTAMP:20260421T003656
CREATED:20250812T185811Z
LAST-MODIFIED:20250812T185811Z
UID:10003501-1797206400-1797292799@www.your624.org
SUMMARY:FIRE - C Shift
DESCRIPTION:
URL:https://www.your624.org/event/fire-c-shift/2026-12-14/
CATEGORIES:C Shift
ATTACH;FMTTYPE=image/png:https://www.your624.org/wp-content/uploads/2023/08/logo-300x300w.png
END:VEVENT
BEGIN:VEVENT
DTSTART;TZID=America/New_York:20261214T100000
DTEND;TZID=America/New_York:20261214T140000
DTSTAMP:20260421T003656
CREATED:20250818T145155Z
LAST-MODIFIED:20250818T145155Z
UID:10005396-1797242400-1797256800@www.your624.org
SUMMARY:PPE Committee Meeting
DESCRIPTION:
URL:https://www.your624.org/event/ppe-committee-meeting/2026-12-14/
CATEGORIES:Union Event
ATTACH;FMTTYPE=image/png:https://www.your624.org/wp-content/uploads/2023/08/logo-300x300w.png
END:VEVENT
BEGIN:VEVENT
DTSTART;VALUE=DATE:20261215
DTEND;VALUE=DATE:20261216
DTSTAMP:20260421T003656
CREATED:20250812T185325Z
LAST-MODIFIED:20250812T185325Z
UID:10000432-1797292800-1797379199@www.your624.org
SUMMARY:FIRE - A Shift
DESCRIPTION:
URL:https://www.your624.org/event/fire-a-shift/2026-12-15/
CATEGORIES:A Shift
ATTACH;FMTTYPE=image/png:https://www.your624.org/wp-content/uploads/2023/08/logo-300x300w.png
END:VEVENT
BEGIN:VEVENT
DTSTART;VALUE=DATE:20261215
DTEND;VALUE=DATE:20261216
DTSTAMP:20260421T003656
CREATED:20250812T185704Z
LAST-MODIFIED:20250812T185704Z
UID:10002736-1797292800-1797379199@www.your624.org
SUMMARY:EMS - B Shift
DESCRIPTION:
URL:https://www.your624.org/event/ems-b-shift/2026-12-15/
CATEGORIES:B Shift EMS
ATTACH;FMTTYPE=image/png:https://www.your624.org/wp-content/uploads/2023/08/logo-300x300w.png
END:VEVENT
BEGIN:VEVENT
DTSTART;VALUE=DATE:20261216
DTEND;VALUE=DATE:20261217
DTSTAMP:20260421T003656
CREATED:20250812T185553Z
LAST-MODIFIED:20250812T185553Z
UID:10001967-1797379200-1797465599@www.your624.org
SUMMARY:FIRE - B Shift
DESCRIPTION:
URL:https://www.your624.org/event/fire-b-shift/2026-12-16/
CATEGORIES:B Shift
ATTACH;FMTTYPE=image/png:https://www.your624.org/wp-content/uploads/2023/08/logo-300x300w.png
END:VEVENT
BEGIN:VEVENT
DTSTART;VALUE=DATE:20261216
DTEND;VALUE=DATE:20261217
DTSTAMP:20260421T003656
CREATED:20250812T185913Z
LAST-MODIFIED:20250812T185913Z
UID:10004270-1797379200-1797465599@www.your624.org
SUMMARY:EMS - C Shift
DESCRIPTION:
URL:https://www.your624.org/event/ems-c-shift/2026-12-16/
CATEGORIES:C Shift EMS
ATTACH;FMTTYPE=image/png:https://www.your624.org/wp-content/uploads/2023/08/logo-300x300w.png
END:VEVENT
BEGIN:VEVENT
DTSTART;VALUE=DATE:20261217
DTEND;VALUE=DATE:20261218
DTSTAMP:20260421T003656
CREATED:20250812T185811Z
LAST-MODIFIED:20250812T185811Z
UID:10003502-1797465600-1797551999@www.your624.org
SUMMARY:FIRE - C Shift
DESCRIPTION:
URL:https://www.your624.org/event/fire-c-shift/2026-12-17/
CATEGORIES:C Shift
ATTACH;FMTTYPE=image/png:https://www.your624.org/wp-content/uploads/2023/08/logo-300x300w.png
END:VEVENT
BEGIN:VEVENT
DTSTART;VALUE=DATE:20261217
DTEND;VALUE=DATE:20261218
DTSTAMP:20260421T003656
CREATED:20250812T190019Z
LAST-MODIFIED:20250812T190019Z
UID:10004927-1797465600-1797551999@www.your624.org
SUMMARY:EMS - D Shift
DESCRIPTION:
URL:https://www.your624.org/event/ems-d-shift/2026-12-17/
CATEGORIES:D Shift EMS
ATTACH;FMTTYPE=image/png:https://www.your624.org/wp-content/uploads/2023/08/logo-300x300w.png
END:VEVENT
BEGIN:VEVENT
DTSTART;VALUE=DATE:20261218
DTEND;VALUE=DATE:20261219
DTSTAMP:20260421T003656
CREATED:20250812T185325Z
LAST-MODIFIED:20250812T185325Z
UID:10000433-1797552000-1797638399@www.your624.org
SUMMARY:FIRE - A Shift
DESCRIPTION:
URL:https://www.your624.org/event/fire-a-shift/2026-12-18/
CATEGORIES:A Shift
ATTACH;FMTTYPE=image/png:https://www.your624.org/wp-content/uploads/2023/08/logo-300x300w.png
END:VEVENT
BEGIN:VEVENT
DTSTART;VALUE=DATE:20261218
DTEND;VALUE=DATE:20261219
DTSTAMP:20260421T003656
CREATED:20250812T185446Z
LAST-MODIFIED:20250812T185446Z
UID:10001202-1797552000-1797638399@www.your624.org
SUMMARY:EMS - A Shift
DESCRIPTION:
URL:https://www.your624.org/event/ems-a-shift/2026-12-18/
CATEGORIES:A Shift EMS
ATTACH;FMTTYPE=image/png:https://www.your624.org/wp-content/uploads/2023/08/logo-300x300w.png
END:VEVENT
BEGIN:VEVENT
DTSTART;VALUE=DATE:20261219
DTEND;VALUE=DATE:20261220
DTSTAMP:20260421T003656
CREATED:20250812T185553Z
LAST-MODIFIED:20250812T185553Z
UID:10001968-1797638400-1797724799@www.your624.org
SUMMARY:FIRE - B Shift
DESCRIPTION:
URL:https://www.your624.org/event/fire-b-shift/2026-12-19/
CATEGORIES:B Shift
ATTACH;FMTTYPE=image/png:https://www.your624.org/wp-content/uploads/2023/08/logo-300x300w.png
END:VEVENT
BEGIN:VEVENT
DTSTART;VALUE=DATE:20261219
DTEND;VALUE=DATE:20261220
DTSTAMP:20260421T003656
CREATED:20250812T185704Z
LAST-MODIFIED:20250812T185704Z
UID:10002737-1797638400-1797724799@www.your624.org
SUMMARY:EMS - B Shift
DESCRIPTION:
URL:https://www.your624.org/event/ems-b-shift/2026-12-19/
CATEGORIES:B Shift EMS
ATTACH;FMTTYPE=image/png:https://www.your624.org/wp-content/uploads/2023/08/logo-300x300w.png
END:VEVENT
END:VCALENDAR